BEGIN:VCALENDAR
VERSION:2.0
PRODID:-//VFW Post 985 - ECPv6.15.17.1//NONSGML v1.0//EN
CALSCALE:GREGORIAN
METHOD:PUBLISH
X-ORIGINAL-URL:https://vfwpost985.com
X-WR-CALDESC:Events for VFW Post 985
REFRESH-INTERVAL;VALUE=DURATION:PT1H
X-Robots-Tag:noindex
X-PUBLISHED-TTL:PT1H
BEGIN:VTIMEZONE
TZID:America/New_York
BEGIN:DAYLIGHT
TZOFFSETFROM:-0500
TZOFFSETTO:-0400
TZNAME:EDT
DTSTART:20220313T070000
END:DAYLIGHT
BEGIN:STANDARD
TZOFFSETFROM:-0400
TZOFFSETTO:-0500
TZNAME:EST
DTSTART:20221106T060000
END:STANDARD
BEGIN:DAYLIGHT
TZOFFSETFROM:-0500
TZOFFSETTO:-0400
TZNAME:EDT
DTSTART:20230312T070000
END:DAYLIGHT
BEGIN:STANDARD
TZOFFSETFROM:-0400
TZOFFSETTO:-0500
TZNAME:EST
DTSTART:20231105T060000
END:STANDARD
BEGIN:DAYLIGHT
TZOFFSETFROM:-0500
TZOFFSETTO:-0400
TZNAME:EDT
DTSTART:20240310T070000
END:DAYLIGHT
BEGIN:STANDARD
TZOFFSETFROM:-0400
TZOFFSETTO:-0500
TZNAME:EST
DTSTART:20241103T060000
END:STANDARD
END:VTIMEZONE
BEGIN:VEVENT
DTSTART;VALUE=DATE:20231014
DTEND;VALUE=DATE:20231015
DTSTAMP:20260423T125036
CREATED:20230914T201129Z
LAST-MODIFIED:20230914T201129Z
UID:10000026-1697241600-1697327999@vfwpost985.com
SUMMARY:Fundraiser for Veteran
DESCRIPTION:Notes to come
URL:https://vfwpost985.com/event/fundraiser-for-veteran/
LOCATION:Goshen VFW Post 985\, 1201 W. Pike Street\, Goshen\, IN\, 46526\, United States
CATEGORIES:Fundraisers
ATTACH;FMTTYPE=image/jpeg:https://vfwpost985.com/wp-content/uploads/2020/11/american-flags-2756185_1920.jpg
END:VEVENT
BEGIN:VEVENT
DTSTART;TZID=America/New_York:20230909T170000
DTEND;TZID=America/New_York:20230909T220000
DTSTAMP:20260423T125036
CREATED:20230428T124903Z
LAST-MODIFIED:20230718T202309Z
UID:10000015-1694278800-1694296800@vfwpost985.com
SUMMARY:4 Vets By Vets
DESCRIPTION:A music and dinner event to raise money for local veterans to be able to use the VFW as their new home! Investing into our younger veterans so they have a place to bring their family to and have great nights out!
URL:https://vfwpost985.com/event/4-vets-by-vets/
LOCATION:Goshen VFW Post 985\, 1201 W. Pike Street\, Goshen\, IN\, 46526\, United States
CATEGORIES:Fundraisers
ATTACH;FMTTYPE=image/jpeg:https://vfwpost985.com/wp-content/uploads/2023/04/4vetsbyvets-cover2.jpg
ORGANIZER;CN="Caleb Denney":MAILTO:cdenney@lci1.com
END:VEVENT
BEGIN:VEVENT
DTSTART;TZID=America/New_York:20230827T083000
DTEND;TZID=America/New_York:20230827T120000
DTSTAMP:20260423T125036
CREATED:20230721T184229Z
LAST-MODIFIED:20230721T191037Z
UID:10000023-1693125000-1693137600@vfwpost985.com
SUMMARY:VFW Auxiliary Rex Vander Ryden Golf Outing
DESCRIPTION:The yearly golf outing for our Auxiliary funding! \nShotgun start at 08:30 am! \nContact Jerry\, Jeff\, Caleb\, or Jan at the VFW to volunteer\, become a golfer\, and/or volunteer!
URL:https://vfwpost985.com/event/vfw-auxiliary-rex-vander-ryden-golf-outing/
LOCATION:Raber Golf Course\, 1417 W Vistula St\, Bristol\, IN\, 46507\, United States
CATEGORIES:Fundraisers
ATTACH;FMTTYPE=image/jpeg:https://vfwpost985.com/wp-content/uploads/2023/07/golf-3291685_1920.jpg
ORGANIZER;CN="Angie McKee":MAILTO:angiemckee1@comcast.net
END:VEVENT
BEGIN:VEVENT
DTSTART;TZID=America/New_York:20230805T163000
DTEND;TZID=America/New_York:20230805T233000
DTSTAMP:20260423T125036
CREATED:20230721T190628Z
LAST-MODIFIED:20230721T191208Z
UID:10000024-1691253000-1691278200@vfwpost985.com
SUMMARY:50’s Dance & Party
DESCRIPTION:
URL:https://vfwpost985.com/event/50s-dance-party/
LOCATION:Goshen VFW Post 985\, 1201 W. Pike Street\, Goshen\, IN\, 46526\, United States
CATEGORIES:Fundraisers
ATTACH;FMTTYPE=image/jpeg:https://vfwpost985.com/wp-content/uploads/2023/07/50sparty.jpg
END:VEVENT
BEGIN:VEVENT
DTSTART;TZID=America/New_York:20230520T170000
DTEND;TZID=America/New_York:20230520T220000
DTSTAMP:20260423T125036
CREATED:20230427T130333Z
LAST-MODIFIED:20230427T130333Z
UID:10000014-1684602000-1684620000@vfwpost985.com
SUMMARY:FreedomSystem.org's Remember Event
DESCRIPTION:What is Remember?\nRemember: A Supper Supporting Local Veterans is our annual supper that FSO will host to raise awareness for Veteran programs in our area. This year will focus on raising money for FreedomSystem.org to be able to have a brick-and-mortar facility to house all of our activities. \nWhen is Remember? Where?\nRemember is Saturday\, May 20\, 2023\, with dinner starting at 1700 hours (5 pm). It will be hosted at the Goshen VFW Post 985 (1201 W Pike Street\, Goshen\, IN 46526) \nWhat does FreedomSystem.org need for a brick-and-mortar facility?\nFreedomSystem.org needs a brick-and-mortar facility to house all of its activities\, from the martial arts program to resume and career-building classes\, and a place for nonassociated Veterans to hang out and find camaraderie. \nRemember? Remember What?\nA lot of times\, the mission of the Veterans Administration is overlooked\, making it difficult for returning Veterans. A lot of times\, Veterans feel overlooked\, and what they did is not memorable – we want to remember them\, their sacrifice\, and what they did for our great country! \nWhat is for dinner?\nThis year’s supper is a fine steak and chicken supper with green beans\, potatoes\, and a dinner salad\, with a great brownie dessert to follow! \nWant to become a sponsor? \nEmail Sarah Holmes at sarah@freedomsystem.org. We look forward to talking with you about sponsorships.
URL:https://vfwpost985.com/event/freedomsystem-orgs-remember-event/
LOCATION:Goshen VFW Post 985\, 1201 W. Pike Street\, Goshen\, IN\, 46526\, United States
CATEGORIES:Fundraisers
ATTACH;FMTTYPE=image/jpeg:https://vfwpost985.com/wp-content/uploads/2023/04/cover-photo.jpg
ORGANIZER;CN="Kenny Holmes":MAILTO:kenny@freedomsystem.org
END:VEVENT
BEGIN:VEVENT
DTSTART;TZID=America/New_York:20230502T080000
DTEND;TZID=America/New_York:20230502T170000
DTSTAMP:20260423T125036
CREATED:20230503T003007Z
LAST-MODIFIED:20230503T003007Z
UID:10000019-1683014400-1683046800@vfwpost985.com
SUMMARY:Lippert Comedy Night
DESCRIPTION:The Lippert Players will be hosting an improv comedy show at the Goshen VFW! Come on out to support by ordering dinner or helping us man the kitchen for spectators! #LippertCares #ComedyNight #VFW
URL:https://vfwpost985.com/event/lippert-comedy-night/
LOCATION:IN
CATEGORIES:Fundraisers
ATTACH;FMTTYPE=image/jpeg:https://vfwpost985.com/wp-content/uploads/2023/05/microphone-5340340_960_7201.jpg
ORGANIZER;CN="Caleb Denney":MAILTO:cdenney@lci1.com
END:VEVENT
END:VCALENDAR