BEGIN:VCALENDAR
VERSION:2.0
PRODID:-//VFW Post 985 - ECPv6.15.17.1//NONSGML v1.0//EN
CALSCALE:GREGORIAN
METHOD:PUBLISH
X-WR-CALNAME:VFW Post 985
X-ORIGINAL-URL:https://vfwpost985.com
X-WR-CALDESC:Events for VFW Post 985
REFRESH-INTERVAL;VALUE=DURATION:PT1H
X-Robots-Tag:noindex
X-PUBLISHED-TTL:PT1H
BEGIN:VTIMEZONE
TZID:America/New_York
BEGIN:DAYLIGHT
TZOFFSETFROM:-0500
TZOFFSETTO:-0400
TZNAME:EDT
DTSTART:20240310T070000
END:DAYLIGHT
BEGIN:STANDARD
TZOFFSETFROM:-0400
TZOFFSETTO:-0500
TZNAME:EST
DTSTART:20241103T060000
END:STANDARD
BEGIN:DAYLIGHT
TZOFFSETFROM:-0500
TZOFFSETTO:-0400
TZNAME:EDT
DTSTART:20250309T070000
END:DAYLIGHT
BEGIN:STANDARD
TZOFFSETFROM:-0400
TZOFFSETTO:-0500
TZNAME:EST
DTSTART:20251102T060000
END:STANDARD
BEGIN:DAYLIGHT
TZOFFSETFROM:-0500
TZOFFSETTO:-0400
TZNAME:EDT
DTSTART:20260308T070000
END:DAYLIGHT
BEGIN:STANDARD
TZOFFSETFROM:-0400
TZOFFSETTO:-0500
TZNAME:EST
DTSTART:20261101T060000
END:STANDARD
END:VTIMEZONE
BEGIN:VEVENT
DTSTART;TZID=America/New_York:20250408T170000
DTEND;TZID=America/New_York:20250408T190000
DTSTAMP:20260424T053524
CREATED:20231215T170932Z
LAST-MODIFIED:20231215T174710Z
UID:10000642-1744131600-1744138800@vfwpost985.com
SUMMARY:Tuesday Cheeseburger Special
DESCRIPTION:Looking for the perfect way to jazz up your Tuesday evenings? Look no further than our mouthwatering Cheeseburger Special at VFW Post 985! Sink your teeth into our juicy cheeseburgers served with a medley of fresh toppings and accompanied by your choice of crispy or curly fries (small upcharge).
URL:https://vfwpost985.com/event/tuesday-cheeseburger-special-5/2025-04-08/
LOCATION:Goshen VFW Post 985\, 1201 W. Pike Street\, Goshen\, IN\, 46526\, United States
CATEGORIES:Regular
ATTACH;FMTTYPE=image/jpeg:https://vfwpost985.com/wp-content/uploads/2020/11/burger-1140824_1920.jpg
END:VEVENT
BEGIN:VEVENT
DTSTART;TZID=America/New_York:20250407T170000
DTEND;TZID=America/New_York:20250407T190000
DTSTAMP:20260424T053524
CREATED:20231215T165922Z
LAST-MODIFIED:20231215T174855Z
UID:10000901-1744045200-1744052400@vfwpost985.com
SUMMARY:Chicken Wings Night!
DESCRIPTION:Join us every Monday for a finger-licking good time at VFW Post 985’s Wing Night! Indulge in various succulent wings prepared just the way you like them! Our talented cooks have perfected the art of creating the most mouthwatering wings that will leave you craving more.
URL:https://vfwpost985.com/event/chicken-wings-night-4/2025-04-07/
LOCATION:Goshen VFW Post 985\, 1201 W. Pike Street\, Goshen\, IN\, 46526\, United States
CATEGORIES:Regular
ATTACH;FMTTYPE=image/jpeg:https://vfwpost985.com/wp-content/uploads/2023/11/ChickenWingBasket-scaled.jpeg
END:VEVENT
BEGIN:VEVENT
DTSTART;TZID=America/New_York:20250403T170000
DTEND;TZID=America/New_York:20250403T193000
DTSTAMP:20260424T053524
CREATED:20231215T171651Z
LAST-MODIFIED:20231215T174520Z
UID:10000121-1743699600-1743708600@vfwpost985.com
SUMMARY:Euchre Night
DESCRIPTION:Attention all playing card enthusiasts and VFW members! We’re thrilled to announce the return of our beloved Euchre Night at VFW Post 985\, and it’s better than ever! \nEuchre Night is not just a card game; it’s a tradition that brings our community together for an evening of camaraderie\, laughter\, and friendly competition. Whether you’re a seasoned pro or a newcomer to the game\, we invite you to join us for a fantastic night of Euchre action.
URL:https://vfwpost985.com/event/euchre-night-5/2025-04-03/
LOCATION:Goshen VFW Post 985\, 1201 W. Pike Street\, Goshen\, IN\, 46526\, United States
CATEGORIES:Regular
ATTACH;FMTTYPE=image/jpeg:https://vfwpost985.com/wp-content/uploads/2023/09/euchre-night-1.jpg
END:VEVENT
BEGIN:VEVENT
DTSTART;TZID=America/New_York:20250402T170000
DTEND;TZID=America/New_York:20250402T190000
DTSTAMP:20260424T053524
CREATED:20231215T171222Z
LAST-MODIFIED:20231215T174618Z
UID:10000381-1743613200-1743620400@vfwpost985.com
SUMMARY:Wednesday Nights
DESCRIPTION:Food Served 1700 – 1900 \nTreasure Chest Drawing 1850
URL:https://vfwpost985.com/event/wednesday-nights-5/2025-04-02/
LOCATION:Goshen VFW Post 985\, 1201 W. Pike Street\, Goshen\, IN\, 46526\, United States
CATEGORIES:Regular
ATTACH;FMTTYPE=image/png:https://vfwpost985.com/wp-content/uploads/2020/11/treasure-chest.png
END:VEVENT
BEGIN:VEVENT
DTSTART;TZID=America/New_York:20250401T170000
DTEND;TZID=America/New_York:20250401T190000
DTSTAMP:20260424T053524
CREATED:20231215T170932Z
LAST-MODIFIED:20231215T174710Z
UID:10000641-1743526800-1743534000@vfwpost985.com
SUMMARY:Tuesday Cheeseburger Special
DESCRIPTION:Looking for the perfect way to jazz up your Tuesday evenings? Look no further than our mouthwatering Cheeseburger Special at VFW Post 985! Sink your teeth into our juicy cheeseburgers served with a medley of fresh toppings and accompanied by your choice of crispy or curly fries (small upcharge).
URL:https://vfwpost985.com/event/tuesday-cheeseburger-special-5/2025-04-01/
LOCATION:Goshen VFW Post 985\, 1201 W. Pike Street\, Goshen\, IN\, 46526\, United States
CATEGORIES:Regular
ATTACH;FMTTYPE=image/jpeg:https://vfwpost985.com/wp-content/uploads/2020/11/burger-1140824_1920.jpg
END:VEVENT
BEGIN:VEVENT
DTSTART;TZID=America/New_York:20250331T170000
DTEND;TZID=America/New_York:20250331T190000
DTSTAMP:20260424T053524
CREATED:20231215T165922Z
LAST-MODIFIED:20231215T174855Z
UID:10000900-1743440400-1743447600@vfwpost985.com
SUMMARY:Chicken Wings Night!
DESCRIPTION:Join us every Monday for a finger-licking good time at VFW Post 985’s Wing Night! Indulge in various succulent wings prepared just the way you like them! Our talented cooks have perfected the art of creating the most mouthwatering wings that will leave you craving more.
URL:https://vfwpost985.com/event/chicken-wings-night-4/2025-03-31/
LOCATION:Goshen VFW Post 985\, 1201 W. Pike Street\, Goshen\, IN\, 46526\, United States
CATEGORIES:Regular
ATTACH;FMTTYPE=image/jpeg:https://vfwpost985.com/wp-content/uploads/2023/11/ChickenWingBasket-scaled.jpeg
END:VEVENT
BEGIN:VEVENT
DTSTART;TZID=America/New_York:20250327T170000
DTEND;TZID=America/New_York:20250327T193000
DTSTAMP:20260424T053524
CREATED:20231215T171651Z
LAST-MODIFIED:20231215T174520Z
UID:10000120-1743094800-1743103800@vfwpost985.com
SUMMARY:Euchre Night
DESCRIPTION:Attention all playing card enthusiasts and VFW members! We’re thrilled to announce the return of our beloved Euchre Night at VFW Post 985\, and it’s better than ever! \nEuchre Night is not just a card game; it’s a tradition that brings our community together for an evening of camaraderie\, laughter\, and friendly competition. Whether you’re a seasoned pro or a newcomer to the game\, we invite you to join us for a fantastic night of Euchre action.
URL:https://vfwpost985.com/event/euchre-night-5/2025-03-27/
LOCATION:Goshen VFW Post 985\, 1201 W. Pike Street\, Goshen\, IN\, 46526\, United States
CATEGORIES:Regular
ATTACH;FMTTYPE=image/jpeg:https://vfwpost985.com/wp-content/uploads/2023/09/euchre-night-1.jpg
END:VEVENT
BEGIN:VEVENT
DTSTART;TZID=America/New_York:20250326T170000
DTEND;TZID=America/New_York:20250326T190000
DTSTAMP:20260424T053524
CREATED:20231215T171222Z
LAST-MODIFIED:20231215T174618Z
UID:10000380-1743008400-1743015600@vfwpost985.com
SUMMARY:Wednesday Nights
DESCRIPTION:Food Served 1700 – 1900 \nTreasure Chest Drawing 1850
URL:https://vfwpost985.com/event/wednesday-nights-5/2025-03-26/
LOCATION:Goshen VFW Post 985\, 1201 W. Pike Street\, Goshen\, IN\, 46526\, United States
CATEGORIES:Regular
ATTACH;FMTTYPE=image/png:https://vfwpost985.com/wp-content/uploads/2020/11/treasure-chest.png
END:VEVENT
BEGIN:VEVENT
DTSTART;TZID=America/New_York:20250325T170000
DTEND;TZID=America/New_York:20250325T190000
DTSTAMP:20260424T053524
CREATED:20231215T170932Z
LAST-MODIFIED:20231215T174710Z
UID:10000640-1742922000-1742929200@vfwpost985.com
SUMMARY:Tuesday Cheeseburger Special
DESCRIPTION:Looking for the perfect way to jazz up your Tuesday evenings? Look no further than our mouthwatering Cheeseburger Special at VFW Post 985! Sink your teeth into our juicy cheeseburgers served with a medley of fresh toppings and accompanied by your choice of crispy or curly fries (small upcharge).
URL:https://vfwpost985.com/event/tuesday-cheeseburger-special-5/2025-03-25/
LOCATION:Goshen VFW Post 985\, 1201 W. Pike Street\, Goshen\, IN\, 46526\, United States
CATEGORIES:Regular
ATTACH;FMTTYPE=image/jpeg:https://vfwpost985.com/wp-content/uploads/2020/11/burger-1140824_1920.jpg
END:VEVENT
BEGIN:VEVENT
DTSTART;TZID=America/New_York:20250324T170000
DTEND;TZID=America/New_York:20250324T190000
DTSTAMP:20260424T053524
CREATED:20231215T165922Z
LAST-MODIFIED:20231215T174855Z
UID:10000899-1742835600-1742842800@vfwpost985.com
SUMMARY:Chicken Wings Night!
DESCRIPTION:Join us every Monday for a finger-licking good time at VFW Post 985’s Wing Night! Indulge in various succulent wings prepared just the way you like them! Our talented cooks have perfected the art of creating the most mouthwatering wings that will leave you craving more.
URL:https://vfwpost985.com/event/chicken-wings-night-4/2025-03-24/
LOCATION:Goshen VFW Post 985\, 1201 W. Pike Street\, Goshen\, IN\, 46526\, United States
CATEGORIES:Regular
ATTACH;FMTTYPE=image/jpeg:https://vfwpost985.com/wp-content/uploads/2023/11/ChickenWingBasket-scaled.jpeg
END:VEVENT
BEGIN:VEVENT
DTSTART;TZID=America/New_York:20250320T170000
DTEND;TZID=America/New_York:20250320T193000
DTSTAMP:20260424T053524
CREATED:20231215T171651Z
LAST-MODIFIED:20231215T174520Z
UID:10000119-1742490000-1742499000@vfwpost985.com
SUMMARY:Euchre Night
DESCRIPTION:Attention all playing card enthusiasts and VFW members! We’re thrilled to announce the return of our beloved Euchre Night at VFW Post 985\, and it’s better than ever! \nEuchre Night is not just a card game; it’s a tradition that brings our community together for an evening of camaraderie\, laughter\, and friendly competition. Whether you’re a seasoned pro or a newcomer to the game\, we invite you to join us for a fantastic night of Euchre action.
URL:https://vfwpost985.com/event/euchre-night-5/2025-03-20/
LOCATION:Goshen VFW Post 985\, 1201 W. Pike Street\, Goshen\, IN\, 46526\, United States
CATEGORIES:Regular
ATTACH;FMTTYPE=image/jpeg:https://vfwpost985.com/wp-content/uploads/2023/09/euchre-night-1.jpg
END:VEVENT
BEGIN:VEVENT
DTSTART;TZID=America/New_York:20250319T170000
DTEND;TZID=America/New_York:20250319T190000
DTSTAMP:20260424T053524
CREATED:20231215T171222Z
LAST-MODIFIED:20231215T174618Z
UID:10000379-1742403600-1742410800@vfwpost985.com
SUMMARY:Wednesday Nights
DESCRIPTION:Food Served 1700 – 1900 \nTreasure Chest Drawing 1850
URL:https://vfwpost985.com/event/wednesday-nights-5/2025-03-19/
LOCATION:Goshen VFW Post 985\, 1201 W. Pike Street\, Goshen\, IN\, 46526\, United States
CATEGORIES:Regular
ATTACH;FMTTYPE=image/png:https://vfwpost985.com/wp-content/uploads/2020/11/treasure-chest.png
END:VEVENT
BEGIN:VEVENT
DTSTART;TZID=America/New_York:20250318T170000
DTEND;TZID=America/New_York:20250318T190000
DTSTAMP:20260424T053524
CREATED:20231215T170932Z
LAST-MODIFIED:20231215T174710Z
UID:10000639-1742317200-1742324400@vfwpost985.com
SUMMARY:Tuesday Cheeseburger Special
DESCRIPTION:Looking for the perfect way to jazz up your Tuesday evenings? Look no further than our mouthwatering Cheeseburger Special at VFW Post 985! Sink your teeth into our juicy cheeseburgers served with a medley of fresh toppings and accompanied by your choice of crispy or curly fries (small upcharge).
URL:https://vfwpost985.com/event/tuesday-cheeseburger-special-5/2025-03-18/
LOCATION:Goshen VFW Post 985\, 1201 W. Pike Street\, Goshen\, IN\, 46526\, United States
CATEGORIES:Regular
ATTACH;FMTTYPE=image/jpeg:https://vfwpost985.com/wp-content/uploads/2020/11/burger-1140824_1920.jpg
END:VEVENT
BEGIN:VEVENT
DTSTART;TZID=America/New_York:20250317T170000
DTEND;TZID=America/New_York:20250317T190000
DTSTAMP:20260424T053524
CREATED:20231215T165922Z
LAST-MODIFIED:20231215T174855Z
UID:10000898-1742230800-1742238000@vfwpost985.com
SUMMARY:Chicken Wings Night!
DESCRIPTION:Join us every Monday for a finger-licking good time at VFW Post 985’s Wing Night! Indulge in various succulent wings prepared just the way you like them! Our talented cooks have perfected the art of creating the most mouthwatering wings that will leave you craving more.
URL:https://vfwpost985.com/event/chicken-wings-night-4/2025-03-17/
LOCATION:Goshen VFW Post 985\, 1201 W. Pike Street\, Goshen\, IN\, 46526\, United States
CATEGORIES:Regular
ATTACH;FMTTYPE=image/jpeg:https://vfwpost985.com/wp-content/uploads/2023/11/ChickenWingBasket-scaled.jpeg
END:VEVENT
BEGIN:VEVENT
DTSTART;TZID=America/New_York:20250313T170000
DTEND;TZID=America/New_York:20250313T193000
DTSTAMP:20260424T053524
CREATED:20231215T171651Z
LAST-MODIFIED:20231215T174520Z
UID:10000118-1741885200-1741894200@vfwpost985.com
SUMMARY:Euchre Night
DESCRIPTION:Attention all playing card enthusiasts and VFW members! We’re thrilled to announce the return of our beloved Euchre Night at VFW Post 985\, and it’s better than ever! \nEuchre Night is not just a card game; it’s a tradition that brings our community together for an evening of camaraderie\, laughter\, and friendly competition. Whether you’re a seasoned pro or a newcomer to the game\, we invite you to join us for a fantastic night of Euchre action.
URL:https://vfwpost985.com/event/euchre-night-5/2025-03-13/
LOCATION:Goshen VFW Post 985\, 1201 W. Pike Street\, Goshen\, IN\, 46526\, United States
CATEGORIES:Regular
ATTACH;FMTTYPE=image/jpeg:https://vfwpost985.com/wp-content/uploads/2023/09/euchre-night-1.jpg
END:VEVENT
BEGIN:VEVENT
DTSTART;TZID=America/New_York:20250312T170000
DTEND;TZID=America/New_York:20250312T190000
DTSTAMP:20260424T053524
CREATED:20231215T171222Z
LAST-MODIFIED:20231215T174618Z
UID:10000378-1741798800-1741806000@vfwpost985.com
SUMMARY:Wednesday Nights
DESCRIPTION:Food Served 1700 – 1900 \nTreasure Chest Drawing 1850
URL:https://vfwpost985.com/event/wednesday-nights-5/2025-03-12/
LOCATION:Goshen VFW Post 985\, 1201 W. Pike Street\, Goshen\, IN\, 46526\, United States
CATEGORIES:Regular
ATTACH;FMTTYPE=image/png:https://vfwpost985.com/wp-content/uploads/2020/11/treasure-chest.png
END:VEVENT
BEGIN:VEVENT
DTSTART;TZID=America/New_York:20250311T170000
DTEND;TZID=America/New_York:20250311T190000
DTSTAMP:20260424T053524
CREATED:20231215T170932Z
LAST-MODIFIED:20231215T174710Z
UID:10000638-1741712400-1741719600@vfwpost985.com
SUMMARY:Tuesday Cheeseburger Special
DESCRIPTION:Looking for the perfect way to jazz up your Tuesday evenings? Look no further than our mouthwatering Cheeseburger Special at VFW Post 985! Sink your teeth into our juicy cheeseburgers served with a medley of fresh toppings and accompanied by your choice of crispy or curly fries (small upcharge).
URL:https://vfwpost985.com/event/tuesday-cheeseburger-special-5/2025-03-11/
LOCATION:Goshen VFW Post 985\, 1201 W. Pike Street\, Goshen\, IN\, 46526\, United States
CATEGORIES:Regular
ATTACH;FMTTYPE=image/jpeg:https://vfwpost985.com/wp-content/uploads/2020/11/burger-1140824_1920.jpg
END:VEVENT
BEGIN:VEVENT
DTSTART;TZID=America/New_York:20250310T170000
DTEND;TZID=America/New_York:20250310T190000
DTSTAMP:20260424T053524
CREATED:20231215T165922Z
LAST-MODIFIED:20231215T174855Z
UID:10000897-1741626000-1741633200@vfwpost985.com
SUMMARY:Chicken Wings Night!
DESCRIPTION:Join us every Monday for a finger-licking good time at VFW Post 985’s Wing Night! Indulge in various succulent wings prepared just the way you like them! Our talented cooks have perfected the art of creating the most mouthwatering wings that will leave you craving more.
URL:https://vfwpost985.com/event/chicken-wings-night-4/2025-03-10/
LOCATION:Goshen VFW Post 985\, 1201 W. Pike Street\, Goshen\, IN\, 46526\, United States
CATEGORIES:Regular
ATTACH;FMTTYPE=image/jpeg:https://vfwpost985.com/wp-content/uploads/2023/11/ChickenWingBasket-scaled.jpeg
END:VEVENT
BEGIN:VEVENT
DTSTART;TZID=America/New_York:20250306T170000
DTEND;TZID=America/New_York:20250306T193000
DTSTAMP:20260424T053524
CREATED:20231215T171651Z
LAST-MODIFIED:20231215T174520Z
UID:10000117-1741280400-1741289400@vfwpost985.com
SUMMARY:Euchre Night
DESCRIPTION:Attention all playing card enthusiasts and VFW members! We’re thrilled to announce the return of our beloved Euchre Night at VFW Post 985\, and it’s better than ever! \nEuchre Night is not just a card game; it’s a tradition that brings our community together for an evening of camaraderie\, laughter\, and friendly competition. Whether you’re a seasoned pro or a newcomer to the game\, we invite you to join us for a fantastic night of Euchre action.
URL:https://vfwpost985.com/event/euchre-night-5/2025-03-06/
LOCATION:Goshen VFW Post 985\, 1201 W. Pike Street\, Goshen\, IN\, 46526\, United States
CATEGORIES:Regular
ATTACH;FMTTYPE=image/jpeg:https://vfwpost985.com/wp-content/uploads/2023/09/euchre-night-1.jpg
END:VEVENT
BEGIN:VEVENT
DTSTART;TZID=America/New_York:20250305T170000
DTEND;TZID=America/New_York:20250305T190000
DTSTAMP:20260424T053524
CREATED:20231215T171222Z
LAST-MODIFIED:20231215T174618Z
UID:10000377-1741194000-1741201200@vfwpost985.com
SUMMARY:Wednesday Nights
DESCRIPTION:Food Served 1700 – 1900 \nTreasure Chest Drawing 1850
URL:https://vfwpost985.com/event/wednesday-nights-5/2025-03-05/
LOCATION:Goshen VFW Post 985\, 1201 W. Pike Street\, Goshen\, IN\, 46526\, United States
CATEGORIES:Regular
ATTACH;FMTTYPE=image/png:https://vfwpost985.com/wp-content/uploads/2020/11/treasure-chest.png
END:VEVENT
BEGIN:VEVENT
DTSTART;TZID=America/New_York:20250304T170000
DTEND;TZID=America/New_York:20250304T190000
DTSTAMP:20260424T053524
CREATED:20231215T170932Z
LAST-MODIFIED:20231215T174710Z
UID:10000637-1741107600-1741114800@vfwpost985.com
SUMMARY:Tuesday Cheeseburger Special
DESCRIPTION:Looking for the perfect way to jazz up your Tuesday evenings? Look no further than our mouthwatering Cheeseburger Special at VFW Post 985! Sink your teeth into our juicy cheeseburgers served with a medley of fresh toppings and accompanied by your choice of crispy or curly fries (small upcharge).
URL:https://vfwpost985.com/event/tuesday-cheeseburger-special-5/2025-03-04/
LOCATION:Goshen VFW Post 985\, 1201 W. Pike Street\, Goshen\, IN\, 46526\, United States
CATEGORIES:Regular
ATTACH;FMTTYPE=image/jpeg:https://vfwpost985.com/wp-content/uploads/2020/11/burger-1140824_1920.jpg
END:VEVENT
BEGIN:VEVENT
DTSTART;TZID=America/New_York:20250303T170000
DTEND;TZID=America/New_York:20250303T190000
DTSTAMP:20260424T053524
CREATED:20231215T165922Z
LAST-MODIFIED:20231215T174855Z
UID:10000896-1741021200-1741028400@vfwpost985.com
SUMMARY:Chicken Wings Night!
DESCRIPTION:Join us every Monday for a finger-licking good time at VFW Post 985’s Wing Night! Indulge in various succulent wings prepared just the way you like them! Our talented cooks have perfected the art of creating the most mouthwatering wings that will leave you craving more.
URL:https://vfwpost985.com/event/chicken-wings-night-4/2025-03-03/
LOCATION:Goshen VFW Post 985\, 1201 W. Pike Street\, Goshen\, IN\, 46526\, United States
CATEGORIES:Regular
ATTACH;FMTTYPE=image/jpeg:https://vfwpost985.com/wp-content/uploads/2023/11/ChickenWingBasket-scaled.jpeg
END:VEVENT
BEGIN:VEVENT
DTSTART;TZID=America/New_York:20250227T170000
DTEND;TZID=America/New_York:20250227T193000
DTSTAMP:20260424T053524
CREATED:20231215T171651Z
LAST-MODIFIED:20231215T174520Z
UID:10000116-1740675600-1740684600@vfwpost985.com
SUMMARY:Euchre Night
DESCRIPTION:Attention all playing card enthusiasts and VFW members! We’re thrilled to announce the return of our beloved Euchre Night at VFW Post 985\, and it’s better than ever! \nEuchre Night is not just a card game; it’s a tradition that brings our community together for an evening of camaraderie\, laughter\, and friendly competition. Whether you’re a seasoned pro or a newcomer to the game\, we invite you to join us for a fantastic night of Euchre action.
URL:https://vfwpost985.com/event/euchre-night-5/2025-02-27/
LOCATION:Goshen VFW Post 985\, 1201 W. Pike Street\, Goshen\, IN\, 46526\, United States
CATEGORIES:Regular
ATTACH;FMTTYPE=image/jpeg:https://vfwpost985.com/wp-content/uploads/2023/09/euchre-night-1.jpg
END:VEVENT
BEGIN:VEVENT
DTSTART;TZID=America/New_York:20250226T170000
DTEND;TZID=America/New_York:20250226T190000
DTSTAMP:20260424T053524
CREATED:20231215T171222Z
LAST-MODIFIED:20231215T174618Z
UID:10000376-1740589200-1740596400@vfwpost985.com
SUMMARY:Wednesday Nights
DESCRIPTION:Food Served 1700 – 1900 \nTreasure Chest Drawing 1850
URL:https://vfwpost985.com/event/wednesday-nights-5/2025-02-26/
LOCATION:Goshen VFW Post 985\, 1201 W. Pike Street\, Goshen\, IN\, 46526\, United States
CATEGORIES:Regular
ATTACH;FMTTYPE=image/png:https://vfwpost985.com/wp-content/uploads/2020/11/treasure-chest.png
END:VEVENT
BEGIN:VEVENT
DTSTART;TZID=America/New_York:20250225T170000
DTEND;TZID=America/New_York:20250225T190000
DTSTAMP:20260424T053524
CREATED:20231215T170932Z
LAST-MODIFIED:20231215T174710Z
UID:10000636-1740502800-1740510000@vfwpost985.com
SUMMARY:Tuesday Cheeseburger Special
DESCRIPTION:Looking for the perfect way to jazz up your Tuesday evenings? Look no further than our mouthwatering Cheeseburger Special at VFW Post 985! Sink your teeth into our juicy cheeseburgers served with a medley of fresh toppings and accompanied by your choice of crispy or curly fries (small upcharge).
URL:https://vfwpost985.com/event/tuesday-cheeseburger-special-5/2025-02-25/
LOCATION:Goshen VFW Post 985\, 1201 W. Pike Street\, Goshen\, IN\, 46526\, United States
CATEGORIES:Regular
ATTACH;FMTTYPE=image/jpeg:https://vfwpost985.com/wp-content/uploads/2020/11/burger-1140824_1920.jpg
END:VEVENT
BEGIN:VEVENT
DTSTART;TZID=America/New_York:20250224T170000
DTEND;TZID=America/New_York:20250224T190000
DTSTAMP:20260424T053524
CREATED:20231215T165922Z
LAST-MODIFIED:20231215T174855Z
UID:10000895-1740416400-1740423600@vfwpost985.com
SUMMARY:Chicken Wings Night!
DESCRIPTION:Join us every Monday for a finger-licking good time at VFW Post 985’s Wing Night! Indulge in various succulent wings prepared just the way you like them! Our talented cooks have perfected the art of creating the most mouthwatering wings that will leave you craving more.
URL:https://vfwpost985.com/event/chicken-wings-night-4/2025-02-24/
LOCATION:Goshen VFW Post 985\, 1201 W. Pike Street\, Goshen\, IN\, 46526\, United States
CATEGORIES:Regular
ATTACH;FMTTYPE=image/jpeg:https://vfwpost985.com/wp-content/uploads/2023/11/ChickenWingBasket-scaled.jpeg
END:VEVENT
BEGIN:VEVENT
DTSTART;TZID=America/New_York:20250220T170000
DTEND;TZID=America/New_York:20250220T193000
DTSTAMP:20260424T053524
CREATED:20231215T171651Z
LAST-MODIFIED:20231215T174520Z
UID:10000115-1740070800-1740079800@vfwpost985.com
SUMMARY:Euchre Night
DESCRIPTION:Attention all playing card enthusiasts and VFW members! We’re thrilled to announce the return of our beloved Euchre Night at VFW Post 985\, and it’s better than ever! \nEuchre Night is not just a card game; it’s a tradition that brings our community together for an evening of camaraderie\, laughter\, and friendly competition. Whether you’re a seasoned pro or a newcomer to the game\, we invite you to join us for a fantastic night of Euchre action.
URL:https://vfwpost985.com/event/euchre-night-5/2025-02-20/
LOCATION:Goshen VFW Post 985\, 1201 W. Pike Street\, Goshen\, IN\, 46526\, United States
CATEGORIES:Regular
ATTACH;FMTTYPE=image/jpeg:https://vfwpost985.com/wp-content/uploads/2023/09/euchre-night-1.jpg
END:VEVENT
BEGIN:VEVENT
DTSTART;TZID=America/New_York:20250219T170000
DTEND;TZID=America/New_York:20250219T190000
DTSTAMP:20260424T053524
CREATED:20231215T171222Z
LAST-MODIFIED:20231215T174618Z
UID:10000375-1739984400-1739991600@vfwpost985.com
SUMMARY:Wednesday Nights
DESCRIPTION:Food Served 1700 – 1900 \nTreasure Chest Drawing 1850
URL:https://vfwpost985.com/event/wednesday-nights-5/2025-02-19/
LOCATION:Goshen VFW Post 985\, 1201 W. Pike Street\, Goshen\, IN\, 46526\, United States
CATEGORIES:Regular
ATTACH;FMTTYPE=image/png:https://vfwpost985.com/wp-content/uploads/2020/11/treasure-chest.png
END:VEVENT
BEGIN:VEVENT
DTSTART;TZID=America/New_York:20250218T170000
DTEND;TZID=America/New_York:20250218T190000
DTSTAMP:20260424T053524
CREATED:20231215T170932Z
LAST-MODIFIED:20231215T174710Z
UID:10000635-1739898000-1739905200@vfwpost985.com
SUMMARY:Tuesday Cheeseburger Special
DESCRIPTION:Looking for the perfect way to jazz up your Tuesday evenings? Look no further than our mouthwatering Cheeseburger Special at VFW Post 985! Sink your teeth into our juicy cheeseburgers served with a medley of fresh toppings and accompanied by your choice of crispy or curly fries (small upcharge).
URL:https://vfwpost985.com/event/tuesday-cheeseburger-special-5/2025-02-18/
LOCATION:Goshen VFW Post 985\, 1201 W. Pike Street\, Goshen\, IN\, 46526\, United States
CATEGORIES:Regular
ATTACH;FMTTYPE=image/jpeg:https://vfwpost985.com/wp-content/uploads/2020/11/burger-1140824_1920.jpg
END:VEVENT
BEGIN:VEVENT
DTSTART;TZID=America/New_York:20250217T170000
DTEND;TZID=America/New_York:20250217T190000
DTSTAMP:20260424T053524
CREATED:20231215T165922Z
LAST-MODIFIED:20231215T174855Z
UID:10000894-1739811600-1739818800@vfwpost985.com
SUMMARY:Chicken Wings Night!
DESCRIPTION:Join us every Monday for a finger-licking good time at VFW Post 985’s Wing Night! Indulge in various succulent wings prepared just the way you like them! Our talented cooks have perfected the art of creating the most mouthwatering wings that will leave you craving more.
URL:https://vfwpost985.com/event/chicken-wings-night-4/2025-02-17/
LOCATION:Goshen VFW Post 985\, 1201 W. Pike Street\, Goshen\, IN\, 46526\, United States
CATEGORIES:Regular
ATTACH;FMTTYPE=image/jpeg:https://vfwpost985.com/wp-content/uploads/2023/11/ChickenWingBasket-scaled.jpeg
END:VEVENT
END:VCALENDAR