BEGIN:VCALENDAR
VERSION:2.0
PRODID:-//VFW Post 985 - ECPv6.15.17.1//NONSGML v1.0//EN
CALSCALE:GREGORIAN
METHOD:PUBLISH
X-WR-CALNAME:VFW Post 985
X-ORIGINAL-URL:https://vfwpost985.com
X-WR-CALDESC:Events for VFW Post 985
REFRESH-INTERVAL;VALUE=DURATION:PT1H
X-Robots-Tag:noindex
X-PUBLISHED-TTL:PT1H
BEGIN:VTIMEZONE
TZID:America/New_York
BEGIN:DAYLIGHT
TZOFFSETFROM:-0500
TZOFFSETTO:-0400
TZNAME:EDT
DTSTART:20240310T070000
END:DAYLIGHT
BEGIN:STANDARD
TZOFFSETFROM:-0400
TZOFFSETTO:-0500
TZNAME:EST
DTSTART:20241103T060000
END:STANDARD
BEGIN:DAYLIGHT
TZOFFSETFROM:-0500
TZOFFSETTO:-0400
TZNAME:EDT
DTSTART:20250309T070000
END:DAYLIGHT
BEGIN:STANDARD
TZOFFSETFROM:-0400
TZOFFSETTO:-0500
TZNAME:EST
DTSTART:20251102T060000
END:STANDARD
BEGIN:DAYLIGHT
TZOFFSETFROM:-0500
TZOFFSETTO:-0400
TZNAME:EDT
DTSTART:20260308T070000
END:DAYLIGHT
BEGIN:STANDARD
TZOFFSETFROM:-0400
TZOFFSETTO:-0500
TZNAME:EST
DTSTART:20261101T060000
END:STANDARD
BEGIN:DAYLIGHT
TZOFFSETFROM:-0500
TZOFFSETTO:-0400
TZNAME:EDT
DTSTART:20270314T070000
END:DAYLIGHT
BEGIN:STANDARD
TZOFFSETFROM:-0400
TZOFFSETTO:-0500
TZNAME:EST
DTSTART:20271107T060000
END:STANDARD
END:VTIMEZONE
BEGIN:VEVENT
DTSTART;TZID=America/New_York:20251209T170000
DTEND;TZID=America/New_York:20251209T190000
DTSTAMP:20260423T153116
CREATED:20231215T170932Z
LAST-MODIFIED:20231215T174710Z
UID:10000677-1765299600-1765306800@vfwpost985.com
SUMMARY:Tuesday Cheeseburger Special
DESCRIPTION:Looking for the perfect way to jazz up your Tuesday evenings? Look no further than our mouthwatering Cheeseburger Special at VFW Post 985! Sink your teeth into our juicy cheeseburgers served with a medley of fresh toppings and accompanied by your choice of crispy or curly fries (small upcharge).
URL:https://vfwpost985.com/event/tuesday-cheeseburger-special-5/2025-12-09/
LOCATION:Goshen VFW Post 985\, 1201 W. Pike Street\, Goshen\, IN\, 46526\, United States
CATEGORIES:Regular
ATTACH;FMTTYPE=image/jpeg:https://vfwpost985.com/wp-content/uploads/2020/11/burger-1140824_1920.jpg
END:VEVENT
BEGIN:VEVENT
DTSTART;TZID=America/New_York:20251210T170000
DTEND;TZID=America/New_York:20251210T190000
DTSTAMP:20260423T153116
CREATED:20231215T171222Z
LAST-MODIFIED:20231215T174618Z
UID:10000417-1765386000-1765393200@vfwpost985.com
SUMMARY:Wednesday Nights
DESCRIPTION:Food Served 1700 – 1900 \nTreasure Chest Drawing 1850
URL:https://vfwpost985.com/event/wednesday-nights-5/2025-12-10/
LOCATION:Goshen VFW Post 985\, 1201 W. Pike Street\, Goshen\, IN\, 46526\, United States
CATEGORIES:Regular
ATTACH;FMTTYPE=image/png:https://vfwpost985.com/wp-content/uploads/2020/11/treasure-chest.png
END:VEVENT
BEGIN:VEVENT
DTSTART;TZID=America/New_York:20251211T170000
DTEND;TZID=America/New_York:20251211T193000
DTSTAMP:20260423T153116
CREATED:20231215T171651Z
LAST-MODIFIED:20231215T174520Z
UID:10000157-1765472400-1765481400@vfwpost985.com
SUMMARY:Euchre Night
DESCRIPTION:Attention all playing card enthusiasts and VFW members! We’re thrilled to announce the return of our beloved Euchre Night at VFW Post 985\, and it’s better than ever! \nEuchre Night is not just a card game; it’s a tradition that brings our community together for an evening of camaraderie\, laughter\, and friendly competition. Whether you’re a seasoned pro or a newcomer to the game\, we invite you to join us for a fantastic night of Euchre action.
URL:https://vfwpost985.com/event/euchre-night-5/2025-12-11/
LOCATION:Goshen VFW Post 985\, 1201 W. Pike Street\, Goshen\, IN\, 46526\, United States
CATEGORIES:Regular
ATTACH;FMTTYPE=image/jpeg:https://vfwpost985.com/wp-content/uploads/2023/09/euchre-night-1.jpg
END:VEVENT
BEGIN:VEVENT
DTSTART;TZID=America/New_York:20251215T170000
DTEND;TZID=America/New_York:20251215T190000
DTSTAMP:20260423T153116
CREATED:20231215T165922Z
LAST-MODIFIED:20231215T174855Z
UID:10000937-1765818000-1765825200@vfwpost985.com
SUMMARY:Chicken Wings Night!
DESCRIPTION:Join us every Monday for a finger-licking good time at VFW Post 985’s Wing Night! Indulge in various succulent wings prepared just the way you like them! Our talented cooks have perfected the art of creating the most mouthwatering wings that will leave you craving more.
URL:https://vfwpost985.com/event/chicken-wings-night-4/2025-12-15/
LOCATION:Goshen VFW Post 985\, 1201 W. Pike Street\, Goshen\, IN\, 46526\, United States
CATEGORIES:Regular
ATTACH;FMTTYPE=image/jpeg:https://vfwpost985.com/wp-content/uploads/2023/11/ChickenWingBasket-scaled.jpeg
END:VEVENT
BEGIN:VEVENT
DTSTART;TZID=America/New_York:20251216T170000
DTEND;TZID=America/New_York:20251216T190000
DTSTAMP:20260423T153116
CREATED:20231215T170932Z
LAST-MODIFIED:20231215T174710Z
UID:10000678-1765904400-1765911600@vfwpost985.com
SUMMARY:Tuesday Cheeseburger Special
DESCRIPTION:Looking for the perfect way to jazz up your Tuesday evenings? Look no further than our mouthwatering Cheeseburger Special at VFW Post 985! Sink your teeth into our juicy cheeseburgers served with a medley of fresh toppings and accompanied by your choice of crispy or curly fries (small upcharge).
URL:https://vfwpost985.com/event/tuesday-cheeseburger-special-5/2025-12-16/
LOCATION:Goshen VFW Post 985\, 1201 W. Pike Street\, Goshen\, IN\, 46526\, United States
CATEGORIES:Regular
ATTACH;FMTTYPE=image/jpeg:https://vfwpost985.com/wp-content/uploads/2020/11/burger-1140824_1920.jpg
END:VEVENT
BEGIN:VEVENT
DTSTART;TZID=America/New_York:20251217T170000
DTEND;TZID=America/New_York:20251217T190000
DTSTAMP:20260423T153116
CREATED:20231215T171222Z
LAST-MODIFIED:20231215T174618Z
UID:10000418-1765990800-1765998000@vfwpost985.com
SUMMARY:Wednesday Nights
DESCRIPTION:Food Served 1700 – 1900 \nTreasure Chest Drawing 1850
URL:https://vfwpost985.com/event/wednesday-nights-5/2025-12-17/
LOCATION:Goshen VFW Post 985\, 1201 W. Pike Street\, Goshen\, IN\, 46526\, United States
CATEGORIES:Regular
ATTACH;FMTTYPE=image/png:https://vfwpost985.com/wp-content/uploads/2020/11/treasure-chest.png
END:VEVENT
BEGIN:VEVENT
DTSTART;TZID=America/New_York:20251218T170000
DTEND;TZID=America/New_York:20251218T193000
DTSTAMP:20260423T153116
CREATED:20231215T171651Z
LAST-MODIFIED:20231215T174520Z
UID:10000158-1766077200-1766086200@vfwpost985.com
SUMMARY:Euchre Night
DESCRIPTION:Attention all playing card enthusiasts and VFW members! We’re thrilled to announce the return of our beloved Euchre Night at VFW Post 985\, and it’s better than ever! \nEuchre Night is not just a card game; it’s a tradition that brings our community together for an evening of camaraderie\, laughter\, and friendly competition. Whether you’re a seasoned pro or a newcomer to the game\, we invite you to join us for a fantastic night of Euchre action.
URL:https://vfwpost985.com/event/euchre-night-5/2025-12-18/
LOCATION:Goshen VFW Post 985\, 1201 W. Pike Street\, Goshen\, IN\, 46526\, United States
CATEGORIES:Regular
ATTACH;FMTTYPE=image/jpeg:https://vfwpost985.com/wp-content/uploads/2023/09/euchre-night-1.jpg
END:VEVENT
BEGIN:VEVENT
DTSTART;TZID=America/New_York:20251222T170000
DTEND;TZID=America/New_York:20251222T190000
DTSTAMP:20260423T153116
CREATED:20231215T165922Z
LAST-MODIFIED:20231215T174855Z
UID:10000938-1766422800-1766430000@vfwpost985.com
SUMMARY:Chicken Wings Night!
DESCRIPTION:Join us every Monday for a finger-licking good time at VFW Post 985’s Wing Night! Indulge in various succulent wings prepared just the way you like them! Our talented cooks have perfected the art of creating the most mouthwatering wings that will leave you craving more.
URL:https://vfwpost985.com/event/chicken-wings-night-4/2025-12-22/
LOCATION:Goshen VFW Post 985\, 1201 W. Pike Street\, Goshen\, IN\, 46526\, United States
CATEGORIES:Regular
ATTACH;FMTTYPE=image/jpeg:https://vfwpost985.com/wp-content/uploads/2023/11/ChickenWingBasket-scaled.jpeg
END:VEVENT
BEGIN:VEVENT
DTSTART;TZID=America/New_York:20251223T170000
DTEND;TZID=America/New_York:20251223T190000
DTSTAMP:20260423T153116
CREATED:20231215T170932Z
LAST-MODIFIED:20231215T174710Z
UID:10000679-1766509200-1766516400@vfwpost985.com
SUMMARY:Tuesday Cheeseburger Special
DESCRIPTION:Looking for the perfect way to jazz up your Tuesday evenings? Look no further than our mouthwatering Cheeseburger Special at VFW Post 985! Sink your teeth into our juicy cheeseburgers served with a medley of fresh toppings and accompanied by your choice of crispy or curly fries (small upcharge).
URL:https://vfwpost985.com/event/tuesday-cheeseburger-special-5/2025-12-23/
LOCATION:Goshen VFW Post 985\, 1201 W. Pike Street\, Goshen\, IN\, 46526\, United States
CATEGORIES:Regular
ATTACH;FMTTYPE=image/jpeg:https://vfwpost985.com/wp-content/uploads/2020/11/burger-1140824_1920.jpg
END:VEVENT
BEGIN:VEVENT
DTSTART;TZID=America/New_York:20251224T170000
DTEND;TZID=America/New_York:20251224T190000
DTSTAMP:20260423T153116
CREATED:20231215T171222Z
LAST-MODIFIED:20231215T174618Z
UID:10000419-1766595600-1766602800@vfwpost985.com
SUMMARY:Wednesday Nights
DESCRIPTION:Food Served 1700 – 1900 \nTreasure Chest Drawing 1850
URL:https://vfwpost985.com/event/wednesday-nights-5/2025-12-24/
LOCATION:Goshen VFW Post 985\, 1201 W. Pike Street\, Goshen\, IN\, 46526\, United States
CATEGORIES:Regular
ATTACH;FMTTYPE=image/png:https://vfwpost985.com/wp-content/uploads/2020/11/treasure-chest.png
END:VEVENT
BEGIN:VEVENT
DTSTART;TZID=America/New_York:20251225T170000
DTEND;TZID=America/New_York:20251225T193000
DTSTAMP:20260423T153116
CREATED:20231215T171651Z
LAST-MODIFIED:20231215T174520Z
UID:10000159-1766682000-1766691000@vfwpost985.com
SUMMARY:Euchre Night
DESCRIPTION:Attention all playing card enthusiasts and VFW members! We’re thrilled to announce the return of our beloved Euchre Night at VFW Post 985\, and it’s better than ever! \nEuchre Night is not just a card game; it’s a tradition that brings our community together for an evening of camaraderie\, laughter\, and friendly competition. Whether you’re a seasoned pro or a newcomer to the game\, we invite you to join us for a fantastic night of Euchre action.
URL:https://vfwpost985.com/event/euchre-night-5/2025-12-25/
LOCATION:Goshen VFW Post 985\, 1201 W. Pike Street\, Goshen\, IN\, 46526\, United States
CATEGORIES:Regular
ATTACH;FMTTYPE=image/jpeg:https://vfwpost985.com/wp-content/uploads/2023/09/euchre-night-1.jpg
END:VEVENT
BEGIN:VEVENT
DTSTART;TZID=America/New_York:20251229T170000
DTEND;TZID=America/New_York:20251229T190000
DTSTAMP:20260423T153117
CREATED:20231215T165922Z
LAST-MODIFIED:20231215T174855Z
UID:10000939-1767027600-1767034800@vfwpost985.com
SUMMARY:Chicken Wings Night!
DESCRIPTION:Join us every Monday for a finger-licking good time at VFW Post 985’s Wing Night! Indulge in various succulent wings prepared just the way you like them! Our talented cooks have perfected the art of creating the most mouthwatering wings that will leave you craving more.
URL:https://vfwpost985.com/event/chicken-wings-night-4/2025-12-29/
LOCATION:Goshen VFW Post 985\, 1201 W. Pike Street\, Goshen\, IN\, 46526\, United States
CATEGORIES:Regular
ATTACH;FMTTYPE=image/jpeg:https://vfwpost985.com/wp-content/uploads/2023/11/ChickenWingBasket-scaled.jpeg
END:VEVENT
BEGIN:VEVENT
DTSTART;TZID=America/New_York:20251230T170000
DTEND;TZID=America/New_York:20251230T190000
DTSTAMP:20260423T153117
CREATED:20231215T170932Z
LAST-MODIFIED:20231215T174710Z
UID:10000680-1767114000-1767121200@vfwpost985.com
SUMMARY:Tuesday Cheeseburger Special
DESCRIPTION:Looking for the perfect way to jazz up your Tuesday evenings? Look no further than our mouthwatering Cheeseburger Special at VFW Post 985! Sink your teeth into our juicy cheeseburgers served with a medley of fresh toppings and accompanied by your choice of crispy or curly fries (small upcharge).
URL:https://vfwpost985.com/event/tuesday-cheeseburger-special-5/2025-12-30/
LOCATION:Goshen VFW Post 985\, 1201 W. Pike Street\, Goshen\, IN\, 46526\, United States
CATEGORIES:Regular
ATTACH;FMTTYPE=image/jpeg:https://vfwpost985.com/wp-content/uploads/2020/11/burger-1140824_1920.jpg
END:VEVENT
BEGIN:VEVENT
DTSTART;TZID=America/New_York:20251231T170000
DTEND;TZID=America/New_York:20251231T190000
DTSTAMP:20260423T153117
CREATED:20231215T171222Z
LAST-MODIFIED:20231215T174618Z
UID:10000420-1767200400-1767207600@vfwpost985.com
SUMMARY:Wednesday Nights
DESCRIPTION:Food Served 1700 – 1900 \nTreasure Chest Drawing 1850
URL:https://vfwpost985.com/event/wednesday-nights-5/2025-12-31/
LOCATION:Goshen VFW Post 985\, 1201 W. Pike Street\, Goshen\, IN\, 46526\, United States
CATEGORIES:Regular
ATTACH;FMTTYPE=image/png:https://vfwpost985.com/wp-content/uploads/2020/11/treasure-chest.png
END:VEVENT
BEGIN:VEVENT
DTSTART;TZID=America/New_York:20260101T170000
DTEND;TZID=America/New_York:20260101T193000
DTSTAMP:20260423T153117
CREATED:20231215T171651Z
LAST-MODIFIED:20231215T174520Z
UID:10000160-1767286800-1767295800@vfwpost985.com
SUMMARY:Euchre Night
DESCRIPTION:Attention all playing card enthusiasts and VFW members! We’re thrilled to announce the return of our beloved Euchre Night at VFW Post 985\, and it’s better than ever! \nEuchre Night is not just a card game; it’s a tradition that brings our community together for an evening of camaraderie\, laughter\, and friendly competition. Whether you’re a seasoned pro or a newcomer to the game\, we invite you to join us for a fantastic night of Euchre action.
URL:https://vfwpost985.com/event/euchre-night-5/2026-01-01/
LOCATION:Goshen VFW Post 985\, 1201 W. Pike Street\, Goshen\, IN\, 46526\, United States
CATEGORIES:Regular
ATTACH;FMTTYPE=image/jpeg:https://vfwpost985.com/wp-content/uploads/2023/09/euchre-night-1.jpg
END:VEVENT
BEGIN:VEVENT
DTSTART;TZID=America/New_York:20260105T170000
DTEND;TZID=America/New_York:20260105T190000
DTSTAMP:20260423T153117
CREATED:20231215T165922Z
LAST-MODIFIED:20231215T174855Z
UID:10000940-1767632400-1767639600@vfwpost985.com
SUMMARY:Chicken Wings Night!
DESCRIPTION:Join us every Monday for a finger-licking good time at VFW Post 985’s Wing Night! Indulge in various succulent wings prepared just the way you like them! Our talented cooks have perfected the art of creating the most mouthwatering wings that will leave you craving more.
URL:https://vfwpost985.com/event/chicken-wings-night-4/2026-01-05/
LOCATION:Goshen VFW Post 985\, 1201 W. Pike Street\, Goshen\, IN\, 46526\, United States
CATEGORIES:Regular
ATTACH;FMTTYPE=image/jpeg:https://vfwpost985.com/wp-content/uploads/2023/11/ChickenWingBasket-scaled.jpeg
END:VEVENT
BEGIN:VEVENT
DTSTART;TZID=America/New_York:20260106T170000
DTEND;TZID=America/New_York:20260106T190000
DTSTAMP:20260423T153117
CREATED:20231215T170932Z
LAST-MODIFIED:20231215T174710Z
UID:10000681-1767718800-1767726000@vfwpost985.com
SUMMARY:Tuesday Cheeseburger Special
DESCRIPTION:Looking for the perfect way to jazz up your Tuesday evenings? Look no further than our mouthwatering Cheeseburger Special at VFW Post 985! Sink your teeth into our juicy cheeseburgers served with a medley of fresh toppings and accompanied by your choice of crispy or curly fries (small upcharge).
URL:https://vfwpost985.com/event/tuesday-cheeseburger-special-5/2026-01-06/
LOCATION:Goshen VFW Post 985\, 1201 W. Pike Street\, Goshen\, IN\, 46526\, United States
CATEGORIES:Regular
ATTACH;FMTTYPE=image/jpeg:https://vfwpost985.com/wp-content/uploads/2020/11/burger-1140824_1920.jpg
END:VEVENT
BEGIN:VEVENT
DTSTART;TZID=America/New_York:20260107T170000
DTEND;TZID=America/New_York:20260107T190000
DTSTAMP:20260423T153117
CREATED:20231215T171222Z
LAST-MODIFIED:20231215T174618Z
UID:10000421-1767805200-1767812400@vfwpost985.com
SUMMARY:Wednesday Nights
DESCRIPTION:Food Served 1700 – 1900 \nTreasure Chest Drawing 1850
URL:https://vfwpost985.com/event/wednesday-nights-5/2026-01-07/
LOCATION:Goshen VFW Post 985\, 1201 W. Pike Street\, Goshen\, IN\, 46526\, United States
CATEGORIES:Regular
ATTACH;FMTTYPE=image/png:https://vfwpost985.com/wp-content/uploads/2020/11/treasure-chest.png
END:VEVENT
BEGIN:VEVENT
DTSTART;TZID=America/New_York:20260108T170000
DTEND;TZID=America/New_York:20260108T193000
DTSTAMP:20260423T153117
CREATED:20231215T171651Z
LAST-MODIFIED:20231215T174520Z
UID:10000161-1767891600-1767900600@vfwpost985.com
SUMMARY:Euchre Night
DESCRIPTION:Attention all playing card enthusiasts and VFW members! We’re thrilled to announce the return of our beloved Euchre Night at VFW Post 985\, and it’s better than ever! \nEuchre Night is not just a card game; it’s a tradition that brings our community together for an evening of camaraderie\, laughter\, and friendly competition. Whether you’re a seasoned pro or a newcomer to the game\, we invite you to join us for a fantastic night of Euchre action.
URL:https://vfwpost985.com/event/euchre-night-5/2026-01-08/
LOCATION:Goshen VFW Post 985\, 1201 W. Pike Street\, Goshen\, IN\, 46526\, United States
CATEGORIES:Regular
ATTACH;FMTTYPE=image/jpeg:https://vfwpost985.com/wp-content/uploads/2023/09/euchre-night-1.jpg
END:VEVENT
BEGIN:VEVENT
DTSTART;TZID=America/New_York:20260112T170000
DTEND;TZID=America/New_York:20260112T190000
DTSTAMP:20260423T153117
CREATED:20231215T165922Z
LAST-MODIFIED:20231215T174855Z
UID:10000941-1768237200-1768244400@vfwpost985.com
SUMMARY:Chicken Wings Night!
DESCRIPTION:Join us every Monday for a finger-licking good time at VFW Post 985’s Wing Night! Indulge in various succulent wings prepared just the way you like them! Our talented cooks have perfected the art of creating the most mouthwatering wings that will leave you craving more.
URL:https://vfwpost985.com/event/chicken-wings-night-4/2026-01-12/
LOCATION:Goshen VFW Post 985\, 1201 W. Pike Street\, Goshen\, IN\, 46526\, United States
CATEGORIES:Regular
ATTACH;FMTTYPE=image/jpeg:https://vfwpost985.com/wp-content/uploads/2023/11/ChickenWingBasket-scaled.jpeg
END:VEVENT
BEGIN:VEVENT
DTSTART;TZID=America/New_York:20260113T170000
DTEND;TZID=America/New_York:20260113T190000
DTSTAMP:20260423T153117
CREATED:20231215T170932Z
LAST-MODIFIED:20231215T174710Z
UID:10000682-1768323600-1768330800@vfwpost985.com
SUMMARY:Tuesday Cheeseburger Special
DESCRIPTION:Looking for the perfect way to jazz up your Tuesday evenings? Look no further than our mouthwatering Cheeseburger Special at VFW Post 985! Sink your teeth into our juicy cheeseburgers served with a medley of fresh toppings and accompanied by your choice of crispy or curly fries (small upcharge).
URL:https://vfwpost985.com/event/tuesday-cheeseburger-special-5/2026-01-13/
LOCATION:Goshen VFW Post 985\, 1201 W. Pike Street\, Goshen\, IN\, 46526\, United States
CATEGORIES:Regular
ATTACH;FMTTYPE=image/jpeg:https://vfwpost985.com/wp-content/uploads/2020/11/burger-1140824_1920.jpg
END:VEVENT
BEGIN:VEVENT
DTSTART;TZID=America/New_York:20260114T170000
DTEND;TZID=America/New_York:20260114T190000
DTSTAMP:20260423T153117
CREATED:20231215T171222Z
LAST-MODIFIED:20231215T174618Z
UID:10000422-1768410000-1768417200@vfwpost985.com
SUMMARY:Wednesday Nights
DESCRIPTION:Food Served 1700 – 1900 \nTreasure Chest Drawing 1850
URL:https://vfwpost985.com/event/wednesday-nights-5/2026-01-14/
LOCATION:Goshen VFW Post 985\, 1201 W. Pike Street\, Goshen\, IN\, 46526\, United States
CATEGORIES:Regular
ATTACH;FMTTYPE=image/png:https://vfwpost985.com/wp-content/uploads/2020/11/treasure-chest.png
END:VEVENT
BEGIN:VEVENT
DTSTART;TZID=America/New_York:20260115T170000
DTEND;TZID=America/New_York:20260115T193000
DTSTAMP:20260423T153117
CREATED:20231215T171651Z
LAST-MODIFIED:20231215T174520Z
UID:10000162-1768496400-1768505400@vfwpost985.com
SUMMARY:Euchre Night
DESCRIPTION:Attention all playing card enthusiasts and VFW members! We’re thrilled to announce the return of our beloved Euchre Night at VFW Post 985\, and it’s better than ever! \nEuchre Night is not just a card game; it’s a tradition that brings our community together for an evening of camaraderie\, laughter\, and friendly competition. Whether you’re a seasoned pro or a newcomer to the game\, we invite you to join us for a fantastic night of Euchre action.
URL:https://vfwpost985.com/event/euchre-night-5/2026-01-15/
LOCATION:Goshen VFW Post 985\, 1201 W. Pike Street\, Goshen\, IN\, 46526\, United States
CATEGORIES:Regular
ATTACH;FMTTYPE=image/jpeg:https://vfwpost985.com/wp-content/uploads/2023/09/euchre-night-1.jpg
END:VEVENT
BEGIN:VEVENT
DTSTART;TZID=America/New_York:20260119T170000
DTEND;TZID=America/New_York:20260119T190000
DTSTAMP:20260423T153117
CREATED:20231215T165922Z
LAST-MODIFIED:20231215T174855Z
UID:10000942-1768842000-1768849200@vfwpost985.com
SUMMARY:Chicken Wings Night!
DESCRIPTION:Join us every Monday for a finger-licking good time at VFW Post 985’s Wing Night! Indulge in various succulent wings prepared just the way you like them! Our talented cooks have perfected the art of creating the most mouthwatering wings that will leave you craving more.
URL:https://vfwpost985.com/event/chicken-wings-night-4/2026-01-19/
LOCATION:Goshen VFW Post 985\, 1201 W. Pike Street\, Goshen\, IN\, 46526\, United States
CATEGORIES:Regular
ATTACH;FMTTYPE=image/jpeg:https://vfwpost985.com/wp-content/uploads/2023/11/ChickenWingBasket-scaled.jpeg
END:VEVENT
BEGIN:VEVENT
DTSTART;TZID=America/New_York:20260120T170000
DTEND;TZID=America/New_York:20260120T190000
DTSTAMP:20260423T153117
CREATED:20231215T170932Z
LAST-MODIFIED:20231215T174710Z
UID:10000683-1768928400-1768935600@vfwpost985.com
SUMMARY:Tuesday Cheeseburger Special
DESCRIPTION:Looking for the perfect way to jazz up your Tuesday evenings? Look no further than our mouthwatering Cheeseburger Special at VFW Post 985! Sink your teeth into our juicy cheeseburgers served with a medley of fresh toppings and accompanied by your choice of crispy or curly fries (small upcharge).
URL:https://vfwpost985.com/event/tuesday-cheeseburger-special-5/2026-01-20/
LOCATION:Goshen VFW Post 985\, 1201 W. Pike Street\, Goshen\, IN\, 46526\, United States
CATEGORIES:Regular
ATTACH;FMTTYPE=image/jpeg:https://vfwpost985.com/wp-content/uploads/2020/11/burger-1140824_1920.jpg
END:VEVENT
BEGIN:VEVENT
DTSTART;TZID=America/New_York:20260121T170000
DTEND;TZID=America/New_York:20260121T190000
DTSTAMP:20260423T153117
CREATED:20231215T171222Z
LAST-MODIFIED:20231215T174618Z
UID:10000423-1769014800-1769022000@vfwpost985.com
SUMMARY:Wednesday Nights
DESCRIPTION:Food Served 1700 – 1900 \nTreasure Chest Drawing 1850
URL:https://vfwpost985.com/event/wednesday-nights-5/2026-01-21/
LOCATION:Goshen VFW Post 985\, 1201 W. Pike Street\, Goshen\, IN\, 46526\, United States
CATEGORIES:Regular
ATTACH;FMTTYPE=image/png:https://vfwpost985.com/wp-content/uploads/2020/11/treasure-chest.png
END:VEVENT
BEGIN:VEVENT
DTSTART;TZID=America/New_York:20260122T170000
DTEND;TZID=America/New_York:20260122T193000
DTSTAMP:20260423T153117
CREATED:20231215T171651Z
LAST-MODIFIED:20231215T174520Z
UID:10000163-1769101200-1769110200@vfwpost985.com
SUMMARY:Euchre Night
DESCRIPTION:Attention all playing card enthusiasts and VFW members! We’re thrilled to announce the return of our beloved Euchre Night at VFW Post 985\, and it’s better than ever! \nEuchre Night is not just a card game; it’s a tradition that brings our community together for an evening of camaraderie\, laughter\, and friendly competition. Whether you’re a seasoned pro or a newcomer to the game\, we invite you to join us for a fantastic night of Euchre action.
URL:https://vfwpost985.com/event/euchre-night-5/2026-01-22/
LOCATION:Goshen VFW Post 985\, 1201 W. Pike Street\, Goshen\, IN\, 46526\, United States
CATEGORIES:Regular
ATTACH;FMTTYPE=image/jpeg:https://vfwpost985.com/wp-content/uploads/2023/09/euchre-night-1.jpg
END:VEVENT
BEGIN:VEVENT
DTSTART;TZID=America/New_York:20260126T170000
DTEND;TZID=America/New_York:20260126T190000
DTSTAMP:20260423T153117
CREATED:20231215T165922Z
LAST-MODIFIED:20231215T174855Z
UID:10000943-1769446800-1769454000@vfwpost985.com
SUMMARY:Chicken Wings Night!
DESCRIPTION:Join us every Monday for a finger-licking good time at VFW Post 985’s Wing Night! Indulge in various succulent wings prepared just the way you like them! Our talented cooks have perfected the art of creating the most mouthwatering wings that will leave you craving more.
URL:https://vfwpost985.com/event/chicken-wings-night-4/2026-01-26/
LOCATION:Goshen VFW Post 985\, 1201 W. Pike Street\, Goshen\, IN\, 46526\, United States
CATEGORIES:Regular
ATTACH;FMTTYPE=image/jpeg:https://vfwpost985.com/wp-content/uploads/2023/11/ChickenWingBasket-scaled.jpeg
END:VEVENT
BEGIN:VEVENT
DTSTART;TZID=America/New_York:20260127T170000
DTEND;TZID=America/New_York:20260127T190000
DTSTAMP:20260423T153117
CREATED:20231215T170932Z
LAST-MODIFIED:20231215T174710Z
UID:10000684-1769533200-1769540400@vfwpost985.com
SUMMARY:Tuesday Cheeseburger Special
DESCRIPTION:Looking for the perfect way to jazz up your Tuesday evenings? Look no further than our mouthwatering Cheeseburger Special at VFW Post 985! Sink your teeth into our juicy cheeseburgers served with a medley of fresh toppings and accompanied by your choice of crispy or curly fries (small upcharge).
URL:https://vfwpost985.com/event/tuesday-cheeseburger-special-5/2026-01-27/
LOCATION:Goshen VFW Post 985\, 1201 W. Pike Street\, Goshen\, IN\, 46526\, United States
CATEGORIES:Regular
ATTACH;FMTTYPE=image/jpeg:https://vfwpost985.com/wp-content/uploads/2020/11/burger-1140824_1920.jpg
END:VEVENT
BEGIN:VEVENT
DTSTART;TZID=America/New_York:20260128T170000
DTEND;TZID=America/New_York:20260128T190000
DTSTAMP:20260423T153117
CREATED:20231215T171222Z
LAST-MODIFIED:20231215T174618Z
UID:10000424-1769619600-1769626800@vfwpost985.com
SUMMARY:Wednesday Nights
DESCRIPTION:Food Served 1700 – 1900 \nTreasure Chest Drawing 1850
URL:https://vfwpost985.com/event/wednesday-nights-5/2026-01-28/
LOCATION:Goshen VFW Post 985\, 1201 W. Pike Street\, Goshen\, IN\, 46526\, United States
CATEGORIES:Regular
ATTACH;FMTTYPE=image/png:https://vfwpost985.com/wp-content/uploads/2020/11/treasure-chest.png
END:VEVENT
END:VCALENDAR