BEGIN:VCALENDAR
VERSION:2.0
PRODID:-//VFW Post 985 - ECPv6.15.17.1//NONSGML v1.0//EN
CALSCALE:GREGORIAN
METHOD:PUBLISH
X-WR-CALNAME:VFW Post 985
X-ORIGINAL-URL:https://vfwpost985.com
X-WR-CALDESC:Events for VFW Post 985
REFRESH-INTERVAL;VALUE=DURATION:PT1H
X-Robots-Tag:noindex
X-PUBLISHED-TTL:PT1H
BEGIN:VTIMEZONE
TZID:America/New_York
BEGIN:DAYLIGHT
TZOFFSETFROM:-0500
TZOFFSETTO:-0400
TZNAME:EDT
DTSTART:20230312T070000
END:DAYLIGHT
BEGIN:STANDARD
TZOFFSETFROM:-0400
TZOFFSETTO:-0500
TZNAME:EST
DTSTART:20231105T060000
END:STANDARD
BEGIN:DAYLIGHT
TZOFFSETFROM:-0500
TZOFFSETTO:-0400
TZNAME:EDT
DTSTART:20240310T070000
END:DAYLIGHT
BEGIN:STANDARD
TZOFFSETFROM:-0400
TZOFFSETTO:-0500
TZNAME:EST
DTSTART:20241103T060000
END:STANDARD
BEGIN:DAYLIGHT
TZOFFSETFROM:-0500
TZOFFSETTO:-0400
TZNAME:EDT
DTSTART:20250309T070000
END:DAYLIGHT
BEGIN:STANDARD
TZOFFSETFROM:-0400
TZOFFSETTO:-0500
TZNAME:EST
DTSTART:20251102T060000
END:STANDARD
END:VTIMEZONE
BEGIN:VEVENT
DTSTART;TZID=America/New_York:20240930T170000
DTEND;TZID=America/New_York:20240930T190000
DTSTAMP:20260425T061826
CREATED:20231215T165922Z
LAST-MODIFIED:20231215T174855Z
UID:10000874-1727715600-1727722800@vfwpost985.com
SUMMARY:Chicken Wings Night!
DESCRIPTION:Join us every Monday for a finger-licking good time at VFW Post 985’s Wing Night! Indulge in various succulent wings prepared just the way you like them! Our talented cooks have perfected the art of creating the most mouthwatering wings that will leave you craving more.
URL:https://vfwpost985.com/event/chicken-wings-night-4/2024-09-30/
LOCATION:Goshen VFW Post 985\, 1201 W. Pike Street\, Goshen\, IN\, 46526\, United States
CATEGORIES:Regular
ATTACH;FMTTYPE=image/jpeg:https://vfwpost985.com/wp-content/uploads/2023/11/ChickenWingBasket-scaled.jpeg
END:VEVENT
BEGIN:VEVENT
DTSTART;TZID=America/New_York:20240926T170000
DTEND;TZID=America/New_York:20240926T193000
DTSTAMP:20260425T061826
CREATED:20231215T171651Z
LAST-MODIFIED:20231215T174520Z
UID:10000094-1727370000-1727379000@vfwpost985.com
SUMMARY:Euchre Night
DESCRIPTION:Attention all playing card enthusiasts and VFW members! We’re thrilled to announce the return of our beloved Euchre Night at VFW Post 985\, and it’s better than ever! \nEuchre Night is not just a card game; it’s a tradition that brings our community together for an evening of camaraderie\, laughter\, and friendly competition. Whether you’re a seasoned pro or a newcomer to the game\, we invite you to join us for a fantastic night of Euchre action.
URL:https://vfwpost985.com/event/euchre-night-5/2024-09-26/
LOCATION:Goshen VFW Post 985\, 1201 W. Pike Street\, Goshen\, IN\, 46526\, United States
CATEGORIES:Regular
ATTACH;FMTTYPE=image/jpeg:https://vfwpost985.com/wp-content/uploads/2023/09/euchre-night-1.jpg
END:VEVENT
BEGIN:VEVENT
DTSTART;TZID=America/New_York:20240925T170000
DTEND;TZID=America/New_York:20240925T190000
DTSTAMP:20260425T061826
CREATED:20231215T171222Z
LAST-MODIFIED:20231215T174618Z
UID:10000354-1727283600-1727290800@vfwpost985.com
SUMMARY:Wednesday Nights
DESCRIPTION:Food Served 1700 – 1900 \nTreasure Chest Drawing 1850
URL:https://vfwpost985.com/event/wednesday-nights-5/2024-09-25/
LOCATION:Goshen VFW Post 985\, 1201 W. Pike Street\, Goshen\, IN\, 46526\, United States
CATEGORIES:Regular
ATTACH;FMTTYPE=image/png:https://vfwpost985.com/wp-content/uploads/2020/11/treasure-chest.png
END:VEVENT
BEGIN:VEVENT
DTSTART;TZID=America/New_York:20240924T170000
DTEND;TZID=America/New_York:20240924T190000
DTSTAMP:20260425T061826
CREATED:20231215T170932Z
LAST-MODIFIED:20231215T174710Z
UID:10000614-1727197200-1727204400@vfwpost985.com
SUMMARY:Tuesday Cheeseburger Special
DESCRIPTION:Looking for the perfect way to jazz up your Tuesday evenings? Look no further than our mouthwatering Cheeseburger Special at VFW Post 985! Sink your teeth into our juicy cheeseburgers served with a medley of fresh toppings and accompanied by your choice of crispy or curly fries (small upcharge).
URL:https://vfwpost985.com/event/tuesday-cheeseburger-special-5/2024-09-24/
LOCATION:Goshen VFW Post 985\, 1201 W. Pike Street\, Goshen\, IN\, 46526\, United States
CATEGORIES:Regular
ATTACH;FMTTYPE=image/jpeg:https://vfwpost985.com/wp-content/uploads/2020/11/burger-1140824_1920.jpg
END:VEVENT
BEGIN:VEVENT
DTSTART;TZID=America/New_York:20240923T170000
DTEND;TZID=America/New_York:20240923T190000
DTSTAMP:20260425T061826
CREATED:20231215T165922Z
LAST-MODIFIED:20231215T174855Z
UID:10000873-1727110800-1727118000@vfwpost985.com
SUMMARY:Chicken Wings Night!
DESCRIPTION:Join us every Monday for a finger-licking good time at VFW Post 985’s Wing Night! Indulge in various succulent wings prepared just the way you like them! Our talented cooks have perfected the art of creating the most mouthwatering wings that will leave you craving more.
URL:https://vfwpost985.com/event/chicken-wings-night-4/2024-09-23/
LOCATION:Goshen VFW Post 985\, 1201 W. Pike Street\, Goshen\, IN\, 46526\, United States
CATEGORIES:Regular
ATTACH;FMTTYPE=image/jpeg:https://vfwpost985.com/wp-content/uploads/2023/11/ChickenWingBasket-scaled.jpeg
END:VEVENT
BEGIN:VEVENT
DTSTART;TZID=America/New_York:20240919T170000
DTEND;TZID=America/New_York:20240919T193000
DTSTAMP:20260425T061826
CREATED:20231215T171651Z
LAST-MODIFIED:20231215T174520Z
UID:10000093-1726765200-1726774200@vfwpost985.com
SUMMARY:Euchre Night
DESCRIPTION:Attention all playing card enthusiasts and VFW members! We’re thrilled to announce the return of our beloved Euchre Night at VFW Post 985\, and it’s better than ever! \nEuchre Night is not just a card game; it’s a tradition that brings our community together for an evening of camaraderie\, laughter\, and friendly competition. Whether you’re a seasoned pro or a newcomer to the game\, we invite you to join us for a fantastic night of Euchre action.
URL:https://vfwpost985.com/event/euchre-night-5/2024-09-19/
LOCATION:Goshen VFW Post 985\, 1201 W. Pike Street\, Goshen\, IN\, 46526\, United States
CATEGORIES:Regular
ATTACH;FMTTYPE=image/jpeg:https://vfwpost985.com/wp-content/uploads/2023/09/euchre-night-1.jpg
END:VEVENT
BEGIN:VEVENT
DTSTART;TZID=America/New_York:20240918T170000
DTEND;TZID=America/New_York:20240918T190000
DTSTAMP:20260425T061826
CREATED:20231215T171222Z
LAST-MODIFIED:20231215T174618Z
UID:10000353-1726678800-1726686000@vfwpost985.com
SUMMARY:Wednesday Nights
DESCRIPTION:Food Served 1700 – 1900 \nTreasure Chest Drawing 1850
URL:https://vfwpost985.com/event/wednesday-nights-5/2024-09-18/
LOCATION:Goshen VFW Post 985\, 1201 W. Pike Street\, Goshen\, IN\, 46526\, United States
CATEGORIES:Regular
ATTACH;FMTTYPE=image/png:https://vfwpost985.com/wp-content/uploads/2020/11/treasure-chest.png
END:VEVENT
BEGIN:VEVENT
DTSTART;TZID=America/New_York:20240917T170000
DTEND;TZID=America/New_York:20240917T190000
DTSTAMP:20260425T061826
CREATED:20231215T170932Z
LAST-MODIFIED:20231215T174710Z
UID:10000613-1726592400-1726599600@vfwpost985.com
SUMMARY:Tuesday Cheeseburger Special
DESCRIPTION:Looking for the perfect way to jazz up your Tuesday evenings? Look no further than our mouthwatering Cheeseburger Special at VFW Post 985! Sink your teeth into our juicy cheeseburgers served with a medley of fresh toppings and accompanied by your choice of crispy or curly fries (small upcharge).
URL:https://vfwpost985.com/event/tuesday-cheeseburger-special-5/2024-09-17/
LOCATION:Goshen VFW Post 985\, 1201 W. Pike Street\, Goshen\, IN\, 46526\, United States
CATEGORIES:Regular
ATTACH;FMTTYPE=image/jpeg:https://vfwpost985.com/wp-content/uploads/2020/11/burger-1140824_1920.jpg
END:VEVENT
BEGIN:VEVENT
DTSTART;TZID=America/New_York:20240916T170000
DTEND;TZID=America/New_York:20240916T190000
DTSTAMP:20260425T061826
CREATED:20231215T165922Z
LAST-MODIFIED:20231215T174855Z
UID:10000872-1726506000-1726513200@vfwpost985.com
SUMMARY:Chicken Wings Night!
DESCRIPTION:Join us every Monday for a finger-licking good time at VFW Post 985’s Wing Night! Indulge in various succulent wings prepared just the way you like them! Our talented cooks have perfected the art of creating the most mouthwatering wings that will leave you craving more.
URL:https://vfwpost985.com/event/chicken-wings-night-4/2024-09-16/
LOCATION:Goshen VFW Post 985\, 1201 W. Pike Street\, Goshen\, IN\, 46526\, United States
CATEGORIES:Regular
ATTACH;FMTTYPE=image/jpeg:https://vfwpost985.com/wp-content/uploads/2023/11/ChickenWingBasket-scaled.jpeg
END:VEVENT
BEGIN:VEVENT
DTSTART;TZID=America/New_York:20240912T170000
DTEND;TZID=America/New_York:20240912T193000
DTSTAMP:20260425T061826
CREATED:20231215T171651Z
LAST-MODIFIED:20231215T174520Z
UID:10000092-1726160400-1726169400@vfwpost985.com
SUMMARY:Euchre Night
DESCRIPTION:Attention all playing card enthusiasts and VFW members! We’re thrilled to announce the return of our beloved Euchre Night at VFW Post 985\, and it’s better than ever! \nEuchre Night is not just a card game; it’s a tradition that brings our community together for an evening of camaraderie\, laughter\, and friendly competition. Whether you’re a seasoned pro or a newcomer to the game\, we invite you to join us for a fantastic night of Euchre action.
URL:https://vfwpost985.com/event/euchre-night-5/2024-09-12/
LOCATION:Goshen VFW Post 985\, 1201 W. Pike Street\, Goshen\, IN\, 46526\, United States
CATEGORIES:Regular
ATTACH;FMTTYPE=image/jpeg:https://vfwpost985.com/wp-content/uploads/2023/09/euchre-night-1.jpg
END:VEVENT
BEGIN:VEVENT
DTSTART;TZID=America/New_York:20240911T170000
DTEND;TZID=America/New_York:20240911T190000
DTSTAMP:20260425T061826
CREATED:20231215T171222Z
LAST-MODIFIED:20231215T174618Z
UID:10000352-1726074000-1726081200@vfwpost985.com
SUMMARY:Wednesday Nights
DESCRIPTION:Food Served 1700 – 1900 \nTreasure Chest Drawing 1850
URL:https://vfwpost985.com/event/wednesday-nights-5/2024-09-11/
LOCATION:Goshen VFW Post 985\, 1201 W. Pike Street\, Goshen\, IN\, 46526\, United States
CATEGORIES:Regular
ATTACH;FMTTYPE=image/png:https://vfwpost985.com/wp-content/uploads/2020/11/treasure-chest.png
END:VEVENT
BEGIN:VEVENT
DTSTART;TZID=America/New_York:20240910T170000
DTEND;TZID=America/New_York:20240910T190000
DTSTAMP:20260425T061826
CREATED:20231215T170932Z
LAST-MODIFIED:20231215T174710Z
UID:10000612-1725987600-1725994800@vfwpost985.com
SUMMARY:Tuesday Cheeseburger Special
DESCRIPTION:Looking for the perfect way to jazz up your Tuesday evenings? Look no further than our mouthwatering Cheeseburger Special at VFW Post 985! Sink your teeth into our juicy cheeseburgers served with a medley of fresh toppings and accompanied by your choice of crispy or curly fries (small upcharge).
URL:https://vfwpost985.com/event/tuesday-cheeseburger-special-5/2024-09-10/
LOCATION:Goshen VFW Post 985\, 1201 W. Pike Street\, Goshen\, IN\, 46526\, United States
CATEGORIES:Regular
ATTACH;FMTTYPE=image/jpeg:https://vfwpost985.com/wp-content/uploads/2020/11/burger-1140824_1920.jpg
END:VEVENT
BEGIN:VEVENT
DTSTART;TZID=America/New_York:20240909T170000
DTEND;TZID=America/New_York:20240909T190000
DTSTAMP:20260425T061826
CREATED:20231215T165922Z
LAST-MODIFIED:20231215T174855Z
UID:10000871-1725901200-1725908400@vfwpost985.com
SUMMARY:Chicken Wings Night!
DESCRIPTION:Join us every Monday for a finger-licking good time at VFW Post 985’s Wing Night! Indulge in various succulent wings prepared just the way you like them! Our talented cooks have perfected the art of creating the most mouthwatering wings that will leave you craving more.
URL:https://vfwpost985.com/event/chicken-wings-night-4/2024-09-09/
LOCATION:Goshen VFW Post 985\, 1201 W. Pike Street\, Goshen\, IN\, 46526\, United States
CATEGORIES:Regular
ATTACH;FMTTYPE=image/jpeg:https://vfwpost985.com/wp-content/uploads/2023/11/ChickenWingBasket-scaled.jpeg
END:VEVENT
BEGIN:VEVENT
DTSTART;TZID=America/New_York:20240905T170000
DTEND;TZID=America/New_York:20240905T193000
DTSTAMP:20260425T061826
CREATED:20231215T171651Z
LAST-MODIFIED:20231215T174520Z
UID:10000091-1725555600-1725564600@vfwpost985.com
SUMMARY:Euchre Night
DESCRIPTION:Attention all playing card enthusiasts and VFW members! We’re thrilled to announce the return of our beloved Euchre Night at VFW Post 985\, and it’s better than ever! \nEuchre Night is not just a card game; it’s a tradition that brings our community together for an evening of camaraderie\, laughter\, and friendly competition. Whether you’re a seasoned pro or a newcomer to the game\, we invite you to join us for a fantastic night of Euchre action.
URL:https://vfwpost985.com/event/euchre-night-5/2024-09-05/
LOCATION:Goshen VFW Post 985\, 1201 W. Pike Street\, Goshen\, IN\, 46526\, United States
CATEGORIES:Regular
ATTACH;FMTTYPE=image/jpeg:https://vfwpost985.com/wp-content/uploads/2023/09/euchre-night-1.jpg
END:VEVENT
BEGIN:VEVENT
DTSTART;TZID=America/New_York:20240904T170000
DTEND;TZID=America/New_York:20240904T190000
DTSTAMP:20260425T061826
CREATED:20231215T171222Z
LAST-MODIFIED:20231215T174618Z
UID:10000351-1725469200-1725476400@vfwpost985.com
SUMMARY:Wednesday Nights
DESCRIPTION:Food Served 1700 – 1900 \nTreasure Chest Drawing 1850
URL:https://vfwpost985.com/event/wednesday-nights-5/2024-09-04/
LOCATION:Goshen VFW Post 985\, 1201 W. Pike Street\, Goshen\, IN\, 46526\, United States
CATEGORIES:Regular
ATTACH;FMTTYPE=image/png:https://vfwpost985.com/wp-content/uploads/2020/11/treasure-chest.png
END:VEVENT
BEGIN:VEVENT
DTSTART;TZID=America/New_York:20240903T170000
DTEND;TZID=America/New_York:20240903T190000
DTSTAMP:20260425T061826
CREATED:20231215T170932Z
LAST-MODIFIED:20231215T174710Z
UID:10000611-1725382800-1725390000@vfwpost985.com
SUMMARY:Tuesday Cheeseburger Special
DESCRIPTION:Looking for the perfect way to jazz up your Tuesday evenings? Look no further than our mouthwatering Cheeseburger Special at VFW Post 985! Sink your teeth into our juicy cheeseburgers served with a medley of fresh toppings and accompanied by your choice of crispy or curly fries (small upcharge).
URL:https://vfwpost985.com/event/tuesday-cheeseburger-special-5/2024-09-03/
LOCATION:Goshen VFW Post 985\, 1201 W. Pike Street\, Goshen\, IN\, 46526\, United States
CATEGORIES:Regular
ATTACH;FMTTYPE=image/jpeg:https://vfwpost985.com/wp-content/uploads/2020/11/burger-1140824_1920.jpg
END:VEVENT
BEGIN:VEVENT
DTSTART;TZID=America/New_York:20240902T170000
DTEND;TZID=America/New_York:20240902T190000
DTSTAMP:20260425T061826
CREATED:20231215T165922Z
LAST-MODIFIED:20231215T174855Z
UID:10000870-1725296400-1725303600@vfwpost985.com
SUMMARY:Chicken Wings Night!
DESCRIPTION:Join us every Monday for a finger-licking good time at VFW Post 985’s Wing Night! Indulge in various succulent wings prepared just the way you like them! Our talented cooks have perfected the art of creating the most mouthwatering wings that will leave you craving more.
URL:https://vfwpost985.com/event/chicken-wings-night-4/2024-09-02/
LOCATION:Goshen VFW Post 985\, 1201 W. Pike Street\, Goshen\, IN\, 46526\, United States
CATEGORIES:Regular
ATTACH;FMTTYPE=image/jpeg:https://vfwpost985.com/wp-content/uploads/2023/11/ChickenWingBasket-scaled.jpeg
END:VEVENT
BEGIN:VEVENT
DTSTART;TZID=America/New_York:20240829T170000
DTEND;TZID=America/New_York:20240829T193000
DTSTAMP:20260425T061826
CREATED:20231215T171651Z
LAST-MODIFIED:20231215T174520Z
UID:10000090-1724950800-1724959800@vfwpost985.com
SUMMARY:Euchre Night
DESCRIPTION:Attention all playing card enthusiasts and VFW members! We’re thrilled to announce the return of our beloved Euchre Night at VFW Post 985\, and it’s better than ever! \nEuchre Night is not just a card game; it’s a tradition that brings our community together for an evening of camaraderie\, laughter\, and friendly competition. Whether you’re a seasoned pro or a newcomer to the game\, we invite you to join us for a fantastic night of Euchre action.
URL:https://vfwpost985.com/event/euchre-night-5/2024-08-29/
LOCATION:Goshen VFW Post 985\, 1201 W. Pike Street\, Goshen\, IN\, 46526\, United States
CATEGORIES:Regular
ATTACH;FMTTYPE=image/jpeg:https://vfwpost985.com/wp-content/uploads/2023/09/euchre-night-1.jpg
END:VEVENT
BEGIN:VEVENT
DTSTART;TZID=America/New_York:20240828T170000
DTEND;TZID=America/New_York:20240828T190000
DTSTAMP:20260425T061826
CREATED:20231215T171222Z
LAST-MODIFIED:20231215T174618Z
UID:10000350-1724864400-1724871600@vfwpost985.com
SUMMARY:Wednesday Nights
DESCRIPTION:Food Served 1700 – 1900 \nTreasure Chest Drawing 1850
URL:https://vfwpost985.com/event/wednesday-nights-5/2024-08-28/
LOCATION:Goshen VFW Post 985\, 1201 W. Pike Street\, Goshen\, IN\, 46526\, United States
CATEGORIES:Regular
ATTACH;FMTTYPE=image/png:https://vfwpost985.com/wp-content/uploads/2020/11/treasure-chest.png
END:VEVENT
BEGIN:VEVENT
DTSTART;TZID=America/New_York:20240827T170000
DTEND;TZID=America/New_York:20240827T190000
DTSTAMP:20260425T061826
CREATED:20231215T170932Z
LAST-MODIFIED:20231215T174710Z
UID:10000610-1724778000-1724785200@vfwpost985.com
SUMMARY:Tuesday Cheeseburger Special
DESCRIPTION:Looking for the perfect way to jazz up your Tuesday evenings? Look no further than our mouthwatering Cheeseburger Special at VFW Post 985! Sink your teeth into our juicy cheeseburgers served with a medley of fresh toppings and accompanied by your choice of crispy or curly fries (small upcharge).
URL:https://vfwpost985.com/event/tuesday-cheeseburger-special-5/2024-08-27/
LOCATION:Goshen VFW Post 985\, 1201 W. Pike Street\, Goshen\, IN\, 46526\, United States
CATEGORIES:Regular
ATTACH;FMTTYPE=image/jpeg:https://vfwpost985.com/wp-content/uploads/2020/11/burger-1140824_1920.jpg
END:VEVENT
BEGIN:VEVENT
DTSTART;TZID=America/New_York:20240826T170000
DTEND;TZID=America/New_York:20240826T190000
DTSTAMP:20260425T061826
CREATED:20231215T165922Z
LAST-MODIFIED:20231215T174855Z
UID:10000869-1724691600-1724698800@vfwpost985.com
SUMMARY:Chicken Wings Night!
DESCRIPTION:Join us every Monday for a finger-licking good time at VFW Post 985’s Wing Night! Indulge in various succulent wings prepared just the way you like them! Our talented cooks have perfected the art of creating the most mouthwatering wings that will leave you craving more.
URL:https://vfwpost985.com/event/chicken-wings-night-4/2024-08-26/
LOCATION:Goshen VFW Post 985\, 1201 W. Pike Street\, Goshen\, IN\, 46526\, United States
CATEGORIES:Regular
ATTACH;FMTTYPE=image/jpeg:https://vfwpost985.com/wp-content/uploads/2023/11/ChickenWingBasket-scaled.jpeg
END:VEVENT
BEGIN:VEVENT
DTSTART;TZID=America/New_York:20240822T170000
DTEND;TZID=America/New_York:20240822T193000
DTSTAMP:20260425T061826
CREATED:20231215T171651Z
LAST-MODIFIED:20231215T174520Z
UID:10000089-1724346000-1724355000@vfwpost985.com
SUMMARY:Euchre Night
DESCRIPTION:Attention all playing card enthusiasts and VFW members! We’re thrilled to announce the return of our beloved Euchre Night at VFW Post 985\, and it’s better than ever! \nEuchre Night is not just a card game; it’s a tradition that brings our community together for an evening of camaraderie\, laughter\, and friendly competition. Whether you’re a seasoned pro or a newcomer to the game\, we invite you to join us for a fantastic night of Euchre action.
URL:https://vfwpost985.com/event/euchre-night-5/2024-08-22/
LOCATION:Goshen VFW Post 985\, 1201 W. Pike Street\, Goshen\, IN\, 46526\, United States
CATEGORIES:Regular
ATTACH;FMTTYPE=image/jpeg:https://vfwpost985.com/wp-content/uploads/2023/09/euchre-night-1.jpg
END:VEVENT
BEGIN:VEVENT
DTSTART;TZID=America/New_York:20240821T170000
DTEND;TZID=America/New_York:20240821T190000
DTSTAMP:20260425T061826
CREATED:20231215T171222Z
LAST-MODIFIED:20231215T174618Z
UID:10000349-1724259600-1724266800@vfwpost985.com
SUMMARY:Wednesday Nights
DESCRIPTION:Food Served 1700 – 1900 \nTreasure Chest Drawing 1850
URL:https://vfwpost985.com/event/wednesday-nights-5/2024-08-21/
LOCATION:Goshen VFW Post 985\, 1201 W. Pike Street\, Goshen\, IN\, 46526\, United States
CATEGORIES:Regular
ATTACH;FMTTYPE=image/png:https://vfwpost985.com/wp-content/uploads/2020/11/treasure-chest.png
END:VEVENT
BEGIN:VEVENT
DTSTART;TZID=America/New_York:20240820T170000
DTEND;TZID=America/New_York:20240820T190000
DTSTAMP:20260425T061826
CREATED:20231215T170932Z
LAST-MODIFIED:20231215T174710Z
UID:10000609-1724173200-1724180400@vfwpost985.com
SUMMARY:Tuesday Cheeseburger Special
DESCRIPTION:Looking for the perfect way to jazz up your Tuesday evenings? Look no further than our mouthwatering Cheeseburger Special at VFW Post 985! Sink your teeth into our juicy cheeseburgers served with a medley of fresh toppings and accompanied by your choice of crispy or curly fries (small upcharge).
URL:https://vfwpost985.com/event/tuesday-cheeseburger-special-5/2024-08-20/
LOCATION:Goshen VFW Post 985\, 1201 W. Pike Street\, Goshen\, IN\, 46526\, United States
CATEGORIES:Regular
ATTACH;FMTTYPE=image/jpeg:https://vfwpost985.com/wp-content/uploads/2020/11/burger-1140824_1920.jpg
END:VEVENT
BEGIN:VEVENT
DTSTART;TZID=America/New_York:20240819T170000
DTEND;TZID=America/New_York:20240819T190000
DTSTAMP:20260425T061826
CREATED:20231215T165922Z
LAST-MODIFIED:20231215T174855Z
UID:10000868-1724086800-1724094000@vfwpost985.com
SUMMARY:Chicken Wings Night!
DESCRIPTION:Join us every Monday for a finger-licking good time at VFW Post 985’s Wing Night! Indulge in various succulent wings prepared just the way you like them! Our talented cooks have perfected the art of creating the most mouthwatering wings that will leave you craving more.
URL:https://vfwpost985.com/event/chicken-wings-night-4/2024-08-19/
LOCATION:Goshen VFW Post 985\, 1201 W. Pike Street\, Goshen\, IN\, 46526\, United States
CATEGORIES:Regular
ATTACH;FMTTYPE=image/jpeg:https://vfwpost985.com/wp-content/uploads/2023/11/ChickenWingBasket-scaled.jpeg
END:VEVENT
BEGIN:VEVENT
DTSTART;TZID=America/New_York:20240815T170000
DTEND;TZID=America/New_York:20240815T193000
DTSTAMP:20260425T061826
CREATED:20231215T171651Z
LAST-MODIFIED:20231215T174520Z
UID:10000088-1723741200-1723750200@vfwpost985.com
SUMMARY:Euchre Night
DESCRIPTION:Attention all playing card enthusiasts and VFW members! We’re thrilled to announce the return of our beloved Euchre Night at VFW Post 985\, and it’s better than ever! \nEuchre Night is not just a card game; it’s a tradition that brings our community together for an evening of camaraderie\, laughter\, and friendly competition. Whether you’re a seasoned pro or a newcomer to the game\, we invite you to join us for a fantastic night of Euchre action.
URL:https://vfwpost985.com/event/euchre-night-5/2024-08-15/
LOCATION:Goshen VFW Post 985\, 1201 W. Pike Street\, Goshen\, IN\, 46526\, United States
CATEGORIES:Regular
ATTACH;FMTTYPE=image/jpeg:https://vfwpost985.com/wp-content/uploads/2023/09/euchre-night-1.jpg
END:VEVENT
BEGIN:VEVENT
DTSTART;TZID=America/New_York:20240814T170000
DTEND;TZID=America/New_York:20240814T190000
DTSTAMP:20260425T061826
CREATED:20231215T171222Z
LAST-MODIFIED:20231215T174618Z
UID:10000348-1723654800-1723662000@vfwpost985.com
SUMMARY:Wednesday Nights
DESCRIPTION:Food Served 1700 – 1900 \nTreasure Chest Drawing 1850
URL:https://vfwpost985.com/event/wednesday-nights-5/2024-08-14/
LOCATION:Goshen VFW Post 985\, 1201 W. Pike Street\, Goshen\, IN\, 46526\, United States
CATEGORIES:Regular
ATTACH;FMTTYPE=image/png:https://vfwpost985.com/wp-content/uploads/2020/11/treasure-chest.png
END:VEVENT
BEGIN:VEVENT
DTSTART;TZID=America/New_York:20240813T170000
DTEND;TZID=America/New_York:20240813T190000
DTSTAMP:20260425T061826
CREATED:20231215T170932Z
LAST-MODIFIED:20231215T174710Z
UID:10000608-1723568400-1723575600@vfwpost985.com
SUMMARY:Tuesday Cheeseburger Special
DESCRIPTION:Looking for the perfect way to jazz up your Tuesday evenings? Look no further than our mouthwatering Cheeseburger Special at VFW Post 985! Sink your teeth into our juicy cheeseburgers served with a medley of fresh toppings and accompanied by your choice of crispy or curly fries (small upcharge).
URL:https://vfwpost985.com/event/tuesday-cheeseburger-special-5/2024-08-13/
LOCATION:Goshen VFW Post 985\, 1201 W. Pike Street\, Goshen\, IN\, 46526\, United States
CATEGORIES:Regular
ATTACH;FMTTYPE=image/jpeg:https://vfwpost985.com/wp-content/uploads/2020/11/burger-1140824_1920.jpg
END:VEVENT
BEGIN:VEVENT
DTSTART;TZID=America/New_York:20240812T170000
DTEND;TZID=America/New_York:20240812T190000
DTSTAMP:20260425T061826
CREATED:20231215T165922Z
LAST-MODIFIED:20231215T174855Z
UID:10000867-1723482000-1723489200@vfwpost985.com
SUMMARY:Chicken Wings Night!
DESCRIPTION:Join us every Monday for a finger-licking good time at VFW Post 985’s Wing Night! Indulge in various succulent wings prepared just the way you like them! Our talented cooks have perfected the art of creating the most mouthwatering wings that will leave you craving more.
URL:https://vfwpost985.com/event/chicken-wings-night-4/2024-08-12/
LOCATION:Goshen VFW Post 985\, 1201 W. Pike Street\, Goshen\, IN\, 46526\, United States
CATEGORIES:Regular
ATTACH;FMTTYPE=image/jpeg:https://vfwpost985.com/wp-content/uploads/2023/11/ChickenWingBasket-scaled.jpeg
END:VEVENT
BEGIN:VEVENT
DTSTART;TZID=America/New_York:20240808T170000
DTEND;TZID=America/New_York:20240808T193000
DTSTAMP:20260425T061826
CREATED:20231215T171651Z
LAST-MODIFIED:20231215T174520Z
UID:10000087-1723136400-1723145400@vfwpost985.com
SUMMARY:Euchre Night
DESCRIPTION:Attention all playing card enthusiasts and VFW members! We’re thrilled to announce the return of our beloved Euchre Night at VFW Post 985\, and it’s better than ever! \nEuchre Night is not just a card game; it’s a tradition that brings our community together for an evening of camaraderie\, laughter\, and friendly competition. Whether you’re a seasoned pro or a newcomer to the game\, we invite you to join us for a fantastic night of Euchre action.
URL:https://vfwpost985.com/event/euchre-night-5/2024-08-08/
LOCATION:Goshen VFW Post 985\, 1201 W. Pike Street\, Goshen\, IN\, 46526\, United States
CATEGORIES:Regular
ATTACH;FMTTYPE=image/jpeg:https://vfwpost985.com/wp-content/uploads/2023/09/euchre-night-1.jpg
END:VEVENT
END:VCALENDAR