BEGIN:VCALENDAR
VERSION:2.0
PRODID:-//VFW Post 985 - ECPv6.15.17.1//NONSGML v1.0//EN
CALSCALE:GREGORIAN
METHOD:PUBLISH
X-WR-CALNAME:VFW Post 985
X-ORIGINAL-URL:https://vfwpost985.com
X-WR-CALDESC:Events for VFW Post 985
REFRESH-INTERVAL;VALUE=DURATION:PT1H
X-Robots-Tag:noindex
X-PUBLISHED-TTL:PT1H
BEGIN:VTIMEZONE
TZID:America/New_York
BEGIN:DAYLIGHT
TZOFFSETFROM:-0500
TZOFFSETTO:-0400
TZNAME:EDT
DTSTART:20230312T070000
END:DAYLIGHT
BEGIN:STANDARD
TZOFFSETFROM:-0400
TZOFFSETTO:-0500
TZNAME:EST
DTSTART:20231105T060000
END:STANDARD
BEGIN:DAYLIGHT
TZOFFSETFROM:-0500
TZOFFSETTO:-0400
TZNAME:EDT
DTSTART:20240310T070000
END:DAYLIGHT
BEGIN:STANDARD
TZOFFSETFROM:-0400
TZOFFSETTO:-0500
TZNAME:EST
DTSTART:20241103T060000
END:STANDARD
BEGIN:DAYLIGHT
TZOFFSETFROM:-0500
TZOFFSETTO:-0400
TZNAME:EDT
DTSTART:20250309T070000
END:DAYLIGHT
BEGIN:STANDARD
TZOFFSETFROM:-0400
TZOFFSETTO:-0500
TZNAME:EST
DTSTART:20251102T060000
END:STANDARD
END:VTIMEZONE
BEGIN:VEVENT
DTSTART;TZID=America/New_York:20241031T170000
DTEND;TZID=America/New_York:20241031T193000
DTSTAMP:20260425T065831
CREATED:20231215T171651Z
LAST-MODIFIED:20231215T174520Z
UID:10000099-1730394000-1730403000@vfwpost985.com
SUMMARY:Euchre Night
DESCRIPTION:Attention all playing card enthusiasts and VFW members! We’re thrilled to announce the return of our beloved Euchre Night at VFW Post 985\, and it’s better than ever! \nEuchre Night is not just a card game; it’s a tradition that brings our community together for an evening of camaraderie\, laughter\, and friendly competition. Whether you’re a seasoned pro or a newcomer to the game\, we invite you to join us for a fantastic night of Euchre action.
URL:https://vfwpost985.com/event/euchre-night-5/2024-10-31/
LOCATION:Goshen VFW Post 985\, 1201 W. Pike Street\, Goshen\, IN\, 46526\, United States
CATEGORIES:Regular
ATTACH;FMTTYPE=image/jpeg:https://vfwpost985.com/wp-content/uploads/2023/09/euchre-night-1.jpg
END:VEVENT
BEGIN:VEVENT
DTSTART;TZID=America/New_York:20241030T170000
DTEND;TZID=America/New_York:20241030T190000
DTSTAMP:20260425T065831
CREATED:20231215T171222Z
LAST-MODIFIED:20231215T174618Z
UID:10000359-1730307600-1730314800@vfwpost985.com
SUMMARY:Wednesday Nights
DESCRIPTION:Food Served 1700 – 1900 \nTreasure Chest Drawing 1850
URL:https://vfwpost985.com/event/wednesday-nights-5/2024-10-30/
LOCATION:Goshen VFW Post 985\, 1201 W. Pike Street\, Goshen\, IN\, 46526\, United States
CATEGORIES:Regular
ATTACH;FMTTYPE=image/png:https://vfwpost985.com/wp-content/uploads/2020/11/treasure-chest.png
END:VEVENT
BEGIN:VEVENT
DTSTART;TZID=America/New_York:20241029T170000
DTEND;TZID=America/New_York:20241029T190000
DTSTAMP:20260425T065831
CREATED:20231215T170932Z
LAST-MODIFIED:20231215T174710Z
UID:10000619-1730221200-1730228400@vfwpost985.com
SUMMARY:Tuesday Cheeseburger Special
DESCRIPTION:Looking for the perfect way to jazz up your Tuesday evenings? Look no further than our mouthwatering Cheeseburger Special at VFW Post 985! Sink your teeth into our juicy cheeseburgers served with a medley of fresh toppings and accompanied by your choice of crispy or curly fries (small upcharge).
URL:https://vfwpost985.com/event/tuesday-cheeseburger-special-5/2024-10-29/
LOCATION:Goshen VFW Post 985\, 1201 W. Pike Street\, Goshen\, IN\, 46526\, United States
CATEGORIES:Regular
ATTACH;FMTTYPE=image/jpeg:https://vfwpost985.com/wp-content/uploads/2020/11/burger-1140824_1920.jpg
END:VEVENT
BEGIN:VEVENT
DTSTART;TZID=America/New_York:20241028T170000
DTEND;TZID=America/New_York:20241028T190000
DTSTAMP:20260425T065831
CREATED:20231215T165922Z
LAST-MODIFIED:20231215T174855Z
UID:10000878-1730134800-1730142000@vfwpost985.com
SUMMARY:Chicken Wings Night!
DESCRIPTION:Join us every Monday for a finger-licking good time at VFW Post 985’s Wing Night! Indulge in various succulent wings prepared just the way you like them! Our talented cooks have perfected the art of creating the most mouthwatering wings that will leave you craving more.
URL:https://vfwpost985.com/event/chicken-wings-night-4/2024-10-28/
LOCATION:Goshen VFW Post 985\, 1201 W. Pike Street\, Goshen\, IN\, 46526\, United States
CATEGORIES:Regular
ATTACH;FMTTYPE=image/jpeg:https://vfwpost985.com/wp-content/uploads/2023/11/ChickenWingBasket-scaled.jpeg
END:VEVENT
BEGIN:VEVENT
DTSTART;TZID=America/New_York:20241024T170000
DTEND;TZID=America/New_York:20241024T193000
DTSTAMP:20260425T065831
CREATED:20231215T171651Z
LAST-MODIFIED:20231215T174520Z
UID:10000098-1729789200-1729798200@vfwpost985.com
SUMMARY:Euchre Night
DESCRIPTION:Attention all playing card enthusiasts and VFW members! We’re thrilled to announce the return of our beloved Euchre Night at VFW Post 985\, and it’s better than ever! \nEuchre Night is not just a card game; it’s a tradition that brings our community together for an evening of camaraderie\, laughter\, and friendly competition. Whether you’re a seasoned pro or a newcomer to the game\, we invite you to join us for a fantastic night of Euchre action.
URL:https://vfwpost985.com/event/euchre-night-5/2024-10-24/
LOCATION:Goshen VFW Post 985\, 1201 W. Pike Street\, Goshen\, IN\, 46526\, United States
CATEGORIES:Regular
ATTACH;FMTTYPE=image/jpeg:https://vfwpost985.com/wp-content/uploads/2023/09/euchre-night-1.jpg
END:VEVENT
BEGIN:VEVENT
DTSTART;TZID=America/New_York:20241023T170000
DTEND;TZID=America/New_York:20241023T190000
DTSTAMP:20260425T065831
CREATED:20231215T171222Z
LAST-MODIFIED:20231215T174618Z
UID:10000358-1729702800-1729710000@vfwpost985.com
SUMMARY:Wednesday Nights
DESCRIPTION:Food Served 1700 – 1900 \nTreasure Chest Drawing 1850
URL:https://vfwpost985.com/event/wednesday-nights-5/2024-10-23/
LOCATION:Goshen VFW Post 985\, 1201 W. Pike Street\, Goshen\, IN\, 46526\, United States
CATEGORIES:Regular
ATTACH;FMTTYPE=image/png:https://vfwpost985.com/wp-content/uploads/2020/11/treasure-chest.png
END:VEVENT
BEGIN:VEVENT
DTSTART;TZID=America/New_York:20241022T170000
DTEND;TZID=America/New_York:20241022T190000
DTSTAMP:20260425T065831
CREATED:20231215T170932Z
LAST-MODIFIED:20231215T174710Z
UID:10000618-1729616400-1729623600@vfwpost985.com
SUMMARY:Tuesday Cheeseburger Special
DESCRIPTION:Looking for the perfect way to jazz up your Tuesday evenings? Look no further than our mouthwatering Cheeseburger Special at VFW Post 985! Sink your teeth into our juicy cheeseburgers served with a medley of fresh toppings and accompanied by your choice of crispy or curly fries (small upcharge).
URL:https://vfwpost985.com/event/tuesday-cheeseburger-special-5/2024-10-22/
LOCATION:Goshen VFW Post 985\, 1201 W. Pike Street\, Goshen\, IN\, 46526\, United States
CATEGORIES:Regular
ATTACH;FMTTYPE=image/jpeg:https://vfwpost985.com/wp-content/uploads/2020/11/burger-1140824_1920.jpg
END:VEVENT
BEGIN:VEVENT
DTSTART;TZID=America/New_York:20241021T170000
DTEND;TZID=America/New_York:20241021T190000
DTSTAMP:20260425T065831
CREATED:20231215T165922Z
LAST-MODIFIED:20231215T174855Z
UID:10000877-1729530000-1729537200@vfwpost985.com
SUMMARY:Chicken Wings Night!
DESCRIPTION:Join us every Monday for a finger-licking good time at VFW Post 985’s Wing Night! Indulge in various succulent wings prepared just the way you like them! Our talented cooks have perfected the art of creating the most mouthwatering wings that will leave you craving more.
URL:https://vfwpost985.com/event/chicken-wings-night-4/2024-10-21/
LOCATION:Goshen VFW Post 985\, 1201 W. Pike Street\, Goshen\, IN\, 46526\, United States
CATEGORIES:Regular
ATTACH;FMTTYPE=image/jpeg:https://vfwpost985.com/wp-content/uploads/2023/11/ChickenWingBasket-scaled.jpeg
END:VEVENT
BEGIN:VEVENT
DTSTART;TZID=America/New_York:20241017T170000
DTEND;TZID=America/New_York:20241017T193000
DTSTAMP:20260425T065831
CREATED:20231215T171651Z
LAST-MODIFIED:20231215T174520Z
UID:10000097-1729184400-1729193400@vfwpost985.com
SUMMARY:Euchre Night
DESCRIPTION:Attention all playing card enthusiasts and VFW members! We’re thrilled to announce the return of our beloved Euchre Night at VFW Post 985\, and it’s better than ever! \nEuchre Night is not just a card game; it’s a tradition that brings our community together for an evening of camaraderie\, laughter\, and friendly competition. Whether you’re a seasoned pro or a newcomer to the game\, we invite you to join us for a fantastic night of Euchre action.
URL:https://vfwpost985.com/event/euchre-night-5/2024-10-17/
LOCATION:Goshen VFW Post 985\, 1201 W. Pike Street\, Goshen\, IN\, 46526\, United States
CATEGORIES:Regular
ATTACH;FMTTYPE=image/jpeg:https://vfwpost985.com/wp-content/uploads/2023/09/euchre-night-1.jpg
END:VEVENT
BEGIN:VEVENT
DTSTART;TZID=America/New_York:20241016T170000
DTEND;TZID=America/New_York:20241016T190000
DTSTAMP:20260425T065831
CREATED:20231215T171222Z
LAST-MODIFIED:20231215T174618Z
UID:10000357-1729098000-1729105200@vfwpost985.com
SUMMARY:Wednesday Nights
DESCRIPTION:Food Served 1700 – 1900 \nTreasure Chest Drawing 1850
URL:https://vfwpost985.com/event/wednesday-nights-5/2024-10-16/
LOCATION:Goshen VFW Post 985\, 1201 W. Pike Street\, Goshen\, IN\, 46526\, United States
CATEGORIES:Regular
ATTACH;FMTTYPE=image/png:https://vfwpost985.com/wp-content/uploads/2020/11/treasure-chest.png
END:VEVENT
BEGIN:VEVENT
DTSTART;TZID=America/New_York:20241015T170000
DTEND;TZID=America/New_York:20241015T190000
DTSTAMP:20260425T065831
CREATED:20231215T170932Z
LAST-MODIFIED:20231215T174710Z
UID:10000617-1729011600-1729018800@vfwpost985.com
SUMMARY:Tuesday Cheeseburger Special
DESCRIPTION:Looking for the perfect way to jazz up your Tuesday evenings? Look no further than our mouthwatering Cheeseburger Special at VFW Post 985! Sink your teeth into our juicy cheeseburgers served with a medley of fresh toppings and accompanied by your choice of crispy or curly fries (small upcharge).
URL:https://vfwpost985.com/event/tuesday-cheeseburger-special-5/2024-10-15/
LOCATION:Goshen VFW Post 985\, 1201 W. Pike Street\, Goshen\, IN\, 46526\, United States
CATEGORIES:Regular
ATTACH;FMTTYPE=image/jpeg:https://vfwpost985.com/wp-content/uploads/2020/11/burger-1140824_1920.jpg
END:VEVENT
BEGIN:VEVENT
DTSTART;TZID=America/New_York:20241014T170000
DTEND;TZID=America/New_York:20241014T190000
DTSTAMP:20260425T065831
CREATED:20231215T165922Z
LAST-MODIFIED:20231215T174855Z
UID:10000876-1728925200-1728932400@vfwpost985.com
SUMMARY:Chicken Wings Night!
DESCRIPTION:Join us every Monday for a finger-licking good time at VFW Post 985’s Wing Night! Indulge in various succulent wings prepared just the way you like them! Our talented cooks have perfected the art of creating the most mouthwatering wings that will leave you craving more.
URL:https://vfwpost985.com/event/chicken-wings-night-4/2024-10-14/
LOCATION:Goshen VFW Post 985\, 1201 W. Pike Street\, Goshen\, IN\, 46526\, United States
CATEGORIES:Regular
ATTACH;FMTTYPE=image/jpeg:https://vfwpost985.com/wp-content/uploads/2023/11/ChickenWingBasket-scaled.jpeg
END:VEVENT
BEGIN:VEVENT
DTSTART;TZID=America/New_York:20241010T170000
DTEND;TZID=America/New_York:20241010T193000
DTSTAMP:20260425T065831
CREATED:20231215T171651Z
LAST-MODIFIED:20231215T174520Z
UID:10000096-1728579600-1728588600@vfwpost985.com
SUMMARY:Euchre Night
DESCRIPTION:Attention all playing card enthusiasts and VFW members! We’re thrilled to announce the return of our beloved Euchre Night at VFW Post 985\, and it’s better than ever! \nEuchre Night is not just a card game; it’s a tradition that brings our community together for an evening of camaraderie\, laughter\, and friendly competition. Whether you’re a seasoned pro or a newcomer to the game\, we invite you to join us for a fantastic night of Euchre action.
URL:https://vfwpost985.com/event/euchre-night-5/2024-10-10/
LOCATION:Goshen VFW Post 985\, 1201 W. Pike Street\, Goshen\, IN\, 46526\, United States
CATEGORIES:Regular
ATTACH;FMTTYPE=image/jpeg:https://vfwpost985.com/wp-content/uploads/2023/09/euchre-night-1.jpg
END:VEVENT
BEGIN:VEVENT
DTSTART;TZID=America/New_York:20241009T170000
DTEND;TZID=America/New_York:20241009T190000
DTSTAMP:20260425T065831
CREATED:20231215T171222Z
LAST-MODIFIED:20231215T174618Z
UID:10000356-1728493200-1728500400@vfwpost985.com
SUMMARY:Wednesday Nights
DESCRIPTION:Food Served 1700 – 1900 \nTreasure Chest Drawing 1850
URL:https://vfwpost985.com/event/wednesday-nights-5/2024-10-09/
LOCATION:Goshen VFW Post 985\, 1201 W. Pike Street\, Goshen\, IN\, 46526\, United States
CATEGORIES:Regular
ATTACH;FMTTYPE=image/png:https://vfwpost985.com/wp-content/uploads/2020/11/treasure-chest.png
END:VEVENT
BEGIN:VEVENT
DTSTART;TZID=America/New_York:20241008T170000
DTEND;TZID=America/New_York:20241008T190000
DTSTAMP:20260425T065831
CREATED:20231215T170932Z
LAST-MODIFIED:20231215T174710Z
UID:10000616-1728406800-1728414000@vfwpost985.com
SUMMARY:Tuesday Cheeseburger Special
DESCRIPTION:Looking for the perfect way to jazz up your Tuesday evenings? Look no further than our mouthwatering Cheeseburger Special at VFW Post 985! Sink your teeth into our juicy cheeseburgers served with a medley of fresh toppings and accompanied by your choice of crispy or curly fries (small upcharge).
URL:https://vfwpost985.com/event/tuesday-cheeseburger-special-5/2024-10-08/
LOCATION:Goshen VFW Post 985\, 1201 W. Pike Street\, Goshen\, IN\, 46526\, United States
CATEGORIES:Regular
ATTACH;FMTTYPE=image/jpeg:https://vfwpost985.com/wp-content/uploads/2020/11/burger-1140824_1920.jpg
END:VEVENT
BEGIN:VEVENT
DTSTART;TZID=America/New_York:20241007T170000
DTEND;TZID=America/New_York:20241007T190000
DTSTAMP:20260425T065831
CREATED:20231215T165922Z
LAST-MODIFIED:20231215T174855Z
UID:10000875-1728320400-1728327600@vfwpost985.com
SUMMARY:Chicken Wings Night!
DESCRIPTION:Join us every Monday for a finger-licking good time at VFW Post 985’s Wing Night! Indulge in various succulent wings prepared just the way you like them! Our talented cooks have perfected the art of creating the most mouthwatering wings that will leave you craving more.
URL:https://vfwpost985.com/event/chicken-wings-night-4/2024-10-07/
LOCATION:Goshen VFW Post 985\, 1201 W. Pike Street\, Goshen\, IN\, 46526\, United States
CATEGORIES:Regular
ATTACH;FMTTYPE=image/jpeg:https://vfwpost985.com/wp-content/uploads/2023/11/ChickenWingBasket-scaled.jpeg
END:VEVENT
BEGIN:VEVENT
DTSTART;TZID=America/New_York:20241003T170000
DTEND;TZID=America/New_York:20241003T193000
DTSTAMP:20260425T065831
CREATED:20231215T171651Z
LAST-MODIFIED:20231215T174520Z
UID:10000095-1727974800-1727983800@vfwpost985.com
SUMMARY:Euchre Night
DESCRIPTION:Attention all playing card enthusiasts and VFW members! We’re thrilled to announce the return of our beloved Euchre Night at VFW Post 985\, and it’s better than ever! \nEuchre Night is not just a card game; it’s a tradition that brings our community together for an evening of camaraderie\, laughter\, and friendly competition. Whether you’re a seasoned pro or a newcomer to the game\, we invite you to join us for a fantastic night of Euchre action.
URL:https://vfwpost985.com/event/euchre-night-5/2024-10-03/
LOCATION:Goshen VFW Post 985\, 1201 W. Pike Street\, Goshen\, IN\, 46526\, United States
CATEGORIES:Regular
ATTACH;FMTTYPE=image/jpeg:https://vfwpost985.com/wp-content/uploads/2023/09/euchre-night-1.jpg
END:VEVENT
BEGIN:VEVENT
DTSTART;TZID=America/New_York:20241002T170000
DTEND;TZID=America/New_York:20241002T190000
DTSTAMP:20260425T065831
CREATED:20231215T171222Z
LAST-MODIFIED:20231215T174618Z
UID:10000355-1727888400-1727895600@vfwpost985.com
SUMMARY:Wednesday Nights
DESCRIPTION:Food Served 1700 – 1900 \nTreasure Chest Drawing 1850
URL:https://vfwpost985.com/event/wednesday-nights-5/2024-10-02/
LOCATION:Goshen VFW Post 985\, 1201 W. Pike Street\, Goshen\, IN\, 46526\, United States
CATEGORIES:Regular
ATTACH;FMTTYPE=image/png:https://vfwpost985.com/wp-content/uploads/2020/11/treasure-chest.png
END:VEVENT
BEGIN:VEVENT
DTSTART;TZID=America/New_York:20241001T170000
DTEND;TZID=America/New_York:20241001T190000
DTSTAMP:20260425T065832
CREATED:20231215T170932Z
LAST-MODIFIED:20231215T174710Z
UID:10000615-1727802000-1727809200@vfwpost985.com
SUMMARY:Tuesday Cheeseburger Special
DESCRIPTION:Looking for the perfect way to jazz up your Tuesday evenings? Look no further than our mouthwatering Cheeseburger Special at VFW Post 985! Sink your teeth into our juicy cheeseburgers served with a medley of fresh toppings and accompanied by your choice of crispy or curly fries (small upcharge).
URL:https://vfwpost985.com/event/tuesday-cheeseburger-special-5/2024-10-01/
LOCATION:Goshen VFW Post 985\, 1201 W. Pike Street\, Goshen\, IN\, 46526\, United States
CATEGORIES:Regular
ATTACH;FMTTYPE=image/jpeg:https://vfwpost985.com/wp-content/uploads/2020/11/burger-1140824_1920.jpg
END:VEVENT
BEGIN:VEVENT
DTSTART;TZID=America/New_York:20240930T170000
DTEND;TZID=America/New_York:20240930T190000
DTSTAMP:20260425T065832
CREATED:20231215T165922Z
LAST-MODIFIED:20231215T174855Z
UID:10000874-1727715600-1727722800@vfwpost985.com
SUMMARY:Chicken Wings Night!
DESCRIPTION:Join us every Monday for a finger-licking good time at VFW Post 985’s Wing Night! Indulge in various succulent wings prepared just the way you like them! Our talented cooks have perfected the art of creating the most mouthwatering wings that will leave you craving more.
URL:https://vfwpost985.com/event/chicken-wings-night-4/2024-09-30/
LOCATION:Goshen VFW Post 985\, 1201 W. Pike Street\, Goshen\, IN\, 46526\, United States
CATEGORIES:Regular
ATTACH;FMTTYPE=image/jpeg:https://vfwpost985.com/wp-content/uploads/2023/11/ChickenWingBasket-scaled.jpeg
END:VEVENT
BEGIN:VEVENT
DTSTART;TZID=America/New_York:20240926T170000
DTEND;TZID=America/New_York:20240926T193000
DTSTAMP:20260425T065832
CREATED:20231215T171651Z
LAST-MODIFIED:20231215T174520Z
UID:10000094-1727370000-1727379000@vfwpost985.com
SUMMARY:Euchre Night
DESCRIPTION:Attention all playing card enthusiasts and VFW members! We’re thrilled to announce the return of our beloved Euchre Night at VFW Post 985\, and it’s better than ever! \nEuchre Night is not just a card game; it’s a tradition that brings our community together for an evening of camaraderie\, laughter\, and friendly competition. Whether you’re a seasoned pro or a newcomer to the game\, we invite you to join us for a fantastic night of Euchre action.
URL:https://vfwpost985.com/event/euchre-night-5/2024-09-26/
LOCATION:Goshen VFW Post 985\, 1201 W. Pike Street\, Goshen\, IN\, 46526\, United States
CATEGORIES:Regular
ATTACH;FMTTYPE=image/jpeg:https://vfwpost985.com/wp-content/uploads/2023/09/euchre-night-1.jpg
END:VEVENT
BEGIN:VEVENT
DTSTART;TZID=America/New_York:20240925T170000
DTEND;TZID=America/New_York:20240925T190000
DTSTAMP:20260425T065832
CREATED:20231215T171222Z
LAST-MODIFIED:20231215T174618Z
UID:10000354-1727283600-1727290800@vfwpost985.com
SUMMARY:Wednesday Nights
DESCRIPTION:Food Served 1700 – 1900 \nTreasure Chest Drawing 1850
URL:https://vfwpost985.com/event/wednesday-nights-5/2024-09-25/
LOCATION:Goshen VFW Post 985\, 1201 W. Pike Street\, Goshen\, IN\, 46526\, United States
CATEGORIES:Regular
ATTACH;FMTTYPE=image/png:https://vfwpost985.com/wp-content/uploads/2020/11/treasure-chest.png
END:VEVENT
BEGIN:VEVENT
DTSTART;TZID=America/New_York:20240924T170000
DTEND;TZID=America/New_York:20240924T190000
DTSTAMP:20260425T065832
CREATED:20231215T170932Z
LAST-MODIFIED:20231215T174710Z
UID:10000614-1727197200-1727204400@vfwpost985.com
SUMMARY:Tuesday Cheeseburger Special
DESCRIPTION:Looking for the perfect way to jazz up your Tuesday evenings? Look no further than our mouthwatering Cheeseburger Special at VFW Post 985! Sink your teeth into our juicy cheeseburgers served with a medley of fresh toppings and accompanied by your choice of crispy or curly fries (small upcharge).
URL:https://vfwpost985.com/event/tuesday-cheeseburger-special-5/2024-09-24/
LOCATION:Goshen VFW Post 985\, 1201 W. Pike Street\, Goshen\, IN\, 46526\, United States
CATEGORIES:Regular
ATTACH;FMTTYPE=image/jpeg:https://vfwpost985.com/wp-content/uploads/2020/11/burger-1140824_1920.jpg
END:VEVENT
BEGIN:VEVENT
DTSTART;TZID=America/New_York:20240923T170000
DTEND;TZID=America/New_York:20240923T190000
DTSTAMP:20260425T065832
CREATED:20231215T165922Z
LAST-MODIFIED:20231215T174855Z
UID:10000873-1727110800-1727118000@vfwpost985.com
SUMMARY:Chicken Wings Night!
DESCRIPTION:Join us every Monday for a finger-licking good time at VFW Post 985’s Wing Night! Indulge in various succulent wings prepared just the way you like them! Our talented cooks have perfected the art of creating the most mouthwatering wings that will leave you craving more.
URL:https://vfwpost985.com/event/chicken-wings-night-4/2024-09-23/
LOCATION:Goshen VFW Post 985\, 1201 W. Pike Street\, Goshen\, IN\, 46526\, United States
CATEGORIES:Regular
ATTACH;FMTTYPE=image/jpeg:https://vfwpost985.com/wp-content/uploads/2023/11/ChickenWingBasket-scaled.jpeg
END:VEVENT
BEGIN:VEVENT
DTSTART;TZID=America/New_York:20240919T170000
DTEND;TZID=America/New_York:20240919T193000
DTSTAMP:20260425T065832
CREATED:20231215T171651Z
LAST-MODIFIED:20231215T174520Z
UID:10000093-1726765200-1726774200@vfwpost985.com
SUMMARY:Euchre Night
DESCRIPTION:Attention all playing card enthusiasts and VFW members! We’re thrilled to announce the return of our beloved Euchre Night at VFW Post 985\, and it’s better than ever! \nEuchre Night is not just a card game; it’s a tradition that brings our community together for an evening of camaraderie\, laughter\, and friendly competition. Whether you’re a seasoned pro or a newcomer to the game\, we invite you to join us for a fantastic night of Euchre action.
URL:https://vfwpost985.com/event/euchre-night-5/2024-09-19/
LOCATION:Goshen VFW Post 985\, 1201 W. Pike Street\, Goshen\, IN\, 46526\, United States
CATEGORIES:Regular
ATTACH;FMTTYPE=image/jpeg:https://vfwpost985.com/wp-content/uploads/2023/09/euchre-night-1.jpg
END:VEVENT
BEGIN:VEVENT
DTSTART;TZID=America/New_York:20240918T170000
DTEND;TZID=America/New_York:20240918T190000
DTSTAMP:20260425T065832
CREATED:20231215T171222Z
LAST-MODIFIED:20231215T174618Z
UID:10000353-1726678800-1726686000@vfwpost985.com
SUMMARY:Wednesday Nights
DESCRIPTION:Food Served 1700 – 1900 \nTreasure Chest Drawing 1850
URL:https://vfwpost985.com/event/wednesday-nights-5/2024-09-18/
LOCATION:Goshen VFW Post 985\, 1201 W. Pike Street\, Goshen\, IN\, 46526\, United States
CATEGORIES:Regular
ATTACH;FMTTYPE=image/png:https://vfwpost985.com/wp-content/uploads/2020/11/treasure-chest.png
END:VEVENT
BEGIN:VEVENT
DTSTART;TZID=America/New_York:20240917T170000
DTEND;TZID=America/New_York:20240917T190000
DTSTAMP:20260425T065832
CREATED:20231215T170932Z
LAST-MODIFIED:20231215T174710Z
UID:10000613-1726592400-1726599600@vfwpost985.com
SUMMARY:Tuesday Cheeseburger Special
DESCRIPTION:Looking for the perfect way to jazz up your Tuesday evenings? Look no further than our mouthwatering Cheeseburger Special at VFW Post 985! Sink your teeth into our juicy cheeseburgers served with a medley of fresh toppings and accompanied by your choice of crispy or curly fries (small upcharge).
URL:https://vfwpost985.com/event/tuesday-cheeseburger-special-5/2024-09-17/
LOCATION:Goshen VFW Post 985\, 1201 W. Pike Street\, Goshen\, IN\, 46526\, United States
CATEGORIES:Regular
ATTACH;FMTTYPE=image/jpeg:https://vfwpost985.com/wp-content/uploads/2020/11/burger-1140824_1920.jpg
END:VEVENT
BEGIN:VEVENT
DTSTART;TZID=America/New_York:20240916T170000
DTEND;TZID=America/New_York:20240916T190000
DTSTAMP:20260425T065832
CREATED:20231215T165922Z
LAST-MODIFIED:20231215T174855Z
UID:10000872-1726506000-1726513200@vfwpost985.com
SUMMARY:Chicken Wings Night!
DESCRIPTION:Join us every Monday for a finger-licking good time at VFW Post 985’s Wing Night! Indulge in various succulent wings prepared just the way you like them! Our talented cooks have perfected the art of creating the most mouthwatering wings that will leave you craving more.
URL:https://vfwpost985.com/event/chicken-wings-night-4/2024-09-16/
LOCATION:Goshen VFW Post 985\, 1201 W. Pike Street\, Goshen\, IN\, 46526\, United States
CATEGORIES:Regular
ATTACH;FMTTYPE=image/jpeg:https://vfwpost985.com/wp-content/uploads/2023/11/ChickenWingBasket-scaled.jpeg
END:VEVENT
BEGIN:VEVENT
DTSTART;TZID=America/New_York:20240912T170000
DTEND;TZID=America/New_York:20240912T193000
DTSTAMP:20260425T065832
CREATED:20231215T171651Z
LAST-MODIFIED:20231215T174520Z
UID:10000092-1726160400-1726169400@vfwpost985.com
SUMMARY:Euchre Night
DESCRIPTION:Attention all playing card enthusiasts and VFW members! We’re thrilled to announce the return of our beloved Euchre Night at VFW Post 985\, and it’s better than ever! \nEuchre Night is not just a card game; it’s a tradition that brings our community together for an evening of camaraderie\, laughter\, and friendly competition. Whether you’re a seasoned pro or a newcomer to the game\, we invite you to join us for a fantastic night of Euchre action.
URL:https://vfwpost985.com/event/euchre-night-5/2024-09-12/
LOCATION:Goshen VFW Post 985\, 1201 W. Pike Street\, Goshen\, IN\, 46526\, United States
CATEGORIES:Regular
ATTACH;FMTTYPE=image/jpeg:https://vfwpost985.com/wp-content/uploads/2023/09/euchre-night-1.jpg
END:VEVENT
BEGIN:VEVENT
DTSTART;TZID=America/New_York:20240911T170000
DTEND;TZID=America/New_York:20240911T190000
DTSTAMP:20260425T065832
CREATED:20231215T171222Z
LAST-MODIFIED:20231215T174618Z
UID:10000352-1726074000-1726081200@vfwpost985.com
SUMMARY:Wednesday Nights
DESCRIPTION:Food Served 1700 – 1900 \nTreasure Chest Drawing 1850
URL:https://vfwpost985.com/event/wednesday-nights-5/2024-09-11/
LOCATION:Goshen VFW Post 985\, 1201 W. Pike Street\, Goshen\, IN\, 46526\, United States
CATEGORIES:Regular
ATTACH;FMTTYPE=image/png:https://vfwpost985.com/wp-content/uploads/2020/11/treasure-chest.png
END:VEVENT
END:VCALENDAR