BEGIN:VCALENDAR
VERSION:2.0
PRODID:-//VFW Post 985 - ECPv6.15.17.1//NONSGML v1.0//EN
CALSCALE:GREGORIAN
METHOD:PUBLISH
X-ORIGINAL-URL:https://vfwpost985.com
X-WR-CALDESC:Events for VFW Post 985
REFRESH-INTERVAL;VALUE=DURATION:PT1H
X-Robots-Tag:noindex
X-PUBLISHED-TTL:PT1H
BEGIN:VTIMEZONE
TZID:America/New_York
BEGIN:DAYLIGHT
TZOFFSETFROM:-0500
TZOFFSETTO:-0400
TZNAME:EDT
DTSTART:20250309T070000
END:DAYLIGHT
BEGIN:STANDARD
TZOFFSETFROM:-0400
TZOFFSETTO:-0500
TZNAME:EST
DTSTART:20251102T060000
END:STANDARD
BEGIN:DAYLIGHT
TZOFFSETFROM:-0500
TZOFFSETTO:-0400
TZNAME:EDT
DTSTART:20260308T070000
END:DAYLIGHT
BEGIN:STANDARD
TZOFFSETFROM:-0400
TZOFFSETTO:-0500
TZNAME:EST
DTSTART:20261101T060000
END:STANDARD
BEGIN:DAYLIGHT
TZOFFSETFROM:-0500
TZOFFSETTO:-0400
TZNAME:EDT
DTSTART:20270314T070000
END:DAYLIGHT
BEGIN:STANDARD
TZOFFSETFROM:-0400
TZOFFSETTO:-0500
TZNAME:EST
DTSTART:20271107T060000
END:STANDARD
END:VTIMEZONE
BEGIN:VEVENT
DTSTART;TZID=America/New_York:20260223T170000
DTEND;TZID=America/New_York:20260223T190000
DTSTAMP:20260423T165750
CREATED:20231215T165922Z
LAST-MODIFIED:20231215T174855Z
UID:10000947-1771866000-1771873200@vfwpost985.com
SUMMARY:Chicken Wings Night!
DESCRIPTION:Join us every Monday for a finger-licking good time at VFW Post 985’s Wing Night! Indulge in various succulent wings prepared just the way you like them! Our talented cooks have perfected the art of creating the most mouthwatering wings that will leave you craving more.
URL:https://vfwpost985.com/event/chicken-wings-night-4/2026-02-23/
LOCATION:Goshen VFW Post 985\, 1201 W. Pike Street\, Goshen\, IN\, 46526\, United States
CATEGORIES:Regular
ATTACH;FMTTYPE=image/jpeg:https://vfwpost985.com/wp-content/uploads/2023/11/ChickenWingBasket-scaled.jpeg
END:VEVENT
BEGIN:VEVENT
DTSTART;TZID=America/New_York:20260224T170000
DTEND;TZID=America/New_York:20260224T190000
DTSTAMP:20260423T165750
CREATED:20231215T170932Z
LAST-MODIFIED:20231215T174710Z
UID:10000688-1771952400-1771959600@vfwpost985.com
SUMMARY:Tuesday Cheeseburger Special
DESCRIPTION:Looking for the perfect way to jazz up your Tuesday evenings? Look no further than our mouthwatering Cheeseburger Special at VFW Post 985! Sink your teeth into our juicy cheeseburgers served with a medley of fresh toppings and accompanied by your choice of crispy or curly fries (small upcharge).
URL:https://vfwpost985.com/event/tuesday-cheeseburger-special-5/2026-02-24/
LOCATION:Goshen VFW Post 985\, 1201 W. Pike Street\, Goshen\, IN\, 46526\, United States
CATEGORIES:Regular
ATTACH;FMTTYPE=image/jpeg:https://vfwpost985.com/wp-content/uploads/2020/11/burger-1140824_1920.jpg
END:VEVENT
BEGIN:VEVENT
DTSTART;TZID=America/New_York:20260225T170000
DTEND;TZID=America/New_York:20260225T190000
DTSTAMP:20260423T165750
CREATED:20231215T171222Z
LAST-MODIFIED:20231215T174618Z
UID:10000428-1772038800-1772046000@vfwpost985.com
SUMMARY:Wednesday Nights
DESCRIPTION:Food Served 1700 – 1900 \nTreasure Chest Drawing 1850
URL:https://vfwpost985.com/event/wednesday-nights-5/2026-02-25/
LOCATION:Goshen VFW Post 985\, 1201 W. Pike Street\, Goshen\, IN\, 46526\, United States
CATEGORIES:Regular
ATTACH;FMTTYPE=image/png:https://vfwpost985.com/wp-content/uploads/2020/11/treasure-chest.png
END:VEVENT
BEGIN:VEVENT
DTSTART;TZID=America/New_York:20260226T170000
DTEND;TZID=America/New_York:20260226T193000
DTSTAMP:20260423T165750
CREATED:20231215T171651Z
LAST-MODIFIED:20231215T174520Z
UID:10000168-1772125200-1772134200@vfwpost985.com
SUMMARY:Euchre Night
DESCRIPTION:Attention all playing card enthusiasts and VFW members! We’re thrilled to announce the return of our beloved Euchre Night at VFW Post 985\, and it’s better than ever! \nEuchre Night is not just a card game; it’s a tradition that brings our community together for an evening of camaraderie\, laughter\, and friendly competition. Whether you’re a seasoned pro or a newcomer to the game\, we invite you to join us for a fantastic night of Euchre action.
URL:https://vfwpost985.com/event/euchre-night-5/2026-02-26/
LOCATION:Goshen VFW Post 985\, 1201 W. Pike Street\, Goshen\, IN\, 46526\, United States
CATEGORIES:Regular
ATTACH;FMTTYPE=image/jpeg:https://vfwpost985.com/wp-content/uploads/2023/09/euchre-night-1.jpg
END:VEVENT
BEGIN:VEVENT
DTSTART;TZID=America/New_York:20260302T170000
DTEND;TZID=America/New_York:20260302T190000
DTSTAMP:20260423T165750
CREATED:20231215T165922Z
LAST-MODIFIED:20231215T174855Z
UID:10000948-1772470800-1772478000@vfwpost985.com
SUMMARY:Chicken Wings Night!
DESCRIPTION:Join us every Monday for a finger-licking good time at VFW Post 985’s Wing Night! Indulge in various succulent wings prepared just the way you like them! Our talented cooks have perfected the art of creating the most mouthwatering wings that will leave you craving more.
URL:https://vfwpost985.com/event/chicken-wings-night-4/2026-03-02/
LOCATION:Goshen VFW Post 985\, 1201 W. Pike Street\, Goshen\, IN\, 46526\, United States
CATEGORIES:Regular
ATTACH;FMTTYPE=image/jpeg:https://vfwpost985.com/wp-content/uploads/2023/11/ChickenWingBasket-scaled.jpeg
END:VEVENT
BEGIN:VEVENT
DTSTART;TZID=America/New_York:20260303T170000
DTEND;TZID=America/New_York:20260303T190000
DTSTAMP:20260423T165750
CREATED:20231215T170932Z
LAST-MODIFIED:20231215T174710Z
UID:10000689-1772557200-1772564400@vfwpost985.com
SUMMARY:Tuesday Cheeseburger Special
DESCRIPTION:Looking for the perfect way to jazz up your Tuesday evenings? Look no further than our mouthwatering Cheeseburger Special at VFW Post 985! Sink your teeth into our juicy cheeseburgers served with a medley of fresh toppings and accompanied by your choice of crispy or curly fries (small upcharge).
URL:https://vfwpost985.com/event/tuesday-cheeseburger-special-5/2026-03-03/
LOCATION:Goshen VFW Post 985\, 1201 W. Pike Street\, Goshen\, IN\, 46526\, United States
CATEGORIES:Regular
ATTACH;FMTTYPE=image/jpeg:https://vfwpost985.com/wp-content/uploads/2020/11/burger-1140824_1920.jpg
END:VEVENT
BEGIN:VEVENT
DTSTART;TZID=America/New_York:20260304T170000
DTEND;TZID=America/New_York:20260304T190000
DTSTAMP:20260423T165750
CREATED:20231215T171222Z
LAST-MODIFIED:20231215T174618Z
UID:10000429-1772643600-1772650800@vfwpost985.com
SUMMARY:Wednesday Nights
DESCRIPTION:Food Served 1700 – 1900 \nTreasure Chest Drawing 1850
URL:https://vfwpost985.com/event/wednesday-nights-5/2026-03-04/
LOCATION:Goshen VFW Post 985\, 1201 W. Pike Street\, Goshen\, IN\, 46526\, United States
CATEGORIES:Regular
ATTACH;FMTTYPE=image/png:https://vfwpost985.com/wp-content/uploads/2020/11/treasure-chest.png
END:VEVENT
BEGIN:VEVENT
DTSTART;TZID=America/New_York:20260305T170000
DTEND;TZID=America/New_York:20260305T193000
DTSTAMP:20260423T165750
CREATED:20231215T171651Z
LAST-MODIFIED:20231215T174520Z
UID:10000169-1772730000-1772739000@vfwpost985.com
SUMMARY:Euchre Night
DESCRIPTION:Attention all playing card enthusiasts and VFW members! We’re thrilled to announce the return of our beloved Euchre Night at VFW Post 985\, and it’s better than ever! \nEuchre Night is not just a card game; it’s a tradition that brings our community together for an evening of camaraderie\, laughter\, and friendly competition. Whether you’re a seasoned pro or a newcomer to the game\, we invite you to join us for a fantastic night of Euchre action.
URL:https://vfwpost985.com/event/euchre-night-5/2026-03-05/
LOCATION:Goshen VFW Post 985\, 1201 W. Pike Street\, Goshen\, IN\, 46526\, United States
CATEGORIES:Regular
ATTACH;FMTTYPE=image/jpeg:https://vfwpost985.com/wp-content/uploads/2023/09/euchre-night-1.jpg
END:VEVENT
BEGIN:VEVENT
DTSTART;TZID=America/New_York:20260309T170000
DTEND;TZID=America/New_York:20260309T190000
DTSTAMP:20260423T165750
CREATED:20231215T165922Z
LAST-MODIFIED:20231215T174855Z
UID:10000949-1773075600-1773082800@vfwpost985.com
SUMMARY:Chicken Wings Night!
DESCRIPTION:Join us every Monday for a finger-licking good time at VFW Post 985’s Wing Night! Indulge in various succulent wings prepared just the way you like them! Our talented cooks have perfected the art of creating the most mouthwatering wings that will leave you craving more.
URL:https://vfwpost985.com/event/chicken-wings-night-4/2026-03-09/
LOCATION:Goshen VFW Post 985\, 1201 W. Pike Street\, Goshen\, IN\, 46526\, United States
CATEGORIES:Regular
ATTACH;FMTTYPE=image/jpeg:https://vfwpost985.com/wp-content/uploads/2023/11/ChickenWingBasket-scaled.jpeg
END:VEVENT
BEGIN:VEVENT
DTSTART;TZID=America/New_York:20260310T170000
DTEND;TZID=America/New_York:20260310T190000
DTSTAMP:20260423T165750
CREATED:20231215T170932Z
LAST-MODIFIED:20231215T174710Z
UID:10000690-1773162000-1773169200@vfwpost985.com
SUMMARY:Tuesday Cheeseburger Special
DESCRIPTION:Looking for the perfect way to jazz up your Tuesday evenings? Look no further than our mouthwatering Cheeseburger Special at VFW Post 985! Sink your teeth into our juicy cheeseburgers served with a medley of fresh toppings and accompanied by your choice of crispy or curly fries (small upcharge).
URL:https://vfwpost985.com/event/tuesday-cheeseburger-special-5/2026-03-10/
LOCATION:Goshen VFW Post 985\, 1201 W. Pike Street\, Goshen\, IN\, 46526\, United States
CATEGORIES:Regular
ATTACH;FMTTYPE=image/jpeg:https://vfwpost985.com/wp-content/uploads/2020/11/burger-1140824_1920.jpg
END:VEVENT
BEGIN:VEVENT
DTSTART;TZID=America/New_York:20260311T170000
DTEND;TZID=America/New_York:20260311T190000
DTSTAMP:20260423T165750
CREATED:20231215T171222Z
LAST-MODIFIED:20231215T174618Z
UID:10000430-1773248400-1773255600@vfwpost985.com
SUMMARY:Wednesday Nights
DESCRIPTION:Food Served 1700 – 1900 \nTreasure Chest Drawing 1850
URL:https://vfwpost985.com/event/wednesday-nights-5/2026-03-11/
LOCATION:Goshen VFW Post 985\, 1201 W. Pike Street\, Goshen\, IN\, 46526\, United States
CATEGORIES:Regular
ATTACH;FMTTYPE=image/png:https://vfwpost985.com/wp-content/uploads/2020/11/treasure-chest.png
END:VEVENT
BEGIN:VEVENT
DTSTART;TZID=America/New_York:20260312T170000
DTEND;TZID=America/New_York:20260312T193000
DTSTAMP:20260423T165750
CREATED:20231215T171651Z
LAST-MODIFIED:20231215T174520Z
UID:10000170-1773334800-1773343800@vfwpost985.com
SUMMARY:Euchre Night
DESCRIPTION:Attention all playing card enthusiasts and VFW members! We’re thrilled to announce the return of our beloved Euchre Night at VFW Post 985\, and it’s better than ever! \nEuchre Night is not just a card game; it’s a tradition that brings our community together for an evening of camaraderie\, laughter\, and friendly competition. Whether you’re a seasoned pro or a newcomer to the game\, we invite you to join us for a fantastic night of Euchre action.
URL:https://vfwpost985.com/event/euchre-night-5/2026-03-12/
LOCATION:Goshen VFW Post 985\, 1201 W. Pike Street\, Goshen\, IN\, 46526\, United States
CATEGORIES:Regular
ATTACH;FMTTYPE=image/jpeg:https://vfwpost985.com/wp-content/uploads/2023/09/euchre-night-1.jpg
END:VEVENT
BEGIN:VEVENT
DTSTART;TZID=America/New_York:20260313T170000
DTEND;TZID=America/New_York:20260313T220000
DTSTAMP:20260423T165750
CREATED:20260304T153024Z
LAST-MODIFIED:20260304T153024Z
UID:10001103-1773421200-1773439200@vfwpost985.com
SUMMARY:Corned Beef and Cabbage Dinner with Live Music by Point and Click – March 13
DESCRIPTION:Corned Beef and Cabbage Dinner – March 13\nYou are invited to gather with us on March 13th for an evening centered around good food and good company. \nWe will be serving a traditional Corned Beef and Cabbage Dinner prepared with care and plenty to share. Whether this meal reminds you of family tables from years past or simply offers something warm on a late winter evening\, it is meant to be enjoyed together. \nLive Music by Point and Click\nThroughout the evening\, we will be joined by live music from Point and Click. Their performance will provide a relaxed and enjoyable backdrop as we gather\, eat\, and visit with one another. \nWhat to Expect\n\n\nFreshly prepared corned beef and cabbage \n\n\nA welcoming\, community atmosphere \n\n\nLive local music \n\n\nAn evening suitable for families and friends \n\n\nWe hope you will come hungry and leave encouraged.
URL:https://vfwpost985.com/event/corned-beef-and-cabbage-dinner-with-live-music-by-point-and-click-march-13/
LOCATION:Goshen VFW Post 985\, 1201 W. Pike Street\, Goshen\, IN\, 46526\, United States
CATEGORIES:Celebrations
ATTACH;FMTTYPE=image/jpeg:https://vfwpost985.com/wp-content/uploads/2026/03/stpatricksday.jpg
END:VEVENT
BEGIN:VEVENT
DTSTART;TZID=America/New_York:20260316T170000
DTEND;TZID=America/New_York:20260316T190000
DTSTAMP:20260423T165750
CREATED:20231215T165922Z
LAST-MODIFIED:20231215T174855Z
UID:10000950-1773680400-1773687600@vfwpost985.com
SUMMARY:Chicken Wings Night!
DESCRIPTION:Join us every Monday for a finger-licking good time at VFW Post 985’s Wing Night! Indulge in various succulent wings prepared just the way you like them! Our talented cooks have perfected the art of creating the most mouthwatering wings that will leave you craving more.
URL:https://vfwpost985.com/event/chicken-wings-night-4/2026-03-16/
LOCATION:Goshen VFW Post 985\, 1201 W. Pike Street\, Goshen\, IN\, 46526\, United States
CATEGORIES:Regular
ATTACH;FMTTYPE=image/jpeg:https://vfwpost985.com/wp-content/uploads/2023/11/ChickenWingBasket-scaled.jpeg
END:VEVENT
BEGIN:VEVENT
DTSTART;TZID=America/New_York:20260317T170000
DTEND;TZID=America/New_York:20260317T190000
DTSTAMP:20260423T165750
CREATED:20231215T170932Z
LAST-MODIFIED:20231215T174710Z
UID:10000691-1773766800-1773774000@vfwpost985.com
SUMMARY:Tuesday Cheeseburger Special
DESCRIPTION:Looking for the perfect way to jazz up your Tuesday evenings? Look no further than our mouthwatering Cheeseburger Special at VFW Post 985! Sink your teeth into our juicy cheeseburgers served with a medley of fresh toppings and accompanied by your choice of crispy or curly fries (small upcharge).
URL:https://vfwpost985.com/event/tuesday-cheeseburger-special-5/2026-03-17/
LOCATION:Goshen VFW Post 985\, 1201 W. Pike Street\, Goshen\, IN\, 46526\, United States
CATEGORIES:Regular
ATTACH;FMTTYPE=image/jpeg:https://vfwpost985.com/wp-content/uploads/2020/11/burger-1140824_1920.jpg
END:VEVENT
BEGIN:VEVENT
DTSTART;TZID=America/New_York:20260317T173000
DTEND;TZID=America/New_York:20260317T190000
DTSTAMP:20260423T165750
CREATED:20260304T160432Z
LAST-MODIFIED:20260316T163340Z
UID:10001105-1773768600-1773774000@vfwpost985.com
SUMMARY:Warriors of Faith
DESCRIPTION:Warriors of Faith is a Bible Study Group hosted by FreedomSystem.org\, created for Veterans\, family members\, and supporters seeking strength\, purpose\, and fellowship through Scripture. \nThe current study focuses on the Book of Ephesians\, exploring themes of spiritual armor\, unity\, identity in Christ\, leadership\, and living out faith with intention. Through guided discussion and real-world application\, participants are encouraged to strengthen their walk\, build resilience\, and grow together in faith. \nThis is a welcoming\, judgment-free environment—whether you’re new to Scripture\, returning to faith\, or looking to go deeper. \n\n“For we walk by faith\, not by sight.” – 2 Corinthians 5:7 \n\nCome as you are. Walk forward together.
URL:https://vfwpost985.com/event/warriors-of-faith/2026-03-17/
LOCATION:Goshen VFW Post 985\, 1201 W. Pike Street\, Goshen\, IN\, 46526\, United States
CATEGORIES:Studies
ATTACH;FMTTYPE=image/jpeg:https://vfwpost985.com/wp-content/uploads/2026/03/Warriors-of-Faith-Cover.jpg
ORGANIZER;CN="Wayne Hawn":MAILTO:wayne@freedomsystem.org
END:VEVENT
BEGIN:VEVENT
DTSTART;TZID=America/New_York:20260318T170000
DTEND;TZID=America/New_York:20260318T190000
DTSTAMP:20260423T165750
CREATED:20231215T171222Z
LAST-MODIFIED:20231215T174618Z
UID:10000431-1773853200-1773860400@vfwpost985.com
SUMMARY:Wednesday Nights
DESCRIPTION:Food Served 1700 – 1900 \nTreasure Chest Drawing 1850
URL:https://vfwpost985.com/event/wednesday-nights-5/2026-03-18/
LOCATION:Goshen VFW Post 985\, 1201 W. Pike Street\, Goshen\, IN\, 46526\, United States
CATEGORIES:Regular
ATTACH;FMTTYPE=image/png:https://vfwpost985.com/wp-content/uploads/2020/11/treasure-chest.png
END:VEVENT
BEGIN:VEVENT
DTSTART;TZID=America/New_York:20260319T170000
DTEND;TZID=America/New_York:20260319T193000
DTSTAMP:20260423T165750
CREATED:20231215T171651Z
LAST-MODIFIED:20231215T174520Z
UID:10000171-1773939600-1773948600@vfwpost985.com
SUMMARY:Euchre Night
DESCRIPTION:Attention all playing card enthusiasts and VFW members! We’re thrilled to announce the return of our beloved Euchre Night at VFW Post 985\, and it’s better than ever! \nEuchre Night is not just a card game; it’s a tradition that brings our community together for an evening of camaraderie\, laughter\, and friendly competition. Whether you’re a seasoned pro or a newcomer to the game\, we invite you to join us for a fantastic night of Euchre action.
URL:https://vfwpost985.com/event/euchre-night-5/2026-03-19/
LOCATION:Goshen VFW Post 985\, 1201 W. Pike Street\, Goshen\, IN\, 46526\, United States
CATEGORIES:Regular
ATTACH;FMTTYPE=image/jpeg:https://vfwpost985.com/wp-content/uploads/2023/09/euchre-night-1.jpg
END:VEVENT
BEGIN:VEVENT
DTSTART;TZID=America/New_York:20260323T170000
DTEND;TZID=America/New_York:20260323T190000
DTSTAMP:20260423T165750
CREATED:20231215T165922Z
LAST-MODIFIED:20231215T174855Z
UID:10000951-1774285200-1774292400@vfwpost985.com
SUMMARY:Chicken Wings Night!
DESCRIPTION:Join us every Monday for a finger-licking good time at VFW Post 985’s Wing Night! Indulge in various succulent wings prepared just the way you like them! Our talented cooks have perfected the art of creating the most mouthwatering wings that will leave you craving more.
URL:https://vfwpost985.com/event/chicken-wings-night-4/2026-03-23/
LOCATION:Goshen VFW Post 985\, 1201 W. Pike Street\, Goshen\, IN\, 46526\, United States
CATEGORIES:Regular
ATTACH;FMTTYPE=image/jpeg:https://vfwpost985.com/wp-content/uploads/2023/11/ChickenWingBasket-scaled.jpeg
END:VEVENT
BEGIN:VEVENT
DTSTART;TZID=America/New_York:20260324T170000
DTEND;TZID=America/New_York:20260324T190000
DTSTAMP:20260423T165750
CREATED:20231215T170932Z
LAST-MODIFIED:20231215T174710Z
UID:10000692-1774371600-1774378800@vfwpost985.com
SUMMARY:Tuesday Cheeseburger Special
DESCRIPTION:Looking for the perfect way to jazz up your Tuesday evenings? Look no further than our mouthwatering Cheeseburger Special at VFW Post 985! Sink your teeth into our juicy cheeseburgers served with a medley of fresh toppings and accompanied by your choice of crispy or curly fries (small upcharge).
URL:https://vfwpost985.com/event/tuesday-cheeseburger-special-5/2026-03-24/
LOCATION:Goshen VFW Post 985\, 1201 W. Pike Street\, Goshen\, IN\, 46526\, United States
CATEGORIES:Regular
ATTACH;FMTTYPE=image/jpeg:https://vfwpost985.com/wp-content/uploads/2020/11/burger-1140824_1920.jpg
END:VEVENT
BEGIN:VEVENT
DTSTART;TZID=America/New_York:20260325T170000
DTEND;TZID=America/New_York:20260325T190000
DTSTAMP:20260423T165750
CREATED:20231215T171222Z
LAST-MODIFIED:20231215T174618Z
UID:10000432-1774458000-1774465200@vfwpost985.com
SUMMARY:Wednesday Nights
DESCRIPTION:Food Served 1700 – 1900 \nTreasure Chest Drawing 1850
URL:https://vfwpost985.com/event/wednesday-nights-5/2026-03-25/
LOCATION:Goshen VFW Post 985\, 1201 W. Pike Street\, Goshen\, IN\, 46526\, United States
CATEGORIES:Regular
ATTACH;FMTTYPE=image/png:https://vfwpost985.com/wp-content/uploads/2020/11/treasure-chest.png
END:VEVENT
BEGIN:VEVENT
DTSTART;TZID=America/New_York:20260326T170000
DTEND;TZID=America/New_York:20260326T193000
DTSTAMP:20260423T165750
CREATED:20231215T171651Z
LAST-MODIFIED:20231215T174520Z
UID:10000172-1774544400-1774553400@vfwpost985.com
SUMMARY:Euchre Night
DESCRIPTION:Attention all playing card enthusiasts and VFW members! We’re thrilled to announce the return of our beloved Euchre Night at VFW Post 985\, and it’s better than ever! \nEuchre Night is not just a card game; it’s a tradition that brings our community together for an evening of camaraderie\, laughter\, and friendly competition. Whether you’re a seasoned pro or a newcomer to the game\, we invite you to join us for a fantastic night of Euchre action.
URL:https://vfwpost985.com/event/euchre-night-5/2026-03-26/
LOCATION:Goshen VFW Post 985\, 1201 W. Pike Street\, Goshen\, IN\, 46526\, United States
CATEGORIES:Regular
ATTACH;FMTTYPE=image/jpeg:https://vfwpost985.com/wp-content/uploads/2023/09/euchre-night-1.jpg
END:VEVENT
BEGIN:VEVENT
DTSTART;TZID=America/New_York:20260330T170000
DTEND;TZID=America/New_York:20260330T190000
DTSTAMP:20260423T165750
CREATED:20231215T165922Z
LAST-MODIFIED:20231215T174855Z
UID:10000952-1774890000-1774897200@vfwpost985.com
SUMMARY:Chicken Wings Night!
DESCRIPTION:Join us every Monday for a finger-licking good time at VFW Post 985’s Wing Night! Indulge in various succulent wings prepared just the way you like them! Our talented cooks have perfected the art of creating the most mouthwatering wings that will leave you craving more.
URL:https://vfwpost985.com/event/chicken-wings-night-4/2026-03-30/
LOCATION:Goshen VFW Post 985\, 1201 W. Pike Street\, Goshen\, IN\, 46526\, United States
CATEGORIES:Regular
ATTACH;FMTTYPE=image/jpeg:https://vfwpost985.com/wp-content/uploads/2023/11/ChickenWingBasket-scaled.jpeg
END:VEVENT
BEGIN:VEVENT
DTSTART;TZID=America/New_York:20260331T170000
DTEND;TZID=America/New_York:20260331T190000
DTSTAMP:20260423T165750
CREATED:20231215T170932Z
LAST-MODIFIED:20231215T174710Z
UID:10000693-1774976400-1774983600@vfwpost985.com
SUMMARY:Tuesday Cheeseburger Special
DESCRIPTION:Looking for the perfect way to jazz up your Tuesday evenings? Look no further than our mouthwatering Cheeseburger Special at VFW Post 985! Sink your teeth into our juicy cheeseburgers served with a medley of fresh toppings and accompanied by your choice of crispy or curly fries (small upcharge).
URL:https://vfwpost985.com/event/tuesday-cheeseburger-special-5/2026-03-31/
LOCATION:Goshen VFW Post 985\, 1201 W. Pike Street\, Goshen\, IN\, 46526\, United States
CATEGORIES:Regular
ATTACH;FMTTYPE=image/jpeg:https://vfwpost985.com/wp-content/uploads/2020/11/burger-1140824_1920.jpg
END:VEVENT
BEGIN:VEVENT
DTSTART;TZID=America/New_York:20260401T170000
DTEND;TZID=America/New_York:20260401T190000
DTSTAMP:20260423T165750
CREATED:20231215T171222Z
LAST-MODIFIED:20231215T174618Z
UID:10000433-1775062800-1775070000@vfwpost985.com
SUMMARY:Wednesday Nights
DESCRIPTION:Food Served 1700 – 1900 \nTreasure Chest Drawing 1850
URL:https://vfwpost985.com/event/wednesday-nights-5/2026-04-01/
LOCATION:Goshen VFW Post 985\, 1201 W. Pike Street\, Goshen\, IN\, 46526\, United States
CATEGORIES:Regular
ATTACH;FMTTYPE=image/png:https://vfwpost985.com/wp-content/uploads/2020/11/treasure-chest.png
END:VEVENT
BEGIN:VEVENT
DTSTART;TZID=America/New_York:20260402T170000
DTEND;TZID=America/New_York:20260402T193000
DTSTAMP:20260423T165750
CREATED:20231215T171651Z
LAST-MODIFIED:20231215T174520Z
UID:10000173-1775149200-1775158200@vfwpost985.com
SUMMARY:Euchre Night
DESCRIPTION:Attention all playing card enthusiasts and VFW members! We’re thrilled to announce the return of our beloved Euchre Night at VFW Post 985\, and it’s better than ever! \nEuchre Night is not just a card game; it’s a tradition that brings our community together for an evening of camaraderie\, laughter\, and friendly competition. Whether you’re a seasoned pro or a newcomer to the game\, we invite you to join us for a fantastic night of Euchre action.
URL:https://vfwpost985.com/event/euchre-night-5/2026-04-02/
LOCATION:Goshen VFW Post 985\, 1201 W. Pike Street\, Goshen\, IN\, 46526\, United States
CATEGORIES:Regular
ATTACH;FMTTYPE=image/jpeg:https://vfwpost985.com/wp-content/uploads/2023/09/euchre-night-1.jpg
END:VEVENT
BEGIN:VEVENT
DTSTART;TZID=America/New_York:20260406T170000
DTEND;TZID=America/New_York:20260406T190000
DTSTAMP:20260423T165750
CREATED:20231215T165922Z
LAST-MODIFIED:20231215T174855Z
UID:10000953-1775494800-1775502000@vfwpost985.com
SUMMARY:Chicken Wings Night!
DESCRIPTION:Join us every Monday for a finger-licking good time at VFW Post 985’s Wing Night! Indulge in various succulent wings prepared just the way you like them! Our talented cooks have perfected the art of creating the most mouthwatering wings that will leave you craving more.
URL:https://vfwpost985.com/event/chicken-wings-night-4/2026-04-06/
LOCATION:Goshen VFW Post 985\, 1201 W. Pike Street\, Goshen\, IN\, 46526\, United States
CATEGORIES:Regular
ATTACH;FMTTYPE=image/jpeg:https://vfwpost985.com/wp-content/uploads/2023/11/ChickenWingBasket-scaled.jpeg
END:VEVENT
BEGIN:VEVENT
DTSTART;TZID=America/New_York:20260407T170000
DTEND;TZID=America/New_York:20260407T190000
DTSTAMP:20260423T165750
CREATED:20231215T170932Z
LAST-MODIFIED:20231215T174710Z
UID:10000694-1775581200-1775588400@vfwpost985.com
SUMMARY:Tuesday Cheeseburger Special
DESCRIPTION:Looking for the perfect way to jazz up your Tuesday evenings? Look no further than our mouthwatering Cheeseburger Special at VFW Post 985! Sink your teeth into our juicy cheeseburgers served with a medley of fresh toppings and accompanied by your choice of crispy or curly fries (small upcharge).
URL:https://vfwpost985.com/event/tuesday-cheeseburger-special-5/2026-04-07/
LOCATION:Goshen VFW Post 985\, 1201 W. Pike Street\, Goshen\, IN\, 46526\, United States
CATEGORIES:Regular
ATTACH;FMTTYPE=image/jpeg:https://vfwpost985.com/wp-content/uploads/2020/11/burger-1140824_1920.jpg
END:VEVENT
BEGIN:VEVENT
DTSTART;TZID=America/New_York:20260408T170000
DTEND;TZID=America/New_York:20260408T190000
DTSTAMP:20260423T165750
CREATED:20231215T171222Z
LAST-MODIFIED:20231215T174618Z
UID:10000434-1775667600-1775674800@vfwpost985.com
SUMMARY:Wednesday Nights
DESCRIPTION:Food Served 1700 – 1900 \nTreasure Chest Drawing 1850
URL:https://vfwpost985.com/event/wednesday-nights-5/2026-04-08/
LOCATION:Goshen VFW Post 985\, 1201 W. Pike Street\, Goshen\, IN\, 46526\, United States
CATEGORIES:Regular
ATTACH;FMTTYPE=image/png:https://vfwpost985.com/wp-content/uploads/2020/11/treasure-chest.png
END:VEVENT
BEGIN:VEVENT
DTSTART;TZID=America/New_York:20260409T170000
DTEND;TZID=America/New_York:20260409T193000
DTSTAMP:20260423T165750
CREATED:20231215T171651Z
LAST-MODIFIED:20231215T174520Z
UID:10000174-1775754000-1775763000@vfwpost985.com
SUMMARY:Euchre Night
DESCRIPTION:Attention all playing card enthusiasts and VFW members! We’re thrilled to announce the return of our beloved Euchre Night at VFW Post 985\, and it’s better than ever! \nEuchre Night is not just a card game; it’s a tradition that brings our community together for an evening of camaraderie\, laughter\, and friendly competition. Whether you’re a seasoned pro or a newcomer to the game\, we invite you to join us for a fantastic night of Euchre action.
URL:https://vfwpost985.com/event/euchre-night-5/2026-04-09/
LOCATION:Goshen VFW Post 985\, 1201 W. Pike Street\, Goshen\, IN\, 46526\, United States
CATEGORIES:Regular
ATTACH;FMTTYPE=image/jpeg:https://vfwpost985.com/wp-content/uploads/2023/09/euchre-night-1.jpg
END:VEVENT
END:VCALENDAR