BEGIN:VCALENDAR
VERSION:2.0
PRODID:-//VFW Post 985 - ECPv6.15.17.1//NONSGML v1.0//EN
CALSCALE:GREGORIAN
METHOD:PUBLISH
X-WR-CALNAME:VFW Post 985
X-ORIGINAL-URL:https://vfwpost985.com
X-WR-CALDESC:Events for VFW Post 985
REFRESH-INTERVAL;VALUE=DURATION:PT1H
X-Robots-Tag:noindex
X-PUBLISHED-TTL:PT1H
BEGIN:VTIMEZONE
TZID:America/New_York
BEGIN:DAYLIGHT
TZOFFSETFROM:-0500
TZOFFSETTO:-0400
TZNAME:EDT
DTSTART:20220313T070000
END:DAYLIGHT
BEGIN:STANDARD
TZOFFSETFROM:-0400
TZOFFSETTO:-0500
TZNAME:EST
DTSTART:20221106T060000
END:STANDARD
BEGIN:DAYLIGHT
TZOFFSETFROM:-0500
TZOFFSETTO:-0400
TZNAME:EDT
DTSTART:20230312T070000
END:DAYLIGHT
BEGIN:STANDARD
TZOFFSETFROM:-0400
TZOFFSETTO:-0500
TZNAME:EST
DTSTART:20231105T060000
END:STANDARD
BEGIN:DAYLIGHT
TZOFFSETFROM:-0500
TZOFFSETTO:-0400
TZNAME:EDT
DTSTART:20240310T070000
END:DAYLIGHT
BEGIN:STANDARD
TZOFFSETFROM:-0400
TZOFFSETTO:-0500
TZNAME:EST
DTSTART:20241103T060000
END:STANDARD
BEGIN:DAYLIGHT
TZOFFSETFROM:-0500
TZOFFSETTO:-0400
TZNAME:EDT
DTSTART:20250309T070000
END:DAYLIGHT
BEGIN:STANDARD
TZOFFSETFROM:-0400
TZOFFSETTO:-0500
TZNAME:EST
DTSTART:20251102T060000
END:STANDARD
END:VTIMEZONE
BEGIN:VEVENT
DTSTART;TZID=America/New_York:20240101T170000
DTEND;TZID=America/New_York:20240101T190000
DTSTAMP:20260425T195224
CREATED:20231215T165922Z
LAST-MODIFIED:20231215T174855Z
UID:10000835-1704128400-1704135600@vfwpost985.com
SUMMARY:Chicken Wings Night!
DESCRIPTION:Join us every Monday for a finger-licking good time at VFW Post 985’s Wing Night! Indulge in various succulent wings prepared just the way you like them! Our talented cooks have perfected the art of creating the most mouthwatering wings that will leave you craving more.
URL:https://vfwpost985.com/event/chicken-wings-night-4/2024-01-01/
LOCATION:Goshen VFW Post 985\, 1201 W. Pike Street\, Goshen\, IN\, 46526\, United States
CATEGORIES:Regular
ATTACH;FMTTYPE=image/jpeg:https://vfwpost985.com/wp-content/uploads/2023/11/ChickenWingBasket-scaled.jpeg
END:VEVENT
BEGIN:VEVENT
DTSTART;TZID=America/New_York:20231229T170000
DTEND;TZID=America/New_York:20231229T200000
DTSTAMP:20260425T195224
CREATED:20231227T223105Z
LAST-MODIFIED:20231228T125759Z
UID:10001102-1703869200-1703880000@vfwpost985.com
SUMMARY:Fun Food Fridays
DESCRIPTION:Welcome to Fun Food Fridays\, where this week’s star is the luscious Italian Mac and Cheese! Dive into a bowl of creamy goodness fused with Italian flair—melding rich cheeses\, savory herbs\, and perfectly cooked pasta. Indulge in a comforting and captivating taste\, a celebration of Italy’s culinary charm. Join us for a tantalizing rendezvous with this delectable fusion! \nTHIS Week: Italian Mac and Cheese \n \n  \n#FunFoodFridays #ItalianMacAndCheese #GourmetPasta #FoodieFusion #CulinaryDelight #ComfortFood #ItalianFlavors #TastyTreats #FoodAdventure #SavoryDelights
URL:https://vfwpost985.com/event/fun-food-fridays/
LOCATION:Goshen VFW Post 985\, 1201 W. Pike Street\, Goshen\, IN\, 46526\, United States
CATEGORIES:Regular
ATTACH;FMTTYPE=image/jpeg:https://vfwpost985.com/wp-content/uploads/2023/12/fun-food-fridays.jpg
ORGANIZER;CN="Caleb Denney":MAILTO:cdenney@lci1.com
END:VEVENT
BEGIN:VEVENT
DTSTART;TZID=America/New_York:20231228T170000
DTEND;TZID=America/New_York:20231228T193000
DTSTAMP:20260425T195224
CREATED:20231215T171651Z
LAST-MODIFIED:20231215T174520Z
UID:10000055-1703782800-1703791800@vfwpost985.com
SUMMARY:Euchre Night
DESCRIPTION:Attention all playing card enthusiasts and VFW members! We’re thrilled to announce the return of our beloved Euchre Night at VFW Post 985\, and it’s better than ever! \nEuchre Night is not just a card game; it’s a tradition that brings our community together for an evening of camaraderie\, laughter\, and friendly competition. Whether you’re a seasoned pro or a newcomer to the game\, we invite you to join us for a fantastic night of Euchre action.
URL:https://vfwpost985.com/event/euchre-night-5/2023-12-28/
LOCATION:Goshen VFW Post 985\, 1201 W. Pike Street\, Goshen\, IN\, 46526\, United States
CATEGORIES:Regular
ATTACH;FMTTYPE=image/jpeg:https://vfwpost985.com/wp-content/uploads/2023/09/euchre-night-1.jpg
END:VEVENT
BEGIN:VEVENT
DTSTART;TZID=America/New_York:20231227T170000
DTEND;TZID=America/New_York:20231227T190000
DTSTAMP:20260425T195224
CREATED:20231215T171222Z
LAST-MODIFIED:20231215T174618Z
UID:10000315-1703696400-1703703600@vfwpost985.com
SUMMARY:Wednesday Nights
DESCRIPTION:Food Served 1700 – 1900 \nTreasure Chest Drawing 1850
URL:https://vfwpost985.com/event/wednesday-nights-5/2023-12-27/
LOCATION:Goshen VFW Post 985\, 1201 W. Pike Street\, Goshen\, IN\, 46526\, United States
CATEGORIES:Regular
ATTACH;FMTTYPE=image/png:https://vfwpost985.com/wp-content/uploads/2020/11/treasure-chest.png
END:VEVENT
BEGIN:VEVENT
DTSTART;TZID=America/New_York:20231226T170000
DTEND;TZID=America/New_York:20231226T190000
DTSTAMP:20260425T195224
CREATED:20231215T170932Z
LAST-MODIFIED:20231215T174710Z
UID:10000575-1703610000-1703617200@vfwpost985.com
SUMMARY:Tuesday Cheeseburger Special
DESCRIPTION:Looking for the perfect way to jazz up your Tuesday evenings? Look no further than our mouthwatering Cheeseburger Special at VFW Post 985! Sink your teeth into our juicy cheeseburgers served with a medley of fresh toppings and accompanied by your choice of crispy or curly fries (small upcharge).
URL:https://vfwpost985.com/event/tuesday-cheeseburger-special-5/2023-12-26/
LOCATION:Goshen VFW Post 985\, 1201 W. Pike Street\, Goshen\, IN\, 46526\, United States
CATEGORIES:Regular
ATTACH;FMTTYPE=image/jpeg:https://vfwpost985.com/wp-content/uploads/2020/11/burger-1140824_1920.jpg
END:VEVENT
BEGIN:VEVENT
DTSTART;VALUE=DATE:20231226
DTEND;VALUE=DATE:20231227
DTSTAMP:20260425T195224
CREATED:20231217T165716Z
LAST-MODIFIED:20231217T192811Z
UID:10001101-1703548800-1703635199@vfwpost985.com
SUMMARY:CLOSED
DESCRIPTION:Closed for Christmas
URL:https://vfwpost985.com/event/closed/
LOCATION:IN
CATEGORIES:Regular
ATTACH;FMTTYPE=image/jpeg:https://vfwpost985.com/wp-content/uploads/2023/12/4e1c34e0466258a2d31a162b236465811.jpg
END:VEVENT
BEGIN:VEVENT
DTSTART;VALUE=DATE:20231225
DTEND;VALUE=DATE:20231226
DTSTAMP:20260425T195224
CREATED:20231215T180457Z
LAST-MODIFIED:20231215T180457Z
UID:10001094-1703462400-1703548799@vfwpost985.com
SUMMARY:Merry Christmas - Closed
DESCRIPTION:Merry Christmas Everyone! Remember everyone deployed today! The Post is closed on Christmas!
URL:https://vfwpost985.com/event/christmas-2/
LOCATION:IN
CATEGORIES:Regular
ATTACH;FMTTYPE=image/jpeg:https://vfwpost985.com/wp-content/uploads/2023/12/4e1c34e0466258a2d31a162b236465811.jpg
END:VEVENT
BEGIN:VEVENT
DTSTART;TZID=America/New_York:20231221T170000
DTEND;TZID=America/New_York:20231221T193000
DTSTAMP:20260425T195224
CREATED:20231215T171651Z
LAST-MODIFIED:20231215T174520Z
UID:10000053-1703178000-1703187000@vfwpost985.com
SUMMARY:Euchre Night
DESCRIPTION:Attention all playing card enthusiasts and VFW members! We’re thrilled to announce the return of our beloved Euchre Night at VFW Post 985\, and it’s better than ever! \nEuchre Night is not just a card game; it’s a tradition that brings our community together for an evening of camaraderie\, laughter\, and friendly competition. Whether you’re a seasoned pro or a newcomer to the game\, we invite you to join us for a fantastic night of Euchre action.
URL:https://vfwpost985.com/event/euchre-night-5/2023-12-21/2/
LOCATION:Goshen VFW Post 985\, 1201 W. Pike Street\, Goshen\, IN\, 46526\, United States
CATEGORIES:Regular
ATTACH;FMTTYPE=image/jpeg:https://vfwpost985.com/wp-content/uploads/2023/09/euchre-night-1.jpg
END:VEVENT
BEGIN:VEVENT
DTSTART;TZID=America/New_York:20231221T080000
DTEND;TZID=America/New_York:20231221T170000
DTSTAMP:20260425T195224
CREATED:20231215T171651Z
LAST-MODIFIED:20231215T174520Z
UID:10000054-1703145600-1703178000@vfwpost985.com
SUMMARY:Euchre Night
DESCRIPTION:Attention all playing card enthusiasts and VFW members! We’re thrilled to announce the return of our beloved Euchre Night at VFW Post 985\, and it’s better than ever! \nEuchre Night is not just a card game; it’s a tradition that brings our community together for an evening of camaraderie\, laughter\, and friendly competition. Whether you’re a seasoned pro or a newcomer to the game\, we invite you to join us for a fantastic night of Euchre action.
URL:https://vfwpost985.com/event/euchre-night-5/2023-12-21/1/
LOCATION:Goshen VFW Post 985\, 1201 W. Pike Street\, Goshen\, IN\, 46526\, United States
CATEGORIES:Regular
ATTACH;FMTTYPE=image/jpeg:https://vfwpost985.com/wp-content/uploads/2023/09/euchre-night-1.jpg
END:VEVENT
BEGIN:VEVENT
DTSTART;TZID=America/New_York:20231220T170000
DTEND;TZID=America/New_York:20231220T190000
DTSTAMP:20260425T195224
CREATED:20231215T171222Z
LAST-MODIFIED:20231215T174618Z
UID:10000052-1703091600-1703098800@vfwpost985.com
SUMMARY:Wednesday Nights
DESCRIPTION:Food Served 1700 – 1900 \nTreasure Chest Drawing 1850
URL:https://vfwpost985.com/event/wednesday-nights-5/2023-12-20/
LOCATION:Goshen VFW Post 985\, 1201 W. Pike Street\, Goshen\, IN\, 46526\, United States
CATEGORIES:Regular
ATTACH;FMTTYPE=image/png:https://vfwpost985.com/wp-content/uploads/2020/11/treasure-chest.png
END:VEVENT
BEGIN:VEVENT
DTSTART;TZID=America/New_York:20231219T170000
DTEND;TZID=America/New_York:20231219T190000
DTSTAMP:20260425T195224
CREATED:20231215T170932Z
LAST-MODIFIED:20231215T174710Z
UID:10000051-1703005200-1703012400@vfwpost985.com
SUMMARY:Tuesday Cheeseburger Special
DESCRIPTION:Looking for the perfect way to jazz up your Tuesday evenings? Look no further than our mouthwatering Cheeseburger Special at VFW Post 985! Sink your teeth into our juicy cheeseburgers served with a medley of fresh toppings and accompanied by your choice of crispy or curly fries (small upcharge).
URL:https://vfwpost985.com/event/tuesday-cheeseburger-special-5/2023-12-19/
LOCATION:Goshen VFW Post 985\, 1201 W. Pike Street\, Goshen\, IN\, 46526\, United States
CATEGORIES:Regular
ATTACH;FMTTYPE=image/jpeg:https://vfwpost985.com/wp-content/uploads/2020/11/burger-1140824_1920.jpg
END:VEVENT
BEGIN:VEVENT
DTSTART;TZID=America/New_York:20231218T170000
DTEND;TZID=America/New_York:20231218T190000
DTSTAMP:20260425T195224
CREATED:20231215T165922Z
LAST-MODIFIED:20231215T174855Z
UID:10000049-1702918800-1702926000@vfwpost985.com
SUMMARY:Chicken Wings Night!
DESCRIPTION:Join us every Monday for a finger-licking good time at VFW Post 985’s Wing Night! Indulge in various succulent wings prepared just the way you like them! Our talented cooks have perfected the art of creating the most mouthwatering wings that will leave you craving more.
URL:https://vfwpost985.com/event/chicken-wings-night-4/2023-12-18/
LOCATION:Goshen VFW Post 985\, 1201 W. Pike Street\, Goshen\, IN\, 46526\, United States
CATEGORIES:Regular
ATTACH;FMTTYPE=image/jpeg:https://vfwpost985.com/wp-content/uploads/2023/11/ChickenWingBasket-scaled.jpeg
END:VEVENT
BEGIN:VEVENT
DTSTART;TZID=America/New_York:20231215T190000
DTEND;TZID=America/New_York:20231215T220000
DTSTAMP:20260425T195224
CREATED:20231215T170212Z
LAST-MODIFIED:20231215T170829Z
UID:10000050-1702666800-1702677600@vfwpost985.com
SUMMARY:B-I-N-G-O Night!
DESCRIPTION:Grab your lucky charms and join us for an exhilarating night of Bingo at VFW Post 985! Mark your calendars for an evening filled with fun\, prizes\, and friendly competition. See you there for a chance to win big and support a great cause!
URL:https://vfwpost985.com/event/b-i-n-g-o-night/
LOCATION:IN
CATEGORIES:Regular
ATTACH;FMTTYPE=image/jpeg:https://vfwpost985.com/wp-content/uploads/2023/12/lottery-3846567_12801.jpg
ORGANIZER;CN="Angie McKee":MAILTO:angiemckee1@comcast.net
END:VEVENT
BEGIN:VEVENT
DTSTART;TZID=America/New_York:20231215T170000
DTEND;TZID=America/New_York:20231215T170000
DTSTAMP:20260425T195224
CREATED:20231215T165734Z
LAST-MODIFIED:20231215T165734Z
UID:10000048-1702659600-1702659600@vfwpost985.com
SUMMARY:Broasted Chicken
DESCRIPTION:Join us for a delicious evening featuring our famous Broasted Chicken! Bring your appetite and your friends to savor this mouthwatering delight starting at 5:00 PM. Stick around for the excitement of our Weekly Drawing at 7:00 PM. Come hungry\, leave happy! See you there!
URL:https://vfwpost985.com/event/broasted-chicken/
LOCATION:IN
CATEGORIES:Regular
ATTACH;FMTTYPE=image/jpeg:https://vfwpost985.com/wp-content/uploads/2023/12/SKI_82761.jpg
END:VEVENT
BEGIN:VEVENT
DTSTART;TZID=America/New_York:20231206T190000
DTEND;TZID=America/New_York:20231206T200000
DTSTAMP:20260425T195224
CREATED:20231107T152341Z
LAST-MODIFIED:20231107T152707Z
UID:10000029-1701889200-1701892800@vfwpost985.com
SUMMARY:December Post Meeting
DESCRIPTION:Join us for our monthly board meeting at VFW Post 985\, where we delve into crucial discussions on current affairs and plans. Explore the key business topics and upcoming initiatives that shape our community. Attend to stay informed and engaged in our mission for the betterment of our members and the community. This is an open meeting\, and all members are allowed to attend.
URL:https://vfwpost985.com/event/december-post-meeting/
LOCATION:Goshen VFW Post 985\, 1201 W. Pike Street\, Goshen\, IN\, 46526\, United States
CATEGORIES:Regular
ATTACH;FMTTYPE=image/jpeg:https://vfwpost985.com/wp-content/uploads/2023/11/VFW985-war-art.jpg
ORGANIZER;CN="Jeff Schrock":MAILTO:scubagpd@aol.com
END:VEVENT
BEGIN:VEVENT
DTSTART;TZID=America/New_York:20231130T170000
DTEND;TZID=America/New_York:20231130T193000
DTSTAMP:20260425T195224
CREATED:20231107T152927Z
LAST-MODIFIED:20231107T152927Z
UID:10000032-1701363600-1701372600@vfwpost985.com
SUMMARY:Euchre Night
DESCRIPTION:Attention all playing card enthusiasts and VFW members! We’re thrilled to announce the return of our beloved Euchre Night at VFW Post 985\, and it’s better than ever! \nEuchre Night is not just a card game; it’s a tradition that brings our community together for an evening of camaraderie\, laughter\, and friendly competition. Whether you’re a seasoned pro or a newcomer to the game\, we invite you to join us for a fantastic night of Euchre action.
URL:https://vfwpost985.com/event/euchre-night-4/
LOCATION:Goshen VFW Post 985\, 1201 W. Pike Street\, Goshen\, IN\, 46526\, United States
CATEGORIES:Regular
ATTACH;FMTTYPE=image/jpeg:https://vfwpost985.com/wp-content/uploads/2023/09/euchre-night-1.jpg
END:VEVENT
BEGIN:VEVENT
DTSTART;TZID=America/New_York:20231128T170000
DTEND;TZID=America/New_York:20231128T190000
DTSTAMP:20260425T195224
CREATED:20231107T171151Z
LAST-MODIFIED:20231107T200531Z
UID:10000039-1701190800-1701198000@vfwpost985.com
SUMMARY:Tuesday Cheeseburger Special
DESCRIPTION:Looking for the perfect way to jazz up your Tuesday evenings? Look no further than our mouthwatering Cheeseburger Special at VFW Post 985! Sink your teeth into our juicy cheeseburgers served with a medley of fresh toppings and accompanied by your choice of crispy or curly fries (small upcharge).
URL:https://vfwpost985.com/event/tuesday-cheeseburger-special-4/
LOCATION:Goshen VFW Post 985\, 1201 W. Pike Street\, Goshen\, IN\, 46526\, United States
CATEGORIES:Regular
ATTACH;FMTTYPE=image/jpeg:https://vfwpost985.com/wp-content/uploads/2023/11/cheeseburger-cropped.jpg
END:VEVENT
BEGIN:VEVENT
DTSTART;TZID=America/New_York:20231127T170000
DTEND;TZID=America/New_York:20231127T190000
DTSTAMP:20260425T195224
CREATED:20231107T175554Z
LAST-MODIFIED:20231107T175554Z
UID:10000041-1701104400-1701111600@vfwpost985.com
SUMMARY:Chicken Wings Night!
DESCRIPTION:Join us every Monday for a finger-licking good time at VFW Post 985’s Wing Night! Indulge in various succulent wings prepared just the way you like them! Our talented cooks have perfected the art of creating the most mouthwatering wings that will leave you craving more.
URL:https://vfwpost985.com/event/chicken-wings-night-3/
LOCATION:Goshen VFW Post 985\, 1201 W. Pike Street\, Goshen\, IN\, 46526\, United States
CATEGORIES:Regular
ATTACH;FMTTYPE=image/jpeg:https://vfwpost985.com/wp-content/uploads/2023/11/ChickenWingBasket-scaled.jpeg
END:VEVENT
BEGIN:VEVENT
DTSTART;TZID=America/New_York:20231124T170000
DTEND;TZID=America/New_York:20231124T190000
DTSTAMP:20260425T195224
CREATED:20231107T202727Z
LAST-MODIFIED:20231107T202727Z
UID:10000043-1700845200-1700852400@vfwpost985.com
SUMMARY:Broasted Pork Chop Night
DESCRIPTION:Description: Join us for a delectable evening featuring our succulent Broasted Pork Chops at VFW 985! Gather your friends and family to savor our tender and flavorful Broasted Pork Chops\, perfectly seasoned and perfectly cooked. This is an opportunity to treat your taste buds while supporting our local veterans.
URL:https://vfwpost985.com/event/broasted-pork-chop-night/
LOCATION:Goshen VFW Post 985\, 1201 W. Pike Street\, Goshen\, IN\, 46526\, United States
CATEGORIES:Regular
ATTACH;FMTTYPE=image/jpeg:https://vfwpost985.com/wp-content/uploads/2023/11/braosted-pork-chops.jpg
END:VEVENT
BEGIN:VEVENT
DTSTART;VALUE=DATE:20231123
DTEND;VALUE=DATE:20231124
DTSTAMP:20260425T195224
CREATED:20231107T203402Z
LAST-MODIFIED:20231215T180731Z
UID:10001095-1700697600-1700783999@vfwpost985.com
SUMMARY:Thanksgiving - Closed
DESCRIPTION:It’s Thanksgiving\, we are closed\, we will be back on Friday with a great Broasted Pork Chop meal!
URL:https://vfwpost985.com/event/thanksgiving-closed/2023-11-23/
LOCATION:IN
CATEGORIES:Regular
ATTACH;FMTTYPE=image/jpeg:https://vfwpost985.com/wp-content/uploads/2023/11/pexels-photo-730286.jpeg
END:VEVENT
BEGIN:VEVENT
DTSTART;TZID=America/New_York:20231121T170000
DTEND;TZID=America/New_York:20231121T190000
DTSTAMP:20260425T195224
CREATED:20231107T170800Z
LAST-MODIFIED:20231107T200441Z
UID:10000038-1700586000-1700593200@vfwpost985.com
SUMMARY:Tuesday Cheeseburger Special
DESCRIPTION:Looking for the perfect way to jazz up your Tuesday evenings? Look no further than our mouthwatering Cheeseburger Special at VFW Post 985! Sink your teeth into our juicy cheeseburgers served with a medley of fresh toppings and accompanied by your choice of crispy or curly fries (small upcharge).
URL:https://vfwpost985.com/event/tuesday-cheeseburger-special-3/
LOCATION:Goshen VFW Post 985\, 1201 W. Pike Street\, Goshen\, IN\, 46526\, United States
CATEGORIES:Regular
ATTACH;FMTTYPE=image/jpeg:https://vfwpost985.com/wp-content/uploads/2020/11/burger-1140824_1920.jpg
END:VEVENT
BEGIN:VEVENT
DTSTART;TZID=America/New_York:20231120T170000
DTEND;TZID=America/New_York:20231120T190000
DTSTAMP:20260425T195224
CREATED:20231107T172746Z
LAST-MODIFIED:20231107T172746Z
UID:10000040-1700499600-1700506800@vfwpost985.com
SUMMARY:Chicken Wings Night!
DESCRIPTION:Join us every Monday for a finger-licking good time at VFW Post 985’s Wing Night! Indulge in various succulent wings prepared just the way you like them! Our talented cooks have perfected the art of creating the most mouthwatering wings that will leave you craving more.
URL:https://vfwpost985.com/event/chicken-wings-night-2/
LOCATION:Goshen VFW Post 985\, 1201 W. Pike Street\, Goshen\, IN\, 46526\, United States
CATEGORIES:Regular
ATTACH;FMTTYPE=image/jpeg:https://vfwpost985.com/wp-content/uploads/2023/11/ChickenWingBasket-scaled.jpeg
END:VEVENT
BEGIN:VEVENT
DTSTART;TZID=America/New_York:20231117T170000
DTEND;TZID=America/New_York:20231117T190000
DTSTAMP:20260425T195224
CREATED:20231107T202109Z
LAST-MODIFIED:20231107T202109Z
UID:10000042-1700240400-1700247600@vfwpost985.com
SUMMARY:Broasted Chicken Dinner Night
DESCRIPTION:Join us for a mouthwatering evening of delicious Broasted Chicken at VFW 985! Please bring your friends and family to enjoy a delightful meal prepared by our skilled cooks. Our Broasted Chicken is crispy on the outside and tender on the inside\, sure to satisfy your taste buds. Don’t miss this opportunity to indulge in a delectable feast while supporting our local veterans.
URL:https://vfwpost985.com/event/broasted-chicken-dinner-night/
LOCATION:Goshen VFW Post 985\, 1201 W. Pike Street\, Goshen\, IN\, 46526\, United States
CATEGORIES:Regular
ATTACH;FMTTYPE=image/jpeg:https://vfwpost985.com/wp-content/uploads/2023/11/SKI_80361.jpg
END:VEVENT
BEGIN:VEVENT
DTSTART;TZID=America/New_York:20231116T183000
DTEND;TZID=America/New_York:20231116T210000
DTSTAMP:20260425T195224
CREATED:20231108T144851Z
LAST-MODIFIED:20231108T144851Z
UID:10000047-1700159400-1700168400@vfwpost985.com
SUMMARY:Trivia Night
DESCRIPTION:Join us for a night of fun and excitement at Trivia Night at the VFW 985 on November 16th\, 2023. Test your knowledge with friends and family as you compete for prizes and bragging rights.
URL:https://vfwpost985.com/event/trivia-night/
LOCATION:Goshen VFW Post 985\, 1201 W. Pike Street\, Goshen\, IN\, 46526\, United States
CATEGORIES:Regular
ATTACH;FMTTYPE=image/jpeg:https://vfwpost985.com/wp-content/uploads/2023/11/trivia-night.jpg
END:VEVENT
BEGIN:VEVENT
DTSTART;TZID=America/New_York:20231116T170000
DTEND;TZID=America/New_York:20231116T193000
DTSTAMP:20260425T195224
CREATED:20231107T152741Z
LAST-MODIFIED:20231107T152741Z
UID:10000031-1700154000-1700163000@vfwpost985.com
SUMMARY:Euchre Night
DESCRIPTION:Attention all playing card enthusiasts and VFW members! We’re thrilled to announce the return of our beloved Euchre Night at VFW Post 985\, and it’s better than ever! \nEuchre Night is not just a card game; it’s a tradition that brings our community together for an evening of camaraderie\, laughter\, and friendly competition. Whether you’re a seasoned pro or a newcomer to the game\, we invite you to join us for a fantastic night of Euchre action.
URL:https://vfwpost985.com/event/euchre-night-3/
LOCATION:Goshen VFW Post 985\, 1201 W. Pike Street\, Goshen\, IN\, 46526\, United States
CATEGORIES:Regular
ATTACH;FMTTYPE=image/jpeg:https://vfwpost985.com/wp-content/uploads/2023/09/euchre-night-1.jpg
END:VEVENT
BEGIN:VEVENT
DTSTART;TZID=America/New_York:20231115T170000
DTEND;TZID=America/New_York:20231115T190000
DTSTAMP:20260425T195224
CREATED:20231107T221953Z
LAST-MODIFIED:20231107T221953Z
UID:10000046-1700067600-1700074800@vfwpost985.com
SUMMARY:Well Drink Special
DESCRIPTION:Join us for a night of indulgence at VFW’s Wednesday evenings in our exclusive Well Drink Specials\, accompanied by various scrumptious food offerings. Whether you’re looking to unwind with friends or seeking a delightful food adventure\, our event promises an unforgettable experience. Treat yourself to a selection of well-crafted drinks while savoring our mouthwatering menu items. Don’t miss this opportunity to enjoy a delightful evening at the VFW!
URL:https://vfwpost985.com/event/well-drink-special-2/
LOCATION:Goshen VFW Post 985\, 1201 W. Pike Street\, Goshen\, IN\, 46526\, United States
CATEGORIES:Regular
ATTACH;FMTTYPE=image/jpeg:https://vfwpost985.com/wp-content/uploads/2023/11/well-drink-scaled.jpeg
END:VEVENT
BEGIN:VEVENT
DTSTART;TZID=America/New_York:20231114T170000
DTEND;TZID=America/New_York:20231114T190000
DTSTAMP:20260425T195224
CREATED:20231107T170721Z
LAST-MODIFIED:20231107T200349Z
UID:10000037-1699981200-1699988400@vfwpost985.com
SUMMARY:Tuesday Cheeseburger Special
DESCRIPTION:Looking for the perfect way to jazz up your Tuesday evenings? Look no further than our mouthwatering Cheeseburger Special at VFW Post 985! Sink your teeth into our juicy cheeseburgers served with a medley of fresh toppings and accompanied by your choice of crispy or curly fries (small upcharge).
URL:https://vfwpost985.com/event/tuesday-cheeseburger-special-2/
LOCATION:Goshen VFW Post 985\, 1201 W. Pike Street\, Goshen\, IN\, 46526\, United States
CATEGORIES:Regular
ATTACH;FMTTYPE=image/jpeg:https://vfwpost985.com/wp-content/uploads/2020/11/burger-1140824_1920.jpg
END:VEVENT
BEGIN:VEVENT
DTSTART;TZID=America/New_York:20231113T170000
DTEND;TZID=America/New_York:20231113T190000
DTSTAMP:20260425T195224
CREATED:20231107T161702Z
LAST-MODIFIED:20231107T161702Z
UID:10000035-1699894800-1699902000@vfwpost985.com
SUMMARY:Chicken Wings Night!
DESCRIPTION:Join us every Monday for a finger-licking good time at VFW Post 985’s Wing Night! Indulge in various succulent wings prepared just the way you like them! Our talented cooks have perfected the art of creating the most mouthwatering wings that will leave you craving more.
URL:https://vfwpost985.com/event/chicken-wings-night/
LOCATION:Goshen VFW Post 985\, 1201 W. Pike Street\, Goshen\, IN\, 46526\, United States
CATEGORIES:Regular
ATTACH;FMTTYPE=image/jpeg:https://vfwpost985.com/wp-content/uploads/2023/11/ChickenWings-scaled.jpeg
END:VEVENT
BEGIN:VEVENT
DTSTART;VALUE=DATE:20231111
DTEND;VALUE=DATE:20231112
DTSTAMP:20260425T195224
CREATED:20231107T160225Z
LAST-MODIFIED:20231107T160225Z
UID:10000034-1699660800-1699747199@vfwpost985.com
SUMMARY:Donate Blood
DESCRIPTION:When you donate blood\, you are saving lives of friends\, family\, and members of your community. Every 2 seconds someone in the United States needs blood\, and with your donation\, you can save upwards to three individual lives. Since blood cannot be manufactured\, blood donations are necessary to ensure that healthcare systems have adequate supply for those in need. \nBy donating blood\, you are protecting the community supply and helping save the life of someone in our community.
URL:https://vfwpost985.com/event/donate-blood/
LOCATION:Goshen VFW Post 985\, 1201 W. Pike Street\, Goshen\, IN\, 46526\, United States
CATEGORIES:Charity
ATTACH;FMTTYPE=image/jpeg:https://vfwpost985.com/wp-content/uploads/2023/11/SBM_SaveLivesPic.jpg
END:VEVENT
BEGIN:VEVENT
DTSTART;TZID=America/New_York:20231110T080000
DTEND;TZID=America/New_York:20231110T170000
DTSTAMP:20260425T195224
CREATED:20231107T154456Z
LAST-MODIFIED:20231107T154456Z
UID:10000033-1699603200-1699635600@vfwpost985.com
SUMMARY:Swiss Steak Night
DESCRIPTION:Prepare for a delicious evening with mouthwatering Swiss steak dishes and great company! Our talented cooks have prepared a delectable menu featuring tender Swiss steak with savory sides to satisfy your taste buds. \nWhether you’re a VFW member\, a resident\, or a visitor passing through\, everyone is welcome to enjoy this special culinary event. Come and indulge in the flavors of the night while supporting our veterans’ community. Your attendance helps us continue to provide essential services to veterans and their families.
URL:https://vfwpost985.com/event/swiss-steak-night/
LOCATION:Goshen VFW Post 985\, 1201 W. Pike Street\, Goshen\, IN\, 46526\, United States
CATEGORIES:Regular
ATTACH;FMTTYPE=image/jpeg:https://vfwpost985.com/wp-content/uploads/2023/11/SwissSteak-scaled.jpeg
END:VEVENT
END:VCALENDAR