BEGIN:VCALENDAR
VERSION:2.0
PRODID:-//VFW Post 985 - ECPv6.15.17.1//NONSGML v1.0//EN
CALSCALE:GREGORIAN
METHOD:PUBLISH
X-WR-CALNAME:VFW Post 985
X-ORIGINAL-URL:https://vfwpost985.com
X-WR-CALDESC:Events for VFW Post 985
REFRESH-INTERVAL;VALUE=DURATION:PT1H
X-Robots-Tag:noindex
X-PUBLISHED-TTL:PT1H
BEGIN:VTIMEZONE
TZID:America/New_York
BEGIN:DAYLIGHT
TZOFFSETFROM:-0500
TZOFFSETTO:-0400
TZNAME:EDT
DTSTART:20190310T070000
END:DAYLIGHT
BEGIN:STANDARD
TZOFFSETFROM:-0400
TZOFFSETTO:-0500
TZNAME:EST
DTSTART:20191103T060000
END:STANDARD
BEGIN:DAYLIGHT
TZOFFSETFROM:-0500
TZOFFSETTO:-0400
TZNAME:EDT
DTSTART:20200308T070000
END:DAYLIGHT
BEGIN:STANDARD
TZOFFSETFROM:-0400
TZOFFSETTO:-0500
TZNAME:EST
DTSTART:20201101T060000
END:STANDARD
BEGIN:DAYLIGHT
TZOFFSETFROM:-0500
TZOFFSETTO:-0400
TZNAME:EDT
DTSTART:20210314T070000
END:DAYLIGHT
BEGIN:STANDARD
TZOFFSETFROM:-0400
TZOFFSETTO:-0500
TZNAME:EST
DTSTART:20211107T060000
END:STANDARD
BEGIN:DAYLIGHT
TZOFFSETFROM:-0500
TZOFFSETTO:-0400
TZNAME:EDT
DTSTART:20220313T070000
END:DAYLIGHT
BEGIN:STANDARD
TZOFFSETFROM:-0400
TZOFFSETTO:-0500
TZNAME:EST
DTSTART:20221106T060000
END:STANDARD
BEGIN:DAYLIGHT
TZOFFSETFROM:-0500
TZOFFSETTO:-0400
TZNAME:EDT
DTSTART:20230312T070000
END:DAYLIGHT
BEGIN:STANDARD
TZOFFSETFROM:-0400
TZOFFSETTO:-0500
TZNAME:EST
DTSTART:20231105T060000
END:STANDARD
BEGIN:DAYLIGHT
TZOFFSETFROM:-0500
TZOFFSETTO:-0400
TZNAME:EDT
DTSTART:20240310T070000
END:DAYLIGHT
BEGIN:STANDARD
TZOFFSETFROM:-0400
TZOFFSETTO:-0500
TZNAME:EST
DTSTART:20241103T060000
END:STANDARD
END:VTIMEZONE
BEGIN:VEVENT
DTSTART;TZID=America/New_York:20230506T080000
DTEND;TZID=America/New_York:20230506T120000
DTSTAMP:20260425T202438
CREATED:20230502T201152Z
LAST-MODIFIED:20230502T201338Z
UID:10000017-1683360000-1683374400@vfwpost985.com
SUMMARY:Garage Sale
DESCRIPTION:One mans junk is another man’s treasure! Come to our garage sale and find your treasure!
URL:https://vfwpost985.com/event/garage-sale/
LOCATION:Goshen VFW Post 985\, 1201 W. Pike Street\, Goshen\, IN\, 46526\, United States
CATEGORIES:Regular
ATTACH;FMTTYPE=image/jpeg:https://vfwpost985.com/wp-content/uploads/2023/05/flea-market-1732562_960_7201.jpg
END:VEVENT
BEGIN:VEVENT
DTSTART;VALUE=DATE:20230503
DTEND;VALUE=DATE:20230504
DTSTAMP:20260425T202438
CREATED:20230502T201007Z
LAST-MODIFIED:20230502T201007Z
UID:10000016-1683072000-1683158399@vfwpost985.com
SUMMARY:South Bend Medical Foundation Blood Drive
DESCRIPTION:When you donate blood\, you are saving lives of friends\, family\, and members of your community. Every 2 seconds someone in the United States needs blood\, and with your donation\, you can save upwards to three individual lives. Since blood cannot be manufactured\, blood donations are necessary to ensure that healthcare systems have adequate supply for those in need.
URL:https://vfwpost985.com/event/south-bend-medical-foundation-blood-drive/
LOCATION:Goshen VFW Post 985\, 1201 W. Pike Street\, Goshen\, IN\, 46526\, United States
ATTACH;FMTTYPE=image/jpeg:https://vfwpost985.com/wp-content/uploads/2023/05/SBM_SaveLivesPic1.jpg
END:VEVENT
BEGIN:VEVENT
DTSTART;TZID=America/New_York:20230502T080000
DTEND;TZID=America/New_York:20230502T170000
DTSTAMP:20260425T202438
CREATED:20230503T005346Z
LAST-MODIFIED:20230503T005346Z
UID:10000021-1683014400-1683046800@vfwpost985.com
SUMMARY:Stuffed Burgers
DESCRIPTION:Get your stuffed burger at the V! Come hungry because you won’t leave that way!
URL:https://vfwpost985.com/event/stuffed-burgers/
LOCATION:IN
CATEGORIES:Regular
ATTACH;FMTTYPE=image/jpeg:https://vfwpost985.com/wp-content/uploads/2023/05/hamburger-207295_960_7201.jpg
END:VEVENT
BEGIN:VEVENT
DTSTART;TZID=America/New_York:20230502T080000
DTEND;TZID=America/New_York:20230502T170000
DTSTAMP:20260425T202438
CREATED:20230503T003007Z
LAST-MODIFIED:20230503T003007Z
UID:10000019-1683014400-1683046800@vfwpost985.com
SUMMARY:Lippert Comedy Night
DESCRIPTION:The Lippert Players will be hosting an improv comedy show at the Goshen VFW! Come on out to support by ordering dinner or helping us man the kitchen for spectators! #LippertCares #ComedyNight #VFW
URL:https://vfwpost985.com/event/lippert-comedy-night/
LOCATION:IN
CATEGORIES:Fundraisers
ATTACH;FMTTYPE=image/jpeg:https://vfwpost985.com/wp-content/uploads/2023/05/microphone-5340340_960_7201.jpg
ORGANIZER;CN="Caleb Denney":MAILTO:cdenney@lci1.com
END:VEVENT
BEGIN:VEVENT
DTSTART;TZID=America/New_York:20221130T170000
DTEND;TZID=America/New_York:20221130T210000
DTSTAMP:20260425T202438
CREATED:20210318T201707Z
LAST-MODIFIED:20221125T192057Z
UID:10000006-1669827600-1669842000@vfwpost985.com
SUMMARY:Wednesday Nights
DESCRIPTION:Food Served 1700 – 1900 \nTreasure Chest Drawing 1850
URL:https://vfwpost985.com/event/wednesday-nights-3/
LOCATION:Goshen VFW Post 985\, 1201 W. Pike Street\, Goshen\, IN\, 46526\, United States
ATTACH;FMTTYPE=image/jpeg:https://vfwpost985.com/wp-content/uploads/2020/11/burger-1140824_1920.jpg
END:VEVENT
BEGIN:VEVENT
DTSTART;TZID=America/New_York:20221125T170000
DTEND;TZID=America/New_York:20221125T220000
DTSTAMP:20260425T202438
CREATED:20221125T192352Z
LAST-MODIFIED:20221125T192352Z
UID:10000013-1669395600-1669413600@vfwpost985.com
SUMMARY:Black Friday Party
DESCRIPTION:Party with us on Black Friday after you are done with your shopping and your naps.  Broasted Pork Chop dinner served from 5 until sold out.  Music by High Life starting at 7:00\, Come and join the party and dance off some of that turkey and dressing.
URL:https://vfwpost985.com/event/black-friday-party/
LOCATION:Goshen VFW Post 985\, 1201 W. Pike Street\, Goshen\, IN\, 46526\, United States
END:VEVENT
BEGIN:VEVENT
DTSTART;VALUE=DATE:20221125
DTEND;VALUE=DATE:20230211
DTSTAMP:20260425T202438
CREATED:20220915T231055Z
LAST-MODIFIED:20221125T191827Z
UID:10000010-1669334400-1676073599@vfwpost985.com
SUMMARY:Candy is Here
DESCRIPTION:VFW Auxiliary is now selling candy and nuts from Terry Lynn. Candy will be displayed and on sale every Friday night during dinner..
URL:https://vfwpost985.com/event/candy-sales/
LOCATION:IN
ATTACH;FMTTYPE=image/jpeg:https://vfwpost985.com/wp-content/uploads/2022/09/chocolates-gaa9728712_1280.jpg
END:VEVENT
BEGIN:VEVENT
DTSTART;TZID=America/New_York:20220930T190000
DTEND;TZID=America/New_York:20220930T220000
DTSTAMP:20260425T202438
CREATED:20220930T000840Z
LAST-MODIFIED:20220930T000840Z
UID:10000012-1664564400-1664575200@vfwpost985.com
SUMMARY:High Life
DESCRIPTION:The band High Life will be playing Friday September 30th starting at 7.
URL:https://vfwpost985.com/event/high-life/
LOCATION:IN
END:VEVENT
BEGIN:VEVENT
DTSTART;TZID=America/New_York:20220922T170000
DTEND;TZID=America/New_York:20220922T190000
DTSTAMP:20260425T202438
CREATED:20220921T233239Z
LAST-MODIFIED:20220921T233244Z
UID:10000011-1663866000-1663873200@vfwpost985.com
SUMMARY:Broasted Pork Chop Dinner
DESCRIPTION:Dinner includes mashed potatoes\, gravy\, vegetable and roll for $9
URL:https://vfwpost985.com/event/broasted-pork-chop-dinner/
LOCATION:IN
END:VEVENT
BEGIN:VEVENT
DTSTART;TZID=America/New_York:20220921T170000
DTEND;TZID=America/New_York:20220921T190000
DTSTAMP:20260425T202438
CREATED:20220915T230531Z
LAST-MODIFIED:20220915T230531Z
UID:10000009-1663779600-1663786800@vfwpost985.com
SUMMARY:Wednesday Nights
DESCRIPTION:Food Served 1700 – 1900 \nTreasure Chest Drawing 1850
URL:https://vfwpost985.com/event/wednesday-nights-4/
LOCATION:Goshen VFW Post 985\, 1201 W. Pike Street\, Goshen\, IN\, 46526\, United States
CATEGORIES:Regular
ATTACH;FMTTYPE=image/jpeg:https://vfwpost985.com/wp-content/uploads/2020/11/burger-1140824_1920.jpg
END:VEVENT
BEGIN:VEVENT
DTSTART;TZID=America/New_York:20210410T080000
DTEND;TZID=America/New_York:20210410T170000
DTSTAMP:20260425T202438
CREATED:20210318T201934Z
LAST-MODIFIED:20210318T202036Z
UID:10000008-1618041600-1618074000@vfwpost985.com
SUMMARY:Steak Fry
DESCRIPTION:Dinner 1700 -01900\nPeanut with Karoke 1900-2200
URL:https://vfwpost985.com/event/steak-fry/
LOCATION:Goshen VFW Post 985\, 1201 W. Pike Street\, Goshen\, IN\, 46526\, United States
ATTACH;FMTTYPE=image/jpeg:https://vfwpost985.com/wp-content/uploads/2021/03/steak-2272464_960_7201.jpg
END:VEVENT
BEGIN:VEVENT
DTSTART;TZID=America/New_York:20210331T080000
DTEND;TZID=America/New_York:20210331T210000
DTSTAMP:20260425T202438
CREATED:20210318T201625Z
LAST-MODIFIED:20210318T201625Z
UID:10000005-1617177600-1617224400@vfwpost985.com
SUMMARY:Wednesday Nights
DESCRIPTION:Food Served 1700 – 1900 \nTreasure Chest Drawing 1850
URL:https://vfwpost985.com/event/wednesday-nights-2/
LOCATION:Goshen VFW Post 985\, 1201 W. Pike Street\, Goshen\, IN\, 46526\, United States
ATTACH;FMTTYPE=image/jpeg:https://vfwpost985.com/wp-content/uploads/2020/11/burger-1140824_1920.jpg
END:VEVENT
BEGIN:VEVENT
DTSTART;TZID=America/New_York:20210324T080000
DTEND;TZID=America/New_York:20210324T210000
DTSTAMP:20260425T202438
CREATED:20210318T201312Z
LAST-MODIFIED:20210318T201557Z
UID:10000007-1616572800-1616619600@vfwpost985.com
SUMMARY:Wednesday Nights
DESCRIPTION:Food Served 1700 – 1900 \nTreasure Chest Drawing 1850
URL:https://vfwpost985.com/event/wednesday-nights/
LOCATION:Goshen VFW Post 985\, 1201 W. Pike Street\, Goshen\, IN\, 46526\, United States
ATTACH;FMTTYPE=image/jpeg:https://vfwpost985.com/wp-content/uploads/2020/11/burger-1140824_1920.jpg
END:VEVENT
BEGIN:VEVENT
DTSTART;TZID=America/New_York:20201202T190000
DTEND;TZID=America/New_York:20201202T200000
DTSTAMP:20260425T202438
CREATED:20201110T162237Z
LAST-MODIFIED:20201110T162834Z
UID:10000004-1606935600-1606939200@vfwpost985.com
SUMMARY:Post Meeting
DESCRIPTION:Our post meetings are open to the public\, but you have to be a member in order to vote on agenda items.
URL:https://vfwpost985.com/event/post-meeting/
LOCATION:Goshen VFW Post 985\, 1201 W. Pike Street\, Goshen\, IN\, 46526\, United States
ATTACH;FMTTYPE=image/jpeg:https://vfwpost985.com/wp-content/uploads/2020/11/post-meetings.jpg
END:VEVENT
BEGIN:VEVENT
DTSTART;TZID=America/New_York:20201121T080000
DTEND;TZID=America/New_York:20201121T140000
DTSTAMP:20260425T202438
CREATED:20201110T161437Z
LAST-MODIFIED:20201110T161437Z
UID:10000003-1605945600-1605967200@vfwpost985.com
SUMMARY:Indoor Garage and Craft Sale
DESCRIPTION:Indoor Garage and Craft Sale! Treasures galore! Shop inside where it is warm. \nAnyone interested in selling\, tables are available for $10 each. Contact Jerri Stutzman or Jan Santos at the VFW 574.533.6460 to reserve your table(s). \nFood will be available. \nThe public is welcome!
URL:https://vfwpost985.com/event/indoor-garage-and-craft-sale/
LOCATION:Goshen VFW Post 985\, 1201 W. Pike Street\, Goshen\, IN\, 46526\, United States
ATTACH;FMTTYPE=image/jpeg:https://vfwpost985.com/wp-content/uploads/2020/11/garage-sale.jpg
END:VEVENT
BEGIN:VEVENT
DTSTART;TZID=America/New_York:20201111T113000
DTEND;TZID=America/New_York:20201111T173000
DTSTAMP:20260425T202438
CREATED:20201110T155353Z
LAST-MODIFIED:20201110T160305Z
UID:10000002-1605094200-1605115800@vfwpost985.com
SUMMARY:Blood Drive at VFW Post 985
DESCRIPTION:November donors will receive a voucher for a free turkey! \nSign up at https://GiveBloodNow.com\nSponsor code: VFW985
URL:https://vfwpost985.com/event/blood-drive-at-vfw-post-985/
LOCATION:Goshen VFW Post 985\, 1201 W. Pike Street\, Goshen\, IN\, 46526\, United States
ATTACH;FMTTYPE=image/png:https://vfwpost985.com/wp-content/uploads/2020/11/picture1_orig.png
END:VEVENT
END:VCALENDAR