BEGIN:VCALENDAR
VERSION:2.0
PRODID:-//VFW Post 985 - ECPv6.15.17.1//NONSGML v1.0//EN
CALSCALE:GREGORIAN
METHOD:PUBLISH
X-ORIGINAL-URL:https://vfwpost985.com
X-WR-CALDESC:Events for VFW Post 985
REFRESH-INTERVAL;VALUE=DURATION:PT1H
X-Robots-Tag:noindex
X-PUBLISHED-TTL:PT1H
BEGIN:VTIMEZONE
TZID:America/New_York
BEGIN:DAYLIGHT
TZOFFSETFROM:-0500
TZOFFSETTO:-0400
TZNAME:EDT
DTSTART:20250309T070000
END:DAYLIGHT
BEGIN:STANDARD
TZOFFSETFROM:-0400
TZOFFSETTO:-0500
TZNAME:EST
DTSTART:20251102T060000
END:STANDARD
BEGIN:DAYLIGHT
TZOFFSETFROM:-0500
TZOFFSETTO:-0400
TZNAME:EDT
DTSTART:20260308T070000
END:DAYLIGHT
BEGIN:STANDARD
TZOFFSETFROM:-0400
TZOFFSETTO:-0500
TZNAME:EST
DTSTART:20261101T060000
END:STANDARD
BEGIN:DAYLIGHT
TZOFFSETFROM:-0500
TZOFFSETTO:-0400
TZNAME:EDT
DTSTART:20270314T070000
END:DAYLIGHT
BEGIN:STANDARD
TZOFFSETFROM:-0400
TZOFFSETTO:-0500
TZNAME:EST
DTSTART:20271107T060000
END:STANDARD
END:VTIMEZONE
BEGIN:VEVENT
DTSTART;TZID=America/New_York:20260429T170000
DTEND;TZID=America/New_York:20260429T190000
DTSTAMP:20260423T112642
CREATED:20231215T171222Z
LAST-MODIFIED:20231215T174618Z
UID:10000437-1777482000-1777489200@vfwpost985.com
SUMMARY:Wednesday Nights
DESCRIPTION:Food Served 1700 – 1900 \nTreasure Chest Drawing 1850
URL:https://vfwpost985.com/event/wednesday-nights-5/2026-04-29/
LOCATION:Goshen VFW Post 985\, 1201 W. Pike Street\, Goshen\, IN\, 46526\, United States
CATEGORIES:Regular
ATTACH;FMTTYPE=image/png:https://vfwpost985.com/wp-content/uploads/2020/11/treasure-chest.png
END:VEVENT
BEGIN:VEVENT
DTSTART;TZID=America/New_York:20260506T170000
DTEND;TZID=America/New_York:20260506T190000
DTSTAMP:20260423T112642
CREATED:20231215T171222Z
LAST-MODIFIED:20231215T174618Z
UID:10000438-1778086800-1778094000@vfwpost985.com
SUMMARY:Wednesday Nights
DESCRIPTION:Food Served 1700 – 1900 \nTreasure Chest Drawing 1850
URL:https://vfwpost985.com/event/wednesday-nights-5/2026-05-06/
LOCATION:Goshen VFW Post 985\, 1201 W. Pike Street\, Goshen\, IN\, 46526\, United States
CATEGORIES:Regular
ATTACH;FMTTYPE=image/png:https://vfwpost985.com/wp-content/uploads/2020/11/treasure-chest.png
END:VEVENT
BEGIN:VEVENT
DTSTART;TZID=America/New_York:20260513T170000
DTEND;TZID=America/New_York:20260513T190000
DTSTAMP:20260423T112642
CREATED:20231215T171222Z
LAST-MODIFIED:20231215T174618Z
UID:10000439-1778691600-1778698800@vfwpost985.com
SUMMARY:Wednesday Nights
DESCRIPTION:Food Served 1700 – 1900 \nTreasure Chest Drawing 1850
URL:https://vfwpost985.com/event/wednesday-nights-5/2026-05-13/
LOCATION:Goshen VFW Post 985\, 1201 W. Pike Street\, Goshen\, IN\, 46526\, United States
CATEGORIES:Regular
ATTACH;FMTTYPE=image/png:https://vfwpost985.com/wp-content/uploads/2020/11/treasure-chest.png
END:VEVENT
BEGIN:VEVENT
DTSTART;TZID=America/New_York:20260520T170000
DTEND;TZID=America/New_York:20260520T190000
DTSTAMP:20260423T112642
CREATED:20231215T171222Z
LAST-MODIFIED:20231215T174618Z
UID:10000440-1779296400-1779303600@vfwpost985.com
SUMMARY:Wednesday Nights
DESCRIPTION:Food Served 1700 – 1900 \nTreasure Chest Drawing 1850
URL:https://vfwpost985.com/event/wednesday-nights-5/2026-05-20/
LOCATION:Goshen VFW Post 985\, 1201 W. Pike Street\, Goshen\, IN\, 46526\, United States
CATEGORIES:Regular
ATTACH;FMTTYPE=image/png:https://vfwpost985.com/wp-content/uploads/2020/11/treasure-chest.png
END:VEVENT
BEGIN:VEVENT
DTSTART;TZID=America/New_York:20260527T170000
DTEND;TZID=America/New_York:20260527T190000
DTSTAMP:20260423T112642
CREATED:20231215T171222Z
LAST-MODIFIED:20231215T174618Z
UID:10000441-1779901200-1779908400@vfwpost985.com
SUMMARY:Wednesday Nights
DESCRIPTION:Food Served 1700 – 1900 \nTreasure Chest Drawing 1850
URL:https://vfwpost985.com/event/wednesday-nights-5/2026-05-27/
LOCATION:Goshen VFW Post 985\, 1201 W. Pike Street\, Goshen\, IN\, 46526\, United States
CATEGORIES:Regular
ATTACH;FMTTYPE=image/png:https://vfwpost985.com/wp-content/uploads/2020/11/treasure-chest.png
END:VEVENT
BEGIN:VEVENT
DTSTART;TZID=America/New_York:20260603T170000
DTEND;TZID=America/New_York:20260603T190000
DTSTAMP:20260423T112642
CREATED:20231215T171222Z
LAST-MODIFIED:20231215T174618Z
UID:10000442-1780506000-1780513200@vfwpost985.com
SUMMARY:Wednesday Nights
DESCRIPTION:Food Served 1700 – 1900 \nTreasure Chest Drawing 1850
URL:https://vfwpost985.com/event/wednesday-nights-5/2026-06-03/
LOCATION:Goshen VFW Post 985\, 1201 W. Pike Street\, Goshen\, IN\, 46526\, United States
CATEGORIES:Regular
ATTACH;FMTTYPE=image/png:https://vfwpost985.com/wp-content/uploads/2020/11/treasure-chest.png
END:VEVENT
BEGIN:VEVENT
DTSTART;TZID=America/New_York:20260610T170000
DTEND;TZID=America/New_York:20260610T190000
DTSTAMP:20260423T112642
CREATED:20231215T171222Z
LAST-MODIFIED:20231215T174618Z
UID:10000443-1781110800-1781118000@vfwpost985.com
SUMMARY:Wednesday Nights
DESCRIPTION:Food Served 1700 – 1900 \nTreasure Chest Drawing 1850
URL:https://vfwpost985.com/event/wednesday-nights-5/2026-06-10/
LOCATION:Goshen VFW Post 985\, 1201 W. Pike Street\, Goshen\, IN\, 46526\, United States
CATEGORIES:Regular
ATTACH;FMTTYPE=image/png:https://vfwpost985.com/wp-content/uploads/2020/11/treasure-chest.png
END:VEVENT
BEGIN:VEVENT
DTSTART;TZID=America/New_York:20260617T170000
DTEND;TZID=America/New_York:20260617T190000
DTSTAMP:20260423T112642
CREATED:20231215T171222Z
LAST-MODIFIED:20231215T174618Z
UID:10000444-1781715600-1781722800@vfwpost985.com
SUMMARY:Wednesday Nights
DESCRIPTION:Food Served 1700 – 1900 \nTreasure Chest Drawing 1850
URL:https://vfwpost985.com/event/wednesday-nights-5/2026-06-17/
LOCATION:Goshen VFW Post 985\, 1201 W. Pike Street\, Goshen\, IN\, 46526\, United States
CATEGORIES:Regular
ATTACH;FMTTYPE=image/png:https://vfwpost985.com/wp-content/uploads/2020/11/treasure-chest.png
END:VEVENT
BEGIN:VEVENT
DTSTART;TZID=America/New_York:20260624T170000
DTEND;TZID=America/New_York:20260624T190000
DTSTAMP:20260423T112642
CREATED:20231215T171222Z
LAST-MODIFIED:20231215T174618Z
UID:10000445-1782320400-1782327600@vfwpost985.com
SUMMARY:Wednesday Nights
DESCRIPTION:Food Served 1700 – 1900 \nTreasure Chest Drawing 1850
URL:https://vfwpost985.com/event/wednesday-nights-5/2026-06-24/
LOCATION:Goshen VFW Post 985\, 1201 W. Pike Street\, Goshen\, IN\, 46526\, United States
CATEGORIES:Regular
ATTACH;FMTTYPE=image/png:https://vfwpost985.com/wp-content/uploads/2020/11/treasure-chest.png
END:VEVENT
BEGIN:VEVENT
DTSTART;TZID=America/New_York:20260701T170000
DTEND;TZID=America/New_York:20260701T190000
DTSTAMP:20260423T112642
CREATED:20231215T171222Z
LAST-MODIFIED:20231215T174618Z
UID:10000446-1782925200-1782932400@vfwpost985.com
SUMMARY:Wednesday Nights
DESCRIPTION:Food Served 1700 – 1900 \nTreasure Chest Drawing 1850
URL:https://vfwpost985.com/event/wednesday-nights-5/2026-07-01/
LOCATION:Goshen VFW Post 985\, 1201 W. Pike Street\, Goshen\, IN\, 46526\, United States
CATEGORIES:Regular
ATTACH;FMTTYPE=image/png:https://vfwpost985.com/wp-content/uploads/2020/11/treasure-chest.png
END:VEVENT
BEGIN:VEVENT
DTSTART;TZID=America/New_York:20260708T170000
DTEND;TZID=America/New_York:20260708T190000
DTSTAMP:20260423T112642
CREATED:20231215T171222Z
LAST-MODIFIED:20231215T174618Z
UID:10000447-1783530000-1783537200@vfwpost985.com
SUMMARY:Wednesday Nights
DESCRIPTION:Food Served 1700 – 1900 \nTreasure Chest Drawing 1850
URL:https://vfwpost985.com/event/wednesday-nights-5/2026-07-08/
LOCATION:Goshen VFW Post 985\, 1201 W. Pike Street\, Goshen\, IN\, 46526\, United States
CATEGORIES:Regular
ATTACH;FMTTYPE=image/png:https://vfwpost985.com/wp-content/uploads/2020/11/treasure-chest.png
END:VEVENT
BEGIN:VEVENT
DTSTART;TZID=America/New_York:20260715T170000
DTEND;TZID=America/New_York:20260715T190000
DTSTAMP:20260423T112642
CREATED:20231215T171222Z
LAST-MODIFIED:20231215T174618Z
UID:10000448-1784134800-1784142000@vfwpost985.com
SUMMARY:Wednesday Nights
DESCRIPTION:Food Served 1700 – 1900 \nTreasure Chest Drawing 1850
URL:https://vfwpost985.com/event/wednesday-nights-5/2026-07-15/
LOCATION:Goshen VFW Post 985\, 1201 W. Pike Street\, Goshen\, IN\, 46526\, United States
CATEGORIES:Regular
ATTACH;FMTTYPE=image/png:https://vfwpost985.com/wp-content/uploads/2020/11/treasure-chest.png
END:VEVENT
BEGIN:VEVENT
DTSTART;TZID=America/New_York:20260722T170000
DTEND;TZID=America/New_York:20260722T190000
DTSTAMP:20260423T112642
CREATED:20231215T171222Z
LAST-MODIFIED:20231215T174618Z
UID:10000449-1784739600-1784746800@vfwpost985.com
SUMMARY:Wednesday Nights
DESCRIPTION:Food Served 1700 – 1900 \nTreasure Chest Drawing 1850
URL:https://vfwpost985.com/event/wednesday-nights-5/2026-07-22/
LOCATION:Goshen VFW Post 985\, 1201 W. Pike Street\, Goshen\, IN\, 46526\, United States
CATEGORIES:Regular
ATTACH;FMTTYPE=image/png:https://vfwpost985.com/wp-content/uploads/2020/11/treasure-chest.png
END:VEVENT
BEGIN:VEVENT
DTSTART;TZID=America/New_York:20260729T170000
DTEND;TZID=America/New_York:20260729T190000
DTSTAMP:20260423T112642
CREATED:20231215T171222Z
LAST-MODIFIED:20231215T174618Z
UID:10000450-1785344400-1785351600@vfwpost985.com
SUMMARY:Wednesday Nights
DESCRIPTION:Food Served 1700 – 1900 \nTreasure Chest Drawing 1850
URL:https://vfwpost985.com/event/wednesday-nights-5/2026-07-29/
LOCATION:Goshen VFW Post 985\, 1201 W. Pike Street\, Goshen\, IN\, 46526\, United States
CATEGORIES:Regular
ATTACH;FMTTYPE=image/png:https://vfwpost985.com/wp-content/uploads/2020/11/treasure-chest.png
END:VEVENT
BEGIN:VEVENT
DTSTART;TZID=America/New_York:20260805T170000
DTEND;TZID=America/New_York:20260805T190000
DTSTAMP:20260423T112642
CREATED:20231215T171222Z
LAST-MODIFIED:20231215T174618Z
UID:10000451-1785949200-1785956400@vfwpost985.com
SUMMARY:Wednesday Nights
DESCRIPTION:Food Served 1700 – 1900 \nTreasure Chest Drawing 1850
URL:https://vfwpost985.com/event/wednesday-nights-5/2026-08-05/
LOCATION:Goshen VFW Post 985\, 1201 W. Pike Street\, Goshen\, IN\, 46526\, United States
CATEGORIES:Regular
ATTACH;FMTTYPE=image/png:https://vfwpost985.com/wp-content/uploads/2020/11/treasure-chest.png
END:VEVENT
BEGIN:VEVENT
DTSTART;TZID=America/New_York:20260812T170000
DTEND;TZID=America/New_York:20260812T190000
DTSTAMP:20260423T112642
CREATED:20231215T171222Z
LAST-MODIFIED:20231215T174618Z
UID:10000452-1786554000-1786561200@vfwpost985.com
SUMMARY:Wednesday Nights
DESCRIPTION:Food Served 1700 – 1900 \nTreasure Chest Drawing 1850
URL:https://vfwpost985.com/event/wednesday-nights-5/2026-08-12/
LOCATION:Goshen VFW Post 985\, 1201 W. Pike Street\, Goshen\, IN\, 46526\, United States
CATEGORIES:Regular
ATTACH;FMTTYPE=image/png:https://vfwpost985.com/wp-content/uploads/2020/11/treasure-chest.png
END:VEVENT
BEGIN:VEVENT
DTSTART;TZID=America/New_York:20260819T170000
DTEND;TZID=America/New_York:20260819T190000
DTSTAMP:20260423T112642
CREATED:20231215T171222Z
LAST-MODIFIED:20231215T174618Z
UID:10000453-1787158800-1787166000@vfwpost985.com
SUMMARY:Wednesday Nights
DESCRIPTION:Food Served 1700 – 1900 \nTreasure Chest Drawing 1850
URL:https://vfwpost985.com/event/wednesday-nights-5/2026-08-19/
LOCATION:Goshen VFW Post 985\, 1201 W. Pike Street\, Goshen\, IN\, 46526\, United States
CATEGORIES:Regular
ATTACH;FMTTYPE=image/png:https://vfwpost985.com/wp-content/uploads/2020/11/treasure-chest.png
END:VEVENT
BEGIN:VEVENT
DTSTART;TZID=America/New_York:20260826T170000
DTEND;TZID=America/New_York:20260826T190000
DTSTAMP:20260423T112642
CREATED:20231215T171222Z
LAST-MODIFIED:20231215T174618Z
UID:10000454-1787763600-1787770800@vfwpost985.com
SUMMARY:Wednesday Nights
DESCRIPTION:Food Served 1700 – 1900 \nTreasure Chest Drawing 1850
URL:https://vfwpost985.com/event/wednesday-nights-5/2026-08-26/
LOCATION:Goshen VFW Post 985\, 1201 W. Pike Street\, Goshen\, IN\, 46526\, United States
CATEGORIES:Regular
ATTACH;FMTTYPE=image/png:https://vfwpost985.com/wp-content/uploads/2020/11/treasure-chest.png
END:VEVENT
BEGIN:VEVENT
DTSTART;TZID=America/New_York:20260902T170000
DTEND;TZID=America/New_York:20260902T190000
DTSTAMP:20260423T112642
CREATED:20231215T171222Z
LAST-MODIFIED:20231215T174618Z
UID:10000455-1788368400-1788375600@vfwpost985.com
SUMMARY:Wednesday Nights
DESCRIPTION:Food Served 1700 – 1900 \nTreasure Chest Drawing 1850
URL:https://vfwpost985.com/event/wednesday-nights-5/2026-09-02/
LOCATION:Goshen VFW Post 985\, 1201 W. Pike Street\, Goshen\, IN\, 46526\, United States
CATEGORIES:Regular
ATTACH;FMTTYPE=image/png:https://vfwpost985.com/wp-content/uploads/2020/11/treasure-chest.png
END:VEVENT
BEGIN:VEVENT
DTSTART;TZID=America/New_York:20260909T170000
DTEND;TZID=America/New_York:20260909T190000
DTSTAMP:20260423T112642
CREATED:20231215T171222Z
LAST-MODIFIED:20231215T174618Z
UID:10000456-1788973200-1788980400@vfwpost985.com
SUMMARY:Wednesday Nights
DESCRIPTION:Food Served 1700 – 1900 \nTreasure Chest Drawing 1850
URL:https://vfwpost985.com/event/wednesday-nights-5/2026-09-09/
LOCATION:Goshen VFW Post 985\, 1201 W. Pike Street\, Goshen\, IN\, 46526\, United States
CATEGORIES:Regular
ATTACH;FMTTYPE=image/png:https://vfwpost985.com/wp-content/uploads/2020/11/treasure-chest.png
END:VEVENT
BEGIN:VEVENT
DTSTART;TZID=America/New_York:20260916T170000
DTEND;TZID=America/New_York:20260916T190000
DTSTAMP:20260423T112642
CREATED:20231215T171222Z
LAST-MODIFIED:20231215T174618Z
UID:10000457-1789578000-1789585200@vfwpost985.com
SUMMARY:Wednesday Nights
DESCRIPTION:Food Served 1700 – 1900 \nTreasure Chest Drawing 1850
URL:https://vfwpost985.com/event/wednesday-nights-5/2026-09-16/
LOCATION:Goshen VFW Post 985\, 1201 W. Pike Street\, Goshen\, IN\, 46526\, United States
CATEGORIES:Regular
ATTACH;FMTTYPE=image/png:https://vfwpost985.com/wp-content/uploads/2020/11/treasure-chest.png
END:VEVENT
BEGIN:VEVENT
DTSTART;TZID=America/New_York:20260923T170000
DTEND;TZID=America/New_York:20260923T190000
DTSTAMP:20260423T112642
CREATED:20231215T171222Z
LAST-MODIFIED:20231215T174618Z
UID:10000458-1790182800-1790190000@vfwpost985.com
SUMMARY:Wednesday Nights
DESCRIPTION:Food Served 1700 – 1900 \nTreasure Chest Drawing 1850
URL:https://vfwpost985.com/event/wednesday-nights-5/2026-09-23/
LOCATION:Goshen VFW Post 985\, 1201 W. Pike Street\, Goshen\, IN\, 46526\, United States
CATEGORIES:Regular
ATTACH;FMTTYPE=image/png:https://vfwpost985.com/wp-content/uploads/2020/11/treasure-chest.png
END:VEVENT
BEGIN:VEVENT
DTSTART;TZID=America/New_York:20260930T170000
DTEND;TZID=America/New_York:20260930T190000
DTSTAMP:20260423T112642
CREATED:20231215T171222Z
LAST-MODIFIED:20231215T174618Z
UID:10000459-1790787600-1790794800@vfwpost985.com
SUMMARY:Wednesday Nights
DESCRIPTION:Food Served 1700 – 1900 \nTreasure Chest Drawing 1850
URL:https://vfwpost985.com/event/wednesday-nights-5/2026-09-30/
LOCATION:Goshen VFW Post 985\, 1201 W. Pike Street\, Goshen\, IN\, 46526\, United States
CATEGORIES:Regular
ATTACH;FMTTYPE=image/png:https://vfwpost985.com/wp-content/uploads/2020/11/treasure-chest.png
END:VEVENT
BEGIN:VEVENT
DTSTART;TZID=America/New_York:20261007T170000
DTEND;TZID=America/New_York:20261007T190000
DTSTAMP:20260423T112642
CREATED:20231215T171222Z
LAST-MODIFIED:20231215T174618Z
UID:10000460-1791392400-1791399600@vfwpost985.com
SUMMARY:Wednesday Nights
DESCRIPTION:Food Served 1700 – 1900 \nTreasure Chest Drawing 1850
URL:https://vfwpost985.com/event/wednesday-nights-5/2026-10-07/
LOCATION:Goshen VFW Post 985\, 1201 W. Pike Street\, Goshen\, IN\, 46526\, United States
CATEGORIES:Regular
ATTACH;FMTTYPE=image/png:https://vfwpost985.com/wp-content/uploads/2020/11/treasure-chest.png
END:VEVENT
BEGIN:VEVENT
DTSTART;TZID=America/New_York:20261014T170000
DTEND;TZID=America/New_York:20261014T190000
DTSTAMP:20260423T112642
CREATED:20231215T171222Z
LAST-MODIFIED:20231215T174618Z
UID:10000461-1791997200-1792004400@vfwpost985.com
SUMMARY:Wednesday Nights
DESCRIPTION:Food Served 1700 – 1900 \nTreasure Chest Drawing 1850
URL:https://vfwpost985.com/event/wednesday-nights-5/2026-10-14/
LOCATION:Goshen VFW Post 985\, 1201 W. Pike Street\, Goshen\, IN\, 46526\, United States
CATEGORIES:Regular
ATTACH;FMTTYPE=image/png:https://vfwpost985.com/wp-content/uploads/2020/11/treasure-chest.png
END:VEVENT
BEGIN:VEVENT
DTSTART;TZID=America/New_York:20261021T170000
DTEND;TZID=America/New_York:20261021T190000
DTSTAMP:20260423T112643
CREATED:20231215T171222Z
LAST-MODIFIED:20231215T174618Z
UID:10000462-1792602000-1792609200@vfwpost985.com
SUMMARY:Wednesday Nights
DESCRIPTION:Food Served 1700 – 1900 \nTreasure Chest Drawing 1850
URL:https://vfwpost985.com/event/wednesday-nights-5/2026-10-21/
LOCATION:Goshen VFW Post 985\, 1201 W. Pike Street\, Goshen\, IN\, 46526\, United States
CATEGORIES:Regular
ATTACH;FMTTYPE=image/png:https://vfwpost985.com/wp-content/uploads/2020/11/treasure-chest.png
END:VEVENT
BEGIN:VEVENT
DTSTART;TZID=America/New_York:20261028T170000
DTEND;TZID=America/New_York:20261028T190000
DTSTAMP:20260423T112643
CREATED:20231215T171222Z
LAST-MODIFIED:20231215T174618Z
UID:10000463-1793206800-1793214000@vfwpost985.com
SUMMARY:Wednesday Nights
DESCRIPTION:Food Served 1700 – 1900 \nTreasure Chest Drawing 1850
URL:https://vfwpost985.com/event/wednesday-nights-5/2026-10-28/
LOCATION:Goshen VFW Post 985\, 1201 W. Pike Street\, Goshen\, IN\, 46526\, United States
CATEGORIES:Regular
ATTACH;FMTTYPE=image/png:https://vfwpost985.com/wp-content/uploads/2020/11/treasure-chest.png
END:VEVENT
BEGIN:VEVENT
DTSTART;TZID=America/New_York:20261104T170000
DTEND;TZID=America/New_York:20261104T190000
DTSTAMP:20260423T112643
CREATED:20231215T171222Z
LAST-MODIFIED:20231215T174618Z
UID:10000464-1793811600-1793818800@vfwpost985.com
SUMMARY:Wednesday Nights
DESCRIPTION:Food Served 1700 – 1900 \nTreasure Chest Drawing 1850
URL:https://vfwpost985.com/event/wednesday-nights-5/2026-11-04/
LOCATION:Goshen VFW Post 985\, 1201 W. Pike Street\, Goshen\, IN\, 46526\, United States
CATEGORIES:Regular
ATTACH;FMTTYPE=image/png:https://vfwpost985.com/wp-content/uploads/2020/11/treasure-chest.png
END:VEVENT
BEGIN:VEVENT
DTSTART;TZID=America/New_York:20261111T170000
DTEND;TZID=America/New_York:20261111T190000
DTSTAMP:20260423T112643
CREATED:20231215T171222Z
LAST-MODIFIED:20231215T174618Z
UID:10000465-1794416400-1794423600@vfwpost985.com
SUMMARY:Wednesday Nights
DESCRIPTION:Food Served 1700 – 1900 \nTreasure Chest Drawing 1850
URL:https://vfwpost985.com/event/wednesday-nights-5/2026-11-11/
LOCATION:Goshen VFW Post 985\, 1201 W. Pike Street\, Goshen\, IN\, 46526\, United States
CATEGORIES:Regular
ATTACH;FMTTYPE=image/png:https://vfwpost985.com/wp-content/uploads/2020/11/treasure-chest.png
END:VEVENT
BEGIN:VEVENT
DTSTART;TZID=America/New_York:20261118T170000
DTEND;TZID=America/New_York:20261118T190000
DTSTAMP:20260423T112643
CREATED:20231215T171222Z
LAST-MODIFIED:20231215T174618Z
UID:10000466-1795021200-1795028400@vfwpost985.com
SUMMARY:Wednesday Nights
DESCRIPTION:Food Served 1700 – 1900 \nTreasure Chest Drawing 1850
URL:https://vfwpost985.com/event/wednesday-nights-5/2026-11-18/
LOCATION:Goshen VFW Post 985\, 1201 W. Pike Street\, Goshen\, IN\, 46526\, United States
CATEGORIES:Regular
ATTACH;FMTTYPE=image/png:https://vfwpost985.com/wp-content/uploads/2020/11/treasure-chest.png
END:VEVENT
END:VCALENDAR