BEGIN:VCALENDAR
VERSION:2.0
PRODID:-//VFW Post 985 - ECPv6.15.17.1//NONSGML v1.0//EN
CALSCALE:GREGORIAN
METHOD:PUBLISH
X-WR-CALNAME:VFW Post 985
X-ORIGINAL-URL:https://vfwpost985.com
X-WR-CALDESC:Events for VFW Post 985
REFRESH-INTERVAL;VALUE=DURATION:PT1H
X-Robots-Tag:noindex
X-PUBLISHED-TTL:PT1H
BEGIN:VTIMEZONE
TZID:America/New_York
BEGIN:DAYLIGHT
TZOFFSETFROM:-0500
TZOFFSETTO:-0400
TZNAME:EDT
DTSTART:20260308T070000
END:DAYLIGHT
BEGIN:STANDARD
TZOFFSETFROM:-0400
TZOFFSETTO:-0500
TZNAME:EST
DTSTART:20261101T060000
END:STANDARD
BEGIN:DAYLIGHT
TZOFFSETFROM:-0500
TZOFFSETTO:-0400
TZNAME:EDT
DTSTART:20270314T070000
END:DAYLIGHT
BEGIN:STANDARD
TZOFFSETFROM:-0400
TZOFFSETTO:-0500
TZNAME:EST
DTSTART:20271107T060000
END:STANDARD
BEGIN:DAYLIGHT
TZOFFSETFROM:-0500
TZOFFSETTO:-0400
TZNAME:EDT
DTSTART:20280312T070000
END:DAYLIGHT
BEGIN:STANDARD
TZOFFSETFROM:-0400
TZOFFSETTO:-0500
TZNAME:EST
DTSTART:20281105T060000
END:STANDARD
BEGIN:DAYLIGHT
TZOFFSETFROM:-0500
TZOFFSETTO:-0400
TZNAME:EDT
DTSTART:20290311T070000
END:DAYLIGHT
BEGIN:STANDARD
TZOFFSETFROM:-0400
TZOFFSETTO:-0500
TZNAME:EST
DTSTART:20291104T060000
END:STANDARD
END:VTIMEZONE
BEGIN:VEVENT
DTSTART;TZID=America/New_York:20270914T170000
DTEND;TZID=America/New_York:20270914T190000
DTSTAMP:20260423T184504
CREATED:20231215T170932Z
LAST-MODIFIED:20231215T174710Z
UID:10000769-1820941200-1820948400@vfwpost985.com
SUMMARY:Tuesday Cheeseburger Special
DESCRIPTION:Looking for the perfect way to jazz up your Tuesday evenings? Look no further than our mouthwatering Cheeseburger Special at VFW Post 985! Sink your teeth into our juicy cheeseburgers served with a medley of fresh toppings and accompanied by your choice of crispy or curly fries (small upcharge).
URL:https://vfwpost985.com/event/tuesday-cheeseburger-special-5/2027-09-14/
LOCATION:Goshen VFW Post 985\, 1201 W. Pike Street\, Goshen\, IN\, 46526\, United States
CATEGORIES:Regular
ATTACH;FMTTYPE=image/jpeg:https://vfwpost985.com/wp-content/uploads/2020/11/burger-1140824_1920.jpg
END:VEVENT
BEGIN:VEVENT
DTSTART;TZID=America/New_York:20270921T170000
DTEND;TZID=America/New_York:20270921T190000
DTSTAMP:20260423T184504
CREATED:20231215T170932Z
LAST-MODIFIED:20231215T174710Z
UID:10000770-1821546000-1821553200@vfwpost985.com
SUMMARY:Tuesday Cheeseburger Special
DESCRIPTION:Looking for the perfect way to jazz up your Tuesday evenings? Look no further than our mouthwatering Cheeseburger Special at VFW Post 985! Sink your teeth into our juicy cheeseburgers served with a medley of fresh toppings and accompanied by your choice of crispy or curly fries (small upcharge).
URL:https://vfwpost985.com/event/tuesday-cheeseburger-special-5/2027-09-21/
LOCATION:Goshen VFW Post 985\, 1201 W. Pike Street\, Goshen\, IN\, 46526\, United States
CATEGORIES:Regular
ATTACH;FMTTYPE=image/jpeg:https://vfwpost985.com/wp-content/uploads/2020/11/burger-1140824_1920.jpg
END:VEVENT
BEGIN:VEVENT
DTSTART;TZID=America/New_York:20270928T170000
DTEND;TZID=America/New_York:20270928T190000
DTSTAMP:20260423T184504
CREATED:20231215T170932Z
LAST-MODIFIED:20231215T174710Z
UID:10000771-1822150800-1822158000@vfwpost985.com
SUMMARY:Tuesday Cheeseburger Special
DESCRIPTION:Looking for the perfect way to jazz up your Tuesday evenings? Look no further than our mouthwatering Cheeseburger Special at VFW Post 985! Sink your teeth into our juicy cheeseburgers served with a medley of fresh toppings and accompanied by your choice of crispy or curly fries (small upcharge).
URL:https://vfwpost985.com/event/tuesday-cheeseburger-special-5/2027-09-28/
LOCATION:Goshen VFW Post 985\, 1201 W. Pike Street\, Goshen\, IN\, 46526\, United States
CATEGORIES:Regular
ATTACH;FMTTYPE=image/jpeg:https://vfwpost985.com/wp-content/uploads/2020/11/burger-1140824_1920.jpg
END:VEVENT
BEGIN:VEVENT
DTSTART;TZID=America/New_York:20271005T170000
DTEND;TZID=America/New_York:20271005T190000
DTSTAMP:20260423T184504
CREATED:20231215T170932Z
LAST-MODIFIED:20231215T174710Z
UID:10000772-1822755600-1822762800@vfwpost985.com
SUMMARY:Tuesday Cheeseburger Special
DESCRIPTION:Looking for the perfect way to jazz up your Tuesday evenings? Look no further than our mouthwatering Cheeseburger Special at VFW Post 985! Sink your teeth into our juicy cheeseburgers served with a medley of fresh toppings and accompanied by your choice of crispy or curly fries (small upcharge).
URL:https://vfwpost985.com/event/tuesday-cheeseburger-special-5/2027-10-05/
LOCATION:Goshen VFW Post 985\, 1201 W. Pike Street\, Goshen\, IN\, 46526\, United States
CATEGORIES:Regular
ATTACH;FMTTYPE=image/jpeg:https://vfwpost985.com/wp-content/uploads/2020/11/burger-1140824_1920.jpg
END:VEVENT
BEGIN:VEVENT
DTSTART;TZID=America/New_York:20271012T170000
DTEND;TZID=America/New_York:20271012T190000
DTSTAMP:20260423T184504
CREATED:20231215T170932Z
LAST-MODIFIED:20231215T174710Z
UID:10000773-1823360400-1823367600@vfwpost985.com
SUMMARY:Tuesday Cheeseburger Special
DESCRIPTION:Looking for the perfect way to jazz up your Tuesday evenings? Look no further than our mouthwatering Cheeseburger Special at VFW Post 985! Sink your teeth into our juicy cheeseburgers served with a medley of fresh toppings and accompanied by your choice of crispy or curly fries (small upcharge).
URL:https://vfwpost985.com/event/tuesday-cheeseburger-special-5/2027-10-12/
LOCATION:Goshen VFW Post 985\, 1201 W. Pike Street\, Goshen\, IN\, 46526\, United States
CATEGORIES:Regular
ATTACH;FMTTYPE=image/jpeg:https://vfwpost985.com/wp-content/uploads/2020/11/burger-1140824_1920.jpg
END:VEVENT
BEGIN:VEVENT
DTSTART;TZID=America/New_York:20271019T170000
DTEND;TZID=America/New_York:20271019T190000
DTSTAMP:20260423T184504
CREATED:20231215T170932Z
LAST-MODIFIED:20231215T174710Z
UID:10000774-1823965200-1823972400@vfwpost985.com
SUMMARY:Tuesday Cheeseburger Special
DESCRIPTION:Looking for the perfect way to jazz up your Tuesday evenings? Look no further than our mouthwatering Cheeseburger Special at VFW Post 985! Sink your teeth into our juicy cheeseburgers served with a medley of fresh toppings and accompanied by your choice of crispy or curly fries (small upcharge).
URL:https://vfwpost985.com/event/tuesday-cheeseburger-special-5/2027-10-19/
LOCATION:Goshen VFW Post 985\, 1201 W. Pike Street\, Goshen\, IN\, 46526\, United States
CATEGORIES:Regular
ATTACH;FMTTYPE=image/jpeg:https://vfwpost985.com/wp-content/uploads/2020/11/burger-1140824_1920.jpg
END:VEVENT
BEGIN:VEVENT
DTSTART;TZID=America/New_York:20271026T170000
DTEND;TZID=America/New_York:20271026T190000
DTSTAMP:20260423T184504
CREATED:20231215T170932Z
LAST-MODIFIED:20231215T174710Z
UID:10000775-1824570000-1824577200@vfwpost985.com
SUMMARY:Tuesday Cheeseburger Special
DESCRIPTION:Looking for the perfect way to jazz up your Tuesday evenings? Look no further than our mouthwatering Cheeseburger Special at VFW Post 985! Sink your teeth into our juicy cheeseburgers served with a medley of fresh toppings and accompanied by your choice of crispy or curly fries (small upcharge).
URL:https://vfwpost985.com/event/tuesday-cheeseburger-special-5/2027-10-26/
LOCATION:Goshen VFW Post 985\, 1201 W. Pike Street\, Goshen\, IN\, 46526\, United States
CATEGORIES:Regular
ATTACH;FMTTYPE=image/jpeg:https://vfwpost985.com/wp-content/uploads/2020/11/burger-1140824_1920.jpg
END:VEVENT
BEGIN:VEVENT
DTSTART;TZID=America/New_York:20271102T170000
DTEND;TZID=America/New_York:20271102T190000
DTSTAMP:20260423T184504
CREATED:20231215T170932Z
LAST-MODIFIED:20231215T174710Z
UID:10000776-1825174800-1825182000@vfwpost985.com
SUMMARY:Tuesday Cheeseburger Special
DESCRIPTION:Looking for the perfect way to jazz up your Tuesday evenings? Look no further than our mouthwatering Cheeseburger Special at VFW Post 985! Sink your teeth into our juicy cheeseburgers served with a medley of fresh toppings and accompanied by your choice of crispy or curly fries (small upcharge).
URL:https://vfwpost985.com/event/tuesday-cheeseburger-special-5/2027-11-02/
LOCATION:Goshen VFW Post 985\, 1201 W. Pike Street\, Goshen\, IN\, 46526\, United States
CATEGORIES:Regular
ATTACH;FMTTYPE=image/jpeg:https://vfwpost985.com/wp-content/uploads/2020/11/burger-1140824_1920.jpg
END:VEVENT
BEGIN:VEVENT
DTSTART;TZID=America/New_York:20271109T170000
DTEND;TZID=America/New_York:20271109T190000
DTSTAMP:20260423T184504
CREATED:20231215T170932Z
LAST-MODIFIED:20231215T174710Z
UID:10000777-1825779600-1825786800@vfwpost985.com
SUMMARY:Tuesday Cheeseburger Special
DESCRIPTION:Looking for the perfect way to jazz up your Tuesday evenings? Look no further than our mouthwatering Cheeseburger Special at VFW Post 985! Sink your teeth into our juicy cheeseburgers served with a medley of fresh toppings and accompanied by your choice of crispy or curly fries (small upcharge).
URL:https://vfwpost985.com/event/tuesday-cheeseburger-special-5/2027-11-09/
LOCATION:Goshen VFW Post 985\, 1201 W. Pike Street\, Goshen\, IN\, 46526\, United States
CATEGORIES:Regular
ATTACH;FMTTYPE=image/jpeg:https://vfwpost985.com/wp-content/uploads/2020/11/burger-1140824_1920.jpg
END:VEVENT
BEGIN:VEVENT
DTSTART;TZID=America/New_York:20271116T170000
DTEND;TZID=America/New_York:20271116T190000
DTSTAMP:20260423T184504
CREATED:20231215T170932Z
LAST-MODIFIED:20231215T174710Z
UID:10000778-1826384400-1826391600@vfwpost985.com
SUMMARY:Tuesday Cheeseburger Special
DESCRIPTION:Looking for the perfect way to jazz up your Tuesday evenings? Look no further than our mouthwatering Cheeseburger Special at VFW Post 985! Sink your teeth into our juicy cheeseburgers served with a medley of fresh toppings and accompanied by your choice of crispy or curly fries (small upcharge).
URL:https://vfwpost985.com/event/tuesday-cheeseburger-special-5/2027-11-16/
LOCATION:Goshen VFW Post 985\, 1201 W. Pike Street\, Goshen\, IN\, 46526\, United States
CATEGORIES:Regular
ATTACH;FMTTYPE=image/jpeg:https://vfwpost985.com/wp-content/uploads/2020/11/burger-1140824_1920.jpg
END:VEVENT
BEGIN:VEVENT
DTSTART;TZID=America/New_York:20271123T170000
DTEND;TZID=America/New_York:20271123T190000
DTSTAMP:20260423T184504
CREATED:20231215T170932Z
LAST-MODIFIED:20231215T174710Z
UID:10000779-1826989200-1826996400@vfwpost985.com
SUMMARY:Tuesday Cheeseburger Special
DESCRIPTION:Looking for the perfect way to jazz up your Tuesday evenings? Look no further than our mouthwatering Cheeseburger Special at VFW Post 985! Sink your teeth into our juicy cheeseburgers served with a medley of fresh toppings and accompanied by your choice of crispy or curly fries (small upcharge).
URL:https://vfwpost985.com/event/tuesday-cheeseburger-special-5/2027-11-23/
LOCATION:Goshen VFW Post 985\, 1201 W. Pike Street\, Goshen\, IN\, 46526\, United States
CATEGORIES:Regular
ATTACH;FMTTYPE=image/jpeg:https://vfwpost985.com/wp-content/uploads/2020/11/burger-1140824_1920.jpg
END:VEVENT
BEGIN:VEVENT
DTSTART;TZID=America/New_York:20271130T170000
DTEND;TZID=America/New_York:20271130T190000
DTSTAMP:20260423T184504
CREATED:20231215T170932Z
LAST-MODIFIED:20231215T174710Z
UID:10000780-1827594000-1827601200@vfwpost985.com
SUMMARY:Tuesday Cheeseburger Special
DESCRIPTION:Looking for the perfect way to jazz up your Tuesday evenings? Look no further than our mouthwatering Cheeseburger Special at VFW Post 985! Sink your teeth into our juicy cheeseburgers served with a medley of fresh toppings and accompanied by your choice of crispy or curly fries (small upcharge).
URL:https://vfwpost985.com/event/tuesday-cheeseburger-special-5/2027-11-30/
LOCATION:Goshen VFW Post 985\, 1201 W. Pike Street\, Goshen\, IN\, 46526\, United States
CATEGORIES:Regular
ATTACH;FMTTYPE=image/jpeg:https://vfwpost985.com/wp-content/uploads/2020/11/burger-1140824_1920.jpg
END:VEVENT
BEGIN:VEVENT
DTSTART;TZID=America/New_York:20271207T170000
DTEND;TZID=America/New_York:20271207T190000
DTSTAMP:20260423T184504
CREATED:20231215T170932Z
LAST-MODIFIED:20231215T174710Z
UID:10000781-1828198800-1828206000@vfwpost985.com
SUMMARY:Tuesday Cheeseburger Special
DESCRIPTION:Looking for the perfect way to jazz up your Tuesday evenings? Look no further than our mouthwatering Cheeseburger Special at VFW Post 985! Sink your teeth into our juicy cheeseburgers served with a medley of fresh toppings and accompanied by your choice of crispy or curly fries (small upcharge).
URL:https://vfwpost985.com/event/tuesday-cheeseburger-special-5/2027-12-07/
LOCATION:Goshen VFW Post 985\, 1201 W. Pike Street\, Goshen\, IN\, 46526\, United States
CATEGORIES:Regular
ATTACH;FMTTYPE=image/jpeg:https://vfwpost985.com/wp-content/uploads/2020/11/burger-1140824_1920.jpg
END:VEVENT
BEGIN:VEVENT
DTSTART;TZID=America/New_York:20271214T170000
DTEND;TZID=America/New_York:20271214T190000
DTSTAMP:20260423T184504
CREATED:20231215T170932Z
LAST-MODIFIED:20231215T174710Z
UID:10000782-1828803600-1828810800@vfwpost985.com
SUMMARY:Tuesday Cheeseburger Special
DESCRIPTION:Looking for the perfect way to jazz up your Tuesday evenings? Look no further than our mouthwatering Cheeseburger Special at VFW Post 985! Sink your teeth into our juicy cheeseburgers served with a medley of fresh toppings and accompanied by your choice of crispy or curly fries (small upcharge).
URL:https://vfwpost985.com/event/tuesday-cheeseburger-special-5/2027-12-14/
LOCATION:Goshen VFW Post 985\, 1201 W. Pike Street\, Goshen\, IN\, 46526\, United States
CATEGORIES:Regular
ATTACH;FMTTYPE=image/jpeg:https://vfwpost985.com/wp-content/uploads/2020/11/burger-1140824_1920.jpg
END:VEVENT
BEGIN:VEVENT
DTSTART;TZID=America/New_York:20271221T170000
DTEND;TZID=America/New_York:20271221T190000
DTSTAMP:20260423T184504
CREATED:20231215T170932Z
LAST-MODIFIED:20231215T174710Z
UID:10000783-1829408400-1829415600@vfwpost985.com
SUMMARY:Tuesday Cheeseburger Special
DESCRIPTION:Looking for the perfect way to jazz up your Tuesday evenings? Look no further than our mouthwatering Cheeseburger Special at VFW Post 985! Sink your teeth into our juicy cheeseburgers served with a medley of fresh toppings and accompanied by your choice of crispy or curly fries (small upcharge).
URL:https://vfwpost985.com/event/tuesday-cheeseburger-special-5/2027-12-21/
LOCATION:Goshen VFW Post 985\, 1201 W. Pike Street\, Goshen\, IN\, 46526\, United States
CATEGORIES:Regular
ATTACH;FMTTYPE=image/jpeg:https://vfwpost985.com/wp-content/uploads/2020/11/burger-1140824_1920.jpg
END:VEVENT
BEGIN:VEVENT
DTSTART;TZID=America/New_York:20271228T170000
DTEND;TZID=America/New_York:20271228T190000
DTSTAMP:20260423T184504
CREATED:20231215T170932Z
LAST-MODIFIED:20231215T174710Z
UID:10000784-1830013200-1830020400@vfwpost985.com
SUMMARY:Tuesday Cheeseburger Special
DESCRIPTION:Looking for the perfect way to jazz up your Tuesday evenings? Look no further than our mouthwatering Cheeseburger Special at VFW Post 985! Sink your teeth into our juicy cheeseburgers served with a medley of fresh toppings and accompanied by your choice of crispy or curly fries (small upcharge).
URL:https://vfwpost985.com/event/tuesday-cheeseburger-special-5/2027-12-28/
LOCATION:Goshen VFW Post 985\, 1201 W. Pike Street\, Goshen\, IN\, 46526\, United States
CATEGORIES:Regular
ATTACH;FMTTYPE=image/jpeg:https://vfwpost985.com/wp-content/uploads/2020/11/burger-1140824_1920.jpg
END:VEVENT
BEGIN:VEVENT
DTSTART;TZID=America/New_York:20280104T170000
DTEND;TZID=America/New_York:20280104T190000
DTSTAMP:20260423T184504
CREATED:20231215T170932Z
LAST-MODIFIED:20231215T174710Z
UID:10000785-1830618000-1830625200@vfwpost985.com
SUMMARY:Tuesday Cheeseburger Special
DESCRIPTION:Looking for the perfect way to jazz up your Tuesday evenings? Look no further than our mouthwatering Cheeseburger Special at VFW Post 985! Sink your teeth into our juicy cheeseburgers served with a medley of fresh toppings and accompanied by your choice of crispy or curly fries (small upcharge).
URL:https://vfwpost985.com/event/tuesday-cheeseburger-special-5/2028-01-04/
LOCATION:Goshen VFW Post 985\, 1201 W. Pike Street\, Goshen\, IN\, 46526\, United States
CATEGORIES:Regular
ATTACH;FMTTYPE=image/jpeg:https://vfwpost985.com/wp-content/uploads/2020/11/burger-1140824_1920.jpg
END:VEVENT
BEGIN:VEVENT
DTSTART;TZID=America/New_York:20280111T170000
DTEND;TZID=America/New_York:20280111T190000
DTSTAMP:20260423T184504
CREATED:20231215T170932Z
LAST-MODIFIED:20231215T174710Z
UID:10000786-1831222800-1831230000@vfwpost985.com
SUMMARY:Tuesday Cheeseburger Special
DESCRIPTION:Looking for the perfect way to jazz up your Tuesday evenings? Look no further than our mouthwatering Cheeseburger Special at VFW Post 985! Sink your teeth into our juicy cheeseburgers served with a medley of fresh toppings and accompanied by your choice of crispy or curly fries (small upcharge).
URL:https://vfwpost985.com/event/tuesday-cheeseburger-special-5/2028-01-11/
LOCATION:Goshen VFW Post 985\, 1201 W. Pike Street\, Goshen\, IN\, 46526\, United States
CATEGORIES:Regular
ATTACH;FMTTYPE=image/jpeg:https://vfwpost985.com/wp-content/uploads/2020/11/burger-1140824_1920.jpg
END:VEVENT
BEGIN:VEVENT
DTSTART;TZID=America/New_York:20280118T170000
DTEND;TZID=America/New_York:20280118T190000
DTSTAMP:20260423T184504
CREATED:20231215T170932Z
LAST-MODIFIED:20231215T174710Z
UID:10000787-1831827600-1831834800@vfwpost985.com
SUMMARY:Tuesday Cheeseburger Special
DESCRIPTION:Looking for the perfect way to jazz up your Tuesday evenings? Look no further than our mouthwatering Cheeseburger Special at VFW Post 985! Sink your teeth into our juicy cheeseburgers served with a medley of fresh toppings and accompanied by your choice of crispy or curly fries (small upcharge).
URL:https://vfwpost985.com/event/tuesday-cheeseburger-special-5/2028-01-18/
LOCATION:Goshen VFW Post 985\, 1201 W. Pike Street\, Goshen\, IN\, 46526\, United States
CATEGORIES:Regular
ATTACH;FMTTYPE=image/jpeg:https://vfwpost985.com/wp-content/uploads/2020/11/burger-1140824_1920.jpg
END:VEVENT
BEGIN:VEVENT
DTSTART;TZID=America/New_York:20280125T170000
DTEND;TZID=America/New_York:20280125T190000
DTSTAMP:20260423T184504
CREATED:20231215T170932Z
LAST-MODIFIED:20231215T174710Z
UID:10000788-1832432400-1832439600@vfwpost985.com
SUMMARY:Tuesday Cheeseburger Special
DESCRIPTION:Looking for the perfect way to jazz up your Tuesday evenings? Look no further than our mouthwatering Cheeseburger Special at VFW Post 985! Sink your teeth into our juicy cheeseburgers served with a medley of fresh toppings and accompanied by your choice of crispy or curly fries (small upcharge).
URL:https://vfwpost985.com/event/tuesday-cheeseburger-special-5/2028-01-25/
LOCATION:Goshen VFW Post 985\, 1201 W. Pike Street\, Goshen\, IN\, 46526\, United States
CATEGORIES:Regular
ATTACH;FMTTYPE=image/jpeg:https://vfwpost985.com/wp-content/uploads/2020/11/burger-1140824_1920.jpg
END:VEVENT
BEGIN:VEVENT
DTSTART;TZID=America/New_York:20280201T170000
DTEND;TZID=America/New_York:20280201T190000
DTSTAMP:20260423T184504
CREATED:20231215T170932Z
LAST-MODIFIED:20231215T174710Z
UID:10000789-1833037200-1833044400@vfwpost985.com
SUMMARY:Tuesday Cheeseburger Special
DESCRIPTION:Looking for the perfect way to jazz up your Tuesday evenings? Look no further than our mouthwatering Cheeseburger Special at VFW Post 985! Sink your teeth into our juicy cheeseburgers served with a medley of fresh toppings and accompanied by your choice of crispy or curly fries (small upcharge).
URL:https://vfwpost985.com/event/tuesday-cheeseburger-special-5/2028-02-01/
LOCATION:Goshen VFW Post 985\, 1201 W. Pike Street\, Goshen\, IN\, 46526\, United States
CATEGORIES:Regular
ATTACH;FMTTYPE=image/jpeg:https://vfwpost985.com/wp-content/uploads/2020/11/burger-1140824_1920.jpg
END:VEVENT
BEGIN:VEVENT
DTSTART;TZID=America/New_York:20280208T170000
DTEND;TZID=America/New_York:20280208T190000
DTSTAMP:20260423T184504
CREATED:20231215T170932Z
LAST-MODIFIED:20231215T174710Z
UID:10000790-1833642000-1833649200@vfwpost985.com
SUMMARY:Tuesday Cheeseburger Special
DESCRIPTION:Looking for the perfect way to jazz up your Tuesday evenings? Look no further than our mouthwatering Cheeseburger Special at VFW Post 985! Sink your teeth into our juicy cheeseburgers served with a medley of fresh toppings and accompanied by your choice of crispy or curly fries (small upcharge).
URL:https://vfwpost985.com/event/tuesday-cheeseburger-special-5/2028-02-08/
LOCATION:Goshen VFW Post 985\, 1201 W. Pike Street\, Goshen\, IN\, 46526\, United States
CATEGORIES:Regular
ATTACH;FMTTYPE=image/jpeg:https://vfwpost985.com/wp-content/uploads/2020/11/burger-1140824_1920.jpg
END:VEVENT
BEGIN:VEVENT
DTSTART;TZID=America/New_York:20280215T170000
DTEND;TZID=America/New_York:20280215T190000
DTSTAMP:20260423T184504
CREATED:20231215T170932Z
LAST-MODIFIED:20231215T174710Z
UID:10000791-1834246800-1834254000@vfwpost985.com
SUMMARY:Tuesday Cheeseburger Special
DESCRIPTION:Looking for the perfect way to jazz up your Tuesday evenings? Look no further than our mouthwatering Cheeseburger Special at VFW Post 985! Sink your teeth into our juicy cheeseburgers served with a medley of fresh toppings and accompanied by your choice of crispy or curly fries (small upcharge).
URL:https://vfwpost985.com/event/tuesday-cheeseburger-special-5/2028-02-15/
LOCATION:Goshen VFW Post 985\, 1201 W. Pike Street\, Goshen\, IN\, 46526\, United States
CATEGORIES:Regular
ATTACH;FMTTYPE=image/jpeg:https://vfwpost985.com/wp-content/uploads/2020/11/burger-1140824_1920.jpg
END:VEVENT
BEGIN:VEVENT
DTSTART;TZID=America/New_York:20280222T170000
DTEND;TZID=America/New_York:20280222T190000
DTSTAMP:20260423T184504
CREATED:20231215T170932Z
LAST-MODIFIED:20231215T174710Z
UID:10000792-1834851600-1834858800@vfwpost985.com
SUMMARY:Tuesday Cheeseburger Special
DESCRIPTION:Looking for the perfect way to jazz up your Tuesday evenings? Look no further than our mouthwatering Cheeseburger Special at VFW Post 985! Sink your teeth into our juicy cheeseburgers served with a medley of fresh toppings and accompanied by your choice of crispy or curly fries (small upcharge).
URL:https://vfwpost985.com/event/tuesday-cheeseburger-special-5/2028-02-22/
LOCATION:Goshen VFW Post 985\, 1201 W. Pike Street\, Goshen\, IN\, 46526\, United States
CATEGORIES:Regular
ATTACH;FMTTYPE=image/jpeg:https://vfwpost985.com/wp-content/uploads/2020/11/burger-1140824_1920.jpg
END:VEVENT
BEGIN:VEVENT
DTSTART;TZID=America/New_York:20280229T170000
DTEND;TZID=America/New_York:20280229T190000
DTSTAMP:20260423T184504
CREATED:20231215T170932Z
LAST-MODIFIED:20231215T174710Z
UID:10000793-1835456400-1835463600@vfwpost985.com
SUMMARY:Tuesday Cheeseburger Special
DESCRIPTION:Looking for the perfect way to jazz up your Tuesday evenings? Look no further than our mouthwatering Cheeseburger Special at VFW Post 985! Sink your teeth into our juicy cheeseburgers served with a medley of fresh toppings and accompanied by your choice of crispy or curly fries (small upcharge).
URL:https://vfwpost985.com/event/tuesday-cheeseburger-special-5/2028-02-29/
LOCATION:Goshen VFW Post 985\, 1201 W. Pike Street\, Goshen\, IN\, 46526\, United States
CATEGORIES:Regular
ATTACH;FMTTYPE=image/jpeg:https://vfwpost985.com/wp-content/uploads/2020/11/burger-1140824_1920.jpg
END:VEVENT
BEGIN:VEVENT
DTSTART;TZID=America/New_York:20280307T170000
DTEND;TZID=America/New_York:20280307T190000
DTSTAMP:20260423T184504
CREATED:20231215T170932Z
LAST-MODIFIED:20231215T174710Z
UID:10000794-1836061200-1836068400@vfwpost985.com
SUMMARY:Tuesday Cheeseburger Special
DESCRIPTION:Looking for the perfect way to jazz up your Tuesday evenings? Look no further than our mouthwatering Cheeseburger Special at VFW Post 985! Sink your teeth into our juicy cheeseburgers served with a medley of fresh toppings and accompanied by your choice of crispy or curly fries (small upcharge).
URL:https://vfwpost985.com/event/tuesday-cheeseburger-special-5/2028-03-07/
LOCATION:Goshen VFW Post 985\, 1201 W. Pike Street\, Goshen\, IN\, 46526\, United States
CATEGORIES:Regular
ATTACH;FMTTYPE=image/jpeg:https://vfwpost985.com/wp-content/uploads/2020/11/burger-1140824_1920.jpg
END:VEVENT
BEGIN:VEVENT
DTSTART;TZID=America/New_York:20280314T170000
DTEND;TZID=America/New_York:20280314T190000
DTSTAMP:20260423T184504
CREATED:20231215T170932Z
LAST-MODIFIED:20231215T174710Z
UID:10000795-1836666000-1836673200@vfwpost985.com
SUMMARY:Tuesday Cheeseburger Special
DESCRIPTION:Looking for the perfect way to jazz up your Tuesday evenings? Look no further than our mouthwatering Cheeseburger Special at VFW Post 985! Sink your teeth into our juicy cheeseburgers served with a medley of fresh toppings and accompanied by your choice of crispy or curly fries (small upcharge).
URL:https://vfwpost985.com/event/tuesday-cheeseburger-special-5/2028-03-14/
LOCATION:Goshen VFW Post 985\, 1201 W. Pike Street\, Goshen\, IN\, 46526\, United States
CATEGORIES:Regular
ATTACH;FMTTYPE=image/jpeg:https://vfwpost985.com/wp-content/uploads/2020/11/burger-1140824_1920.jpg
END:VEVENT
BEGIN:VEVENT
DTSTART;TZID=America/New_York:20280321T170000
DTEND;TZID=America/New_York:20280321T190000
DTSTAMP:20260423T184504
CREATED:20231215T170932Z
LAST-MODIFIED:20231215T174710Z
UID:10000796-1837270800-1837278000@vfwpost985.com
SUMMARY:Tuesday Cheeseburger Special
DESCRIPTION:Looking for the perfect way to jazz up your Tuesday evenings? Look no further than our mouthwatering Cheeseburger Special at VFW Post 985! Sink your teeth into our juicy cheeseburgers served with a medley of fresh toppings and accompanied by your choice of crispy or curly fries (small upcharge).
URL:https://vfwpost985.com/event/tuesday-cheeseburger-special-5/2028-03-21/
LOCATION:Goshen VFW Post 985\, 1201 W. Pike Street\, Goshen\, IN\, 46526\, United States
CATEGORIES:Regular
ATTACH;FMTTYPE=image/jpeg:https://vfwpost985.com/wp-content/uploads/2020/11/burger-1140824_1920.jpg
END:VEVENT
BEGIN:VEVENT
DTSTART;TZID=America/New_York:20280328T170000
DTEND;TZID=America/New_York:20280328T190000
DTSTAMP:20260423T184504
CREATED:20231215T170932Z
LAST-MODIFIED:20231215T174710Z
UID:10000797-1837875600-1837882800@vfwpost985.com
SUMMARY:Tuesday Cheeseburger Special
DESCRIPTION:Looking for the perfect way to jazz up your Tuesday evenings? Look no further than our mouthwatering Cheeseburger Special at VFW Post 985! Sink your teeth into our juicy cheeseburgers served with a medley of fresh toppings and accompanied by your choice of crispy or curly fries (small upcharge).
URL:https://vfwpost985.com/event/tuesday-cheeseburger-special-5/2028-03-28/
LOCATION:Goshen VFW Post 985\, 1201 W. Pike Street\, Goshen\, IN\, 46526\, United States
CATEGORIES:Regular
ATTACH;FMTTYPE=image/jpeg:https://vfwpost985.com/wp-content/uploads/2020/11/burger-1140824_1920.jpg
END:VEVENT
BEGIN:VEVENT
DTSTART;TZID=America/New_York:20280404T170000
DTEND;TZID=America/New_York:20280404T190000
DTSTAMP:20260423T184504
CREATED:20231215T170932Z
LAST-MODIFIED:20231215T174710Z
UID:10000798-1838480400-1838487600@vfwpost985.com
SUMMARY:Tuesday Cheeseburger Special
DESCRIPTION:Looking for the perfect way to jazz up your Tuesday evenings? Look no further than our mouthwatering Cheeseburger Special at VFW Post 985! Sink your teeth into our juicy cheeseburgers served with a medley of fresh toppings and accompanied by your choice of crispy or curly fries (small upcharge).
URL:https://vfwpost985.com/event/tuesday-cheeseburger-special-5/2028-04-04/
LOCATION:Goshen VFW Post 985\, 1201 W. Pike Street\, Goshen\, IN\, 46526\, United States
CATEGORIES:Regular
ATTACH;FMTTYPE=image/jpeg:https://vfwpost985.com/wp-content/uploads/2020/11/burger-1140824_1920.jpg
END:VEVENT
END:VCALENDAR