BEGIN:VCALENDAR
VERSION:2.0
PRODID:-//VFW Post 985 - ECPv6.15.17.1//NONSGML v1.0//EN
CALSCALE:GREGORIAN
METHOD:PUBLISH
X-ORIGINAL-URL:https://vfwpost985.com
X-WR-CALDESC:Events for VFW Post 985
REFRESH-INTERVAL;VALUE=DURATION:PT1H
X-Robots-Tag:noindex
X-PUBLISHED-TTL:PT1H
BEGIN:VTIMEZONE
TZID:America/New_York
BEGIN:DAYLIGHT
TZOFFSETFROM:-0500
TZOFFSETTO:-0400
TZNAME:EDT
DTSTART:20270314T070000
END:DAYLIGHT
BEGIN:STANDARD
TZOFFSETFROM:-0400
TZOFFSETTO:-0500
TZNAME:EST
DTSTART:20271107T060000
END:STANDARD
BEGIN:DAYLIGHT
TZOFFSETFROM:-0500
TZOFFSETTO:-0400
TZNAME:EDT
DTSTART:20280312T070000
END:DAYLIGHT
BEGIN:STANDARD
TZOFFSETFROM:-0400
TZOFFSETTO:-0500
TZNAME:EST
DTSTART:20281105T060000
END:STANDARD
BEGIN:DAYLIGHT
TZOFFSETFROM:-0500
TZOFFSETTO:-0400
TZNAME:EDT
DTSTART:20290311T070000
END:DAYLIGHT
BEGIN:STANDARD
TZOFFSETFROM:-0400
TZOFFSETTO:-0500
TZNAME:EST
DTSTART:20291104T060000
END:STANDARD
END:VTIMEZONE
BEGIN:VEVENT
DTSTART;TZID=America/New_York:20280229T170000
DTEND;TZID=America/New_York:20280229T190000
DTSTAMP:20260423T211930
CREATED:20231215T170932Z
LAST-MODIFIED:20231215T174710Z
UID:10000793-1835456400-1835463600@vfwpost985.com
SUMMARY:Tuesday Cheeseburger Special
DESCRIPTION:Looking for the perfect way to jazz up your Tuesday evenings? Look no further than our mouthwatering Cheeseburger Special at VFW Post 985! Sink your teeth into our juicy cheeseburgers served with a medley of fresh toppings and accompanied by your choice of crispy or curly fries (small upcharge).
URL:https://vfwpost985.com/event/tuesday-cheeseburger-special-5/2028-02-29/
LOCATION:Goshen VFW Post 985\, 1201 W. Pike Street\, Goshen\, IN\, 46526\, United States
CATEGORIES:Regular
ATTACH;FMTTYPE=image/jpeg:https://vfwpost985.com/wp-content/uploads/2020/11/burger-1140824_1920.jpg
END:VEVENT
BEGIN:VEVENT
DTSTART;TZID=America/New_York:20280307T170000
DTEND;TZID=America/New_York:20280307T190000
DTSTAMP:20260423T211930
CREATED:20231215T170932Z
LAST-MODIFIED:20231215T174710Z
UID:10000794-1836061200-1836068400@vfwpost985.com
SUMMARY:Tuesday Cheeseburger Special
DESCRIPTION:Looking for the perfect way to jazz up your Tuesday evenings? Look no further than our mouthwatering Cheeseburger Special at VFW Post 985! Sink your teeth into our juicy cheeseburgers served with a medley of fresh toppings and accompanied by your choice of crispy or curly fries (small upcharge).
URL:https://vfwpost985.com/event/tuesday-cheeseburger-special-5/2028-03-07/
LOCATION:Goshen VFW Post 985\, 1201 W. Pike Street\, Goshen\, IN\, 46526\, United States
CATEGORIES:Regular
ATTACH;FMTTYPE=image/jpeg:https://vfwpost985.com/wp-content/uploads/2020/11/burger-1140824_1920.jpg
END:VEVENT
BEGIN:VEVENT
DTSTART;TZID=America/New_York:20280314T170000
DTEND;TZID=America/New_York:20280314T190000
DTSTAMP:20260423T211930
CREATED:20231215T170932Z
LAST-MODIFIED:20231215T174710Z
UID:10000795-1836666000-1836673200@vfwpost985.com
SUMMARY:Tuesday Cheeseburger Special
DESCRIPTION:Looking for the perfect way to jazz up your Tuesday evenings? Look no further than our mouthwatering Cheeseburger Special at VFW Post 985! Sink your teeth into our juicy cheeseburgers served with a medley of fresh toppings and accompanied by your choice of crispy or curly fries (small upcharge).
URL:https://vfwpost985.com/event/tuesday-cheeseburger-special-5/2028-03-14/
LOCATION:Goshen VFW Post 985\, 1201 W. Pike Street\, Goshen\, IN\, 46526\, United States
CATEGORIES:Regular
ATTACH;FMTTYPE=image/jpeg:https://vfwpost985.com/wp-content/uploads/2020/11/burger-1140824_1920.jpg
END:VEVENT
BEGIN:VEVENT
DTSTART;TZID=America/New_York:20280321T170000
DTEND;TZID=America/New_York:20280321T190000
DTSTAMP:20260423T211930
CREATED:20231215T170932Z
LAST-MODIFIED:20231215T174710Z
UID:10000796-1837270800-1837278000@vfwpost985.com
SUMMARY:Tuesday Cheeseburger Special
DESCRIPTION:Looking for the perfect way to jazz up your Tuesday evenings? Look no further than our mouthwatering Cheeseburger Special at VFW Post 985! Sink your teeth into our juicy cheeseburgers served with a medley of fresh toppings and accompanied by your choice of crispy or curly fries (small upcharge).
URL:https://vfwpost985.com/event/tuesday-cheeseburger-special-5/2028-03-21/
LOCATION:Goshen VFW Post 985\, 1201 W. Pike Street\, Goshen\, IN\, 46526\, United States
CATEGORIES:Regular
ATTACH;FMTTYPE=image/jpeg:https://vfwpost985.com/wp-content/uploads/2020/11/burger-1140824_1920.jpg
END:VEVENT
BEGIN:VEVENT
DTSTART;TZID=America/New_York:20280328T170000
DTEND;TZID=America/New_York:20280328T190000
DTSTAMP:20260423T211930
CREATED:20231215T170932Z
LAST-MODIFIED:20231215T174710Z
UID:10000797-1837875600-1837882800@vfwpost985.com
SUMMARY:Tuesday Cheeseburger Special
DESCRIPTION:Looking for the perfect way to jazz up your Tuesday evenings? Look no further than our mouthwatering Cheeseburger Special at VFW Post 985! Sink your teeth into our juicy cheeseburgers served with a medley of fresh toppings and accompanied by your choice of crispy or curly fries (small upcharge).
URL:https://vfwpost985.com/event/tuesday-cheeseburger-special-5/2028-03-28/
LOCATION:Goshen VFW Post 985\, 1201 W. Pike Street\, Goshen\, IN\, 46526\, United States
CATEGORIES:Regular
ATTACH;FMTTYPE=image/jpeg:https://vfwpost985.com/wp-content/uploads/2020/11/burger-1140824_1920.jpg
END:VEVENT
BEGIN:VEVENT
DTSTART;TZID=America/New_York:20280404T170000
DTEND;TZID=America/New_York:20280404T190000
DTSTAMP:20260423T211930
CREATED:20231215T170932Z
LAST-MODIFIED:20231215T174710Z
UID:10000798-1838480400-1838487600@vfwpost985.com
SUMMARY:Tuesday Cheeseburger Special
DESCRIPTION:Looking for the perfect way to jazz up your Tuesday evenings? Look no further than our mouthwatering Cheeseburger Special at VFW Post 985! Sink your teeth into our juicy cheeseburgers served with a medley of fresh toppings and accompanied by your choice of crispy or curly fries (small upcharge).
URL:https://vfwpost985.com/event/tuesday-cheeseburger-special-5/2028-04-04/
LOCATION:Goshen VFW Post 985\, 1201 W. Pike Street\, Goshen\, IN\, 46526\, United States
CATEGORIES:Regular
ATTACH;FMTTYPE=image/jpeg:https://vfwpost985.com/wp-content/uploads/2020/11/burger-1140824_1920.jpg
END:VEVENT
BEGIN:VEVENT
DTSTART;TZID=America/New_York:20280411T170000
DTEND;TZID=America/New_York:20280411T190000
DTSTAMP:20260423T211930
CREATED:20231215T170932Z
LAST-MODIFIED:20231215T174710Z
UID:10000799-1839085200-1839092400@vfwpost985.com
SUMMARY:Tuesday Cheeseburger Special
DESCRIPTION:Looking for the perfect way to jazz up your Tuesday evenings? Look no further than our mouthwatering Cheeseburger Special at VFW Post 985! Sink your teeth into our juicy cheeseburgers served with a medley of fresh toppings and accompanied by your choice of crispy or curly fries (small upcharge).
URL:https://vfwpost985.com/event/tuesday-cheeseburger-special-5/2028-04-11/
LOCATION:Goshen VFW Post 985\, 1201 W. Pike Street\, Goshen\, IN\, 46526\, United States
CATEGORIES:Regular
ATTACH;FMTTYPE=image/jpeg:https://vfwpost985.com/wp-content/uploads/2020/11/burger-1140824_1920.jpg
END:VEVENT
BEGIN:VEVENT
DTSTART;TZID=America/New_York:20280418T170000
DTEND;TZID=America/New_York:20280418T190000
DTSTAMP:20260423T211930
CREATED:20231215T170932Z
LAST-MODIFIED:20231215T174710Z
UID:10000800-1839690000-1839697200@vfwpost985.com
SUMMARY:Tuesday Cheeseburger Special
DESCRIPTION:Looking for the perfect way to jazz up your Tuesday evenings? Look no further than our mouthwatering Cheeseburger Special at VFW Post 985! Sink your teeth into our juicy cheeseburgers served with a medley of fresh toppings and accompanied by your choice of crispy or curly fries (small upcharge).
URL:https://vfwpost985.com/event/tuesday-cheeseburger-special-5/2028-04-18/
LOCATION:Goshen VFW Post 985\, 1201 W. Pike Street\, Goshen\, IN\, 46526\, United States
CATEGORIES:Regular
ATTACH;FMTTYPE=image/jpeg:https://vfwpost985.com/wp-content/uploads/2020/11/burger-1140824_1920.jpg
END:VEVENT
BEGIN:VEVENT
DTSTART;TZID=America/New_York:20280425T170000
DTEND;TZID=America/New_York:20280425T190000
DTSTAMP:20260423T211930
CREATED:20231215T170932Z
LAST-MODIFIED:20231215T174710Z
UID:10000801-1840294800-1840302000@vfwpost985.com
SUMMARY:Tuesday Cheeseburger Special
DESCRIPTION:Looking for the perfect way to jazz up your Tuesday evenings? Look no further than our mouthwatering Cheeseburger Special at VFW Post 985! Sink your teeth into our juicy cheeseburgers served with a medley of fresh toppings and accompanied by your choice of crispy or curly fries (small upcharge).
URL:https://vfwpost985.com/event/tuesday-cheeseburger-special-5/2028-04-25/
LOCATION:Goshen VFW Post 985\, 1201 W. Pike Street\, Goshen\, IN\, 46526\, United States
CATEGORIES:Regular
ATTACH;FMTTYPE=image/jpeg:https://vfwpost985.com/wp-content/uploads/2020/11/burger-1140824_1920.jpg
END:VEVENT
BEGIN:VEVENT
DTSTART;TZID=America/New_York:20280502T170000
DTEND;TZID=America/New_York:20280502T190000
DTSTAMP:20260423T211930
CREATED:20231215T170932Z
LAST-MODIFIED:20231215T174710Z
UID:10000802-1840899600-1840906800@vfwpost985.com
SUMMARY:Tuesday Cheeseburger Special
DESCRIPTION:Looking for the perfect way to jazz up your Tuesday evenings? Look no further than our mouthwatering Cheeseburger Special at VFW Post 985! Sink your teeth into our juicy cheeseburgers served with a medley of fresh toppings and accompanied by your choice of crispy or curly fries (small upcharge).
URL:https://vfwpost985.com/event/tuesday-cheeseburger-special-5/2028-05-02/
LOCATION:Goshen VFW Post 985\, 1201 W. Pike Street\, Goshen\, IN\, 46526\, United States
CATEGORIES:Regular
ATTACH;FMTTYPE=image/jpeg:https://vfwpost985.com/wp-content/uploads/2020/11/burger-1140824_1920.jpg
END:VEVENT
BEGIN:VEVENT
DTSTART;TZID=America/New_York:20280509T170000
DTEND;TZID=America/New_York:20280509T190000
DTSTAMP:20260423T211930
CREATED:20231215T170932Z
LAST-MODIFIED:20231215T174710Z
UID:10000803-1841504400-1841511600@vfwpost985.com
SUMMARY:Tuesday Cheeseburger Special
DESCRIPTION:Looking for the perfect way to jazz up your Tuesday evenings? Look no further than our mouthwatering Cheeseburger Special at VFW Post 985! Sink your teeth into our juicy cheeseburgers served with a medley of fresh toppings and accompanied by your choice of crispy or curly fries (small upcharge).
URL:https://vfwpost985.com/event/tuesday-cheeseburger-special-5/2028-05-09/
LOCATION:Goshen VFW Post 985\, 1201 W. Pike Street\, Goshen\, IN\, 46526\, United States
CATEGORIES:Regular
ATTACH;FMTTYPE=image/jpeg:https://vfwpost985.com/wp-content/uploads/2020/11/burger-1140824_1920.jpg
END:VEVENT
BEGIN:VEVENT
DTSTART;TZID=America/New_York:20280516T170000
DTEND;TZID=America/New_York:20280516T190000
DTSTAMP:20260423T211930
CREATED:20231215T170932Z
LAST-MODIFIED:20231215T174710Z
UID:10000804-1842109200-1842116400@vfwpost985.com
SUMMARY:Tuesday Cheeseburger Special
DESCRIPTION:Looking for the perfect way to jazz up your Tuesday evenings? Look no further than our mouthwatering Cheeseburger Special at VFW Post 985! Sink your teeth into our juicy cheeseburgers served with a medley of fresh toppings and accompanied by your choice of crispy or curly fries (small upcharge).
URL:https://vfwpost985.com/event/tuesday-cheeseburger-special-5/2028-05-16/
LOCATION:Goshen VFW Post 985\, 1201 W. Pike Street\, Goshen\, IN\, 46526\, United States
CATEGORIES:Regular
ATTACH;FMTTYPE=image/jpeg:https://vfwpost985.com/wp-content/uploads/2020/11/burger-1140824_1920.jpg
END:VEVENT
BEGIN:VEVENT
DTSTART;TZID=America/New_York:20280523T170000
DTEND;TZID=America/New_York:20280523T190000
DTSTAMP:20260423T211930
CREATED:20231215T170932Z
LAST-MODIFIED:20231215T174710Z
UID:10000805-1842714000-1842721200@vfwpost985.com
SUMMARY:Tuesday Cheeseburger Special
DESCRIPTION:Looking for the perfect way to jazz up your Tuesday evenings? Look no further than our mouthwatering Cheeseburger Special at VFW Post 985! Sink your teeth into our juicy cheeseburgers served with a medley of fresh toppings and accompanied by your choice of crispy or curly fries (small upcharge).
URL:https://vfwpost985.com/event/tuesday-cheeseburger-special-5/2028-05-23/
LOCATION:Goshen VFW Post 985\, 1201 W. Pike Street\, Goshen\, IN\, 46526\, United States
CATEGORIES:Regular
ATTACH;FMTTYPE=image/jpeg:https://vfwpost985.com/wp-content/uploads/2020/11/burger-1140824_1920.jpg
END:VEVENT
BEGIN:VEVENT
DTSTART;TZID=America/New_York:20280530T170000
DTEND;TZID=America/New_York:20280530T190000
DTSTAMP:20260423T211930
CREATED:20231215T170932Z
LAST-MODIFIED:20231215T174710Z
UID:10000806-1843318800-1843326000@vfwpost985.com
SUMMARY:Tuesday Cheeseburger Special
DESCRIPTION:Looking for the perfect way to jazz up your Tuesday evenings? Look no further than our mouthwatering Cheeseburger Special at VFW Post 985! Sink your teeth into our juicy cheeseburgers served with a medley of fresh toppings and accompanied by your choice of crispy or curly fries (small upcharge).
URL:https://vfwpost985.com/event/tuesday-cheeseburger-special-5/2028-05-30/
LOCATION:Goshen VFW Post 985\, 1201 W. Pike Street\, Goshen\, IN\, 46526\, United States
CATEGORIES:Regular
ATTACH;FMTTYPE=image/jpeg:https://vfwpost985.com/wp-content/uploads/2020/11/burger-1140824_1920.jpg
END:VEVENT
BEGIN:VEVENT
DTSTART;TZID=America/New_York:20280606T170000
DTEND;TZID=America/New_York:20280606T190000
DTSTAMP:20260423T211930
CREATED:20231215T170932Z
LAST-MODIFIED:20231215T174710Z
UID:10000807-1843923600-1843930800@vfwpost985.com
SUMMARY:Tuesday Cheeseburger Special
DESCRIPTION:Looking for the perfect way to jazz up your Tuesday evenings? Look no further than our mouthwatering Cheeseburger Special at VFW Post 985! Sink your teeth into our juicy cheeseburgers served with a medley of fresh toppings and accompanied by your choice of crispy or curly fries (small upcharge).
URL:https://vfwpost985.com/event/tuesday-cheeseburger-special-5/2028-06-06/
LOCATION:Goshen VFW Post 985\, 1201 W. Pike Street\, Goshen\, IN\, 46526\, United States
CATEGORIES:Regular
ATTACH;FMTTYPE=image/jpeg:https://vfwpost985.com/wp-content/uploads/2020/11/burger-1140824_1920.jpg
END:VEVENT
BEGIN:VEVENT
DTSTART;TZID=America/New_York:20280613T170000
DTEND;TZID=America/New_York:20280613T190000
DTSTAMP:20260423T211930
CREATED:20231215T170932Z
LAST-MODIFIED:20231215T174710Z
UID:10000808-1844528400-1844535600@vfwpost985.com
SUMMARY:Tuesday Cheeseburger Special
DESCRIPTION:Looking for the perfect way to jazz up your Tuesday evenings? Look no further than our mouthwatering Cheeseburger Special at VFW Post 985! Sink your teeth into our juicy cheeseburgers served with a medley of fresh toppings and accompanied by your choice of crispy or curly fries (small upcharge).
URL:https://vfwpost985.com/event/tuesday-cheeseburger-special-5/2028-06-13/
LOCATION:Goshen VFW Post 985\, 1201 W. Pike Street\, Goshen\, IN\, 46526\, United States
CATEGORIES:Regular
ATTACH;FMTTYPE=image/jpeg:https://vfwpost985.com/wp-content/uploads/2020/11/burger-1140824_1920.jpg
END:VEVENT
BEGIN:VEVENT
DTSTART;TZID=America/New_York:20280620T170000
DTEND;TZID=America/New_York:20280620T190000
DTSTAMP:20260423T211930
CREATED:20231215T170932Z
LAST-MODIFIED:20231215T174710Z
UID:10000809-1845133200-1845140400@vfwpost985.com
SUMMARY:Tuesday Cheeseburger Special
DESCRIPTION:Looking for the perfect way to jazz up your Tuesday evenings? Look no further than our mouthwatering Cheeseburger Special at VFW Post 985! Sink your teeth into our juicy cheeseburgers served with a medley of fresh toppings and accompanied by your choice of crispy or curly fries (small upcharge).
URL:https://vfwpost985.com/event/tuesday-cheeseburger-special-5/2028-06-20/
LOCATION:Goshen VFW Post 985\, 1201 W. Pike Street\, Goshen\, IN\, 46526\, United States
CATEGORIES:Regular
ATTACH;FMTTYPE=image/jpeg:https://vfwpost985.com/wp-content/uploads/2020/11/burger-1140824_1920.jpg
END:VEVENT
BEGIN:VEVENT
DTSTART;TZID=America/New_York:20280627T170000
DTEND;TZID=America/New_York:20280627T190000
DTSTAMP:20260423T211930
CREATED:20231215T170932Z
LAST-MODIFIED:20231215T174710Z
UID:10000810-1845738000-1845745200@vfwpost985.com
SUMMARY:Tuesday Cheeseburger Special
DESCRIPTION:Looking for the perfect way to jazz up your Tuesday evenings? Look no further than our mouthwatering Cheeseburger Special at VFW Post 985! Sink your teeth into our juicy cheeseburgers served with a medley of fresh toppings and accompanied by your choice of crispy or curly fries (small upcharge).
URL:https://vfwpost985.com/event/tuesday-cheeseburger-special-5/2028-06-27/
LOCATION:Goshen VFW Post 985\, 1201 W. Pike Street\, Goshen\, IN\, 46526\, United States
CATEGORIES:Regular
ATTACH;FMTTYPE=image/jpeg:https://vfwpost985.com/wp-content/uploads/2020/11/burger-1140824_1920.jpg
END:VEVENT
BEGIN:VEVENT
DTSTART;TZID=America/New_York:20280704T170000
DTEND;TZID=America/New_York:20280704T190000
DTSTAMP:20260423T211930
CREATED:20231215T170932Z
LAST-MODIFIED:20231215T174710Z
UID:10000811-1846342800-1846350000@vfwpost985.com
SUMMARY:Tuesday Cheeseburger Special
DESCRIPTION:Looking for the perfect way to jazz up your Tuesday evenings? Look no further than our mouthwatering Cheeseburger Special at VFW Post 985! Sink your teeth into our juicy cheeseburgers served with a medley of fresh toppings and accompanied by your choice of crispy or curly fries (small upcharge).
URL:https://vfwpost985.com/event/tuesday-cheeseburger-special-5/2028-07-04/
LOCATION:Goshen VFW Post 985\, 1201 W. Pike Street\, Goshen\, IN\, 46526\, United States
CATEGORIES:Regular
ATTACH;FMTTYPE=image/jpeg:https://vfwpost985.com/wp-content/uploads/2020/11/burger-1140824_1920.jpg
END:VEVENT
BEGIN:VEVENT
DTSTART;TZID=America/New_York:20280711T170000
DTEND;TZID=America/New_York:20280711T190000
DTSTAMP:20260423T211930
CREATED:20231215T170932Z
LAST-MODIFIED:20231215T174710Z
UID:10000812-1846947600-1846954800@vfwpost985.com
SUMMARY:Tuesday Cheeseburger Special
DESCRIPTION:Looking for the perfect way to jazz up your Tuesday evenings? Look no further than our mouthwatering Cheeseburger Special at VFW Post 985! Sink your teeth into our juicy cheeseburgers served with a medley of fresh toppings and accompanied by your choice of crispy or curly fries (small upcharge).
URL:https://vfwpost985.com/event/tuesday-cheeseburger-special-5/2028-07-11/
LOCATION:Goshen VFW Post 985\, 1201 W. Pike Street\, Goshen\, IN\, 46526\, United States
CATEGORIES:Regular
ATTACH;FMTTYPE=image/jpeg:https://vfwpost985.com/wp-content/uploads/2020/11/burger-1140824_1920.jpg
END:VEVENT
BEGIN:VEVENT
DTSTART;TZID=America/New_York:20280718T170000
DTEND;TZID=America/New_York:20280718T190000
DTSTAMP:20260423T211930
CREATED:20231215T170932Z
LAST-MODIFIED:20231215T174710Z
UID:10000813-1847552400-1847559600@vfwpost985.com
SUMMARY:Tuesday Cheeseburger Special
DESCRIPTION:Looking for the perfect way to jazz up your Tuesday evenings? Look no further than our mouthwatering Cheeseburger Special at VFW Post 985! Sink your teeth into our juicy cheeseburgers served with a medley of fresh toppings and accompanied by your choice of crispy or curly fries (small upcharge).
URL:https://vfwpost985.com/event/tuesday-cheeseburger-special-5/2028-07-18/
LOCATION:Goshen VFW Post 985\, 1201 W. Pike Street\, Goshen\, IN\, 46526\, United States
CATEGORIES:Regular
ATTACH;FMTTYPE=image/jpeg:https://vfwpost985.com/wp-content/uploads/2020/11/burger-1140824_1920.jpg
END:VEVENT
BEGIN:VEVENT
DTSTART;TZID=America/New_York:20280725T170000
DTEND;TZID=America/New_York:20280725T190000
DTSTAMP:20260423T211930
CREATED:20231215T170932Z
LAST-MODIFIED:20231215T174710Z
UID:10000814-1848157200-1848164400@vfwpost985.com
SUMMARY:Tuesday Cheeseburger Special
DESCRIPTION:Looking for the perfect way to jazz up your Tuesday evenings? Look no further than our mouthwatering Cheeseburger Special at VFW Post 985! Sink your teeth into our juicy cheeseburgers served with a medley of fresh toppings and accompanied by your choice of crispy or curly fries (small upcharge).
URL:https://vfwpost985.com/event/tuesday-cheeseburger-special-5/2028-07-25/
LOCATION:Goshen VFW Post 985\, 1201 W. Pike Street\, Goshen\, IN\, 46526\, United States
CATEGORIES:Regular
ATTACH;FMTTYPE=image/jpeg:https://vfwpost985.com/wp-content/uploads/2020/11/burger-1140824_1920.jpg
END:VEVENT
BEGIN:VEVENT
DTSTART;TZID=America/New_York:20280801T170000
DTEND;TZID=America/New_York:20280801T190000
DTSTAMP:20260423T211930
CREATED:20231215T170932Z
LAST-MODIFIED:20231215T174710Z
UID:10000815-1848762000-1848769200@vfwpost985.com
SUMMARY:Tuesday Cheeseburger Special
DESCRIPTION:Looking for the perfect way to jazz up your Tuesday evenings? Look no further than our mouthwatering Cheeseburger Special at VFW Post 985! Sink your teeth into our juicy cheeseburgers served with a medley of fresh toppings and accompanied by your choice of crispy or curly fries (small upcharge).
URL:https://vfwpost985.com/event/tuesday-cheeseburger-special-5/2028-08-01/
LOCATION:Goshen VFW Post 985\, 1201 W. Pike Street\, Goshen\, IN\, 46526\, United States
CATEGORIES:Regular
ATTACH;FMTTYPE=image/jpeg:https://vfwpost985.com/wp-content/uploads/2020/11/burger-1140824_1920.jpg
END:VEVENT
BEGIN:VEVENT
DTSTART;TZID=America/New_York:20280808T170000
DTEND;TZID=America/New_York:20280808T190000
DTSTAMP:20260423T211930
CREATED:20231215T170932Z
LAST-MODIFIED:20231215T174710Z
UID:10000816-1849366800-1849374000@vfwpost985.com
SUMMARY:Tuesday Cheeseburger Special
DESCRIPTION:Looking for the perfect way to jazz up your Tuesday evenings? Look no further than our mouthwatering Cheeseburger Special at VFW Post 985! Sink your teeth into our juicy cheeseburgers served with a medley of fresh toppings and accompanied by your choice of crispy or curly fries (small upcharge).
URL:https://vfwpost985.com/event/tuesday-cheeseburger-special-5/2028-08-08/
LOCATION:Goshen VFW Post 985\, 1201 W. Pike Street\, Goshen\, IN\, 46526\, United States
CATEGORIES:Regular
ATTACH;FMTTYPE=image/jpeg:https://vfwpost985.com/wp-content/uploads/2020/11/burger-1140824_1920.jpg
END:VEVENT
BEGIN:VEVENT
DTSTART;TZID=America/New_York:20280815T170000
DTEND;TZID=America/New_York:20280815T190000
DTSTAMP:20260423T211930
CREATED:20231215T170932Z
LAST-MODIFIED:20231215T174710Z
UID:10000817-1849971600-1849978800@vfwpost985.com
SUMMARY:Tuesday Cheeseburger Special
DESCRIPTION:Looking for the perfect way to jazz up your Tuesday evenings? Look no further than our mouthwatering Cheeseburger Special at VFW Post 985! Sink your teeth into our juicy cheeseburgers served with a medley of fresh toppings and accompanied by your choice of crispy or curly fries (small upcharge).
URL:https://vfwpost985.com/event/tuesday-cheeseburger-special-5/2028-08-15/
LOCATION:Goshen VFW Post 985\, 1201 W. Pike Street\, Goshen\, IN\, 46526\, United States
CATEGORIES:Regular
ATTACH;FMTTYPE=image/jpeg:https://vfwpost985.com/wp-content/uploads/2020/11/burger-1140824_1920.jpg
END:VEVENT
BEGIN:VEVENT
DTSTART;TZID=America/New_York:20280822T170000
DTEND;TZID=America/New_York:20280822T190000
DTSTAMP:20260423T211930
CREATED:20231215T170932Z
LAST-MODIFIED:20231215T174710Z
UID:10000818-1850576400-1850583600@vfwpost985.com
SUMMARY:Tuesday Cheeseburger Special
DESCRIPTION:Looking for the perfect way to jazz up your Tuesday evenings? Look no further than our mouthwatering Cheeseburger Special at VFW Post 985! Sink your teeth into our juicy cheeseburgers served with a medley of fresh toppings and accompanied by your choice of crispy or curly fries (small upcharge).
URL:https://vfwpost985.com/event/tuesday-cheeseburger-special-5/2028-08-22/
LOCATION:Goshen VFW Post 985\, 1201 W. Pike Street\, Goshen\, IN\, 46526\, United States
CATEGORIES:Regular
ATTACH;FMTTYPE=image/jpeg:https://vfwpost985.com/wp-content/uploads/2020/11/burger-1140824_1920.jpg
END:VEVENT
BEGIN:VEVENT
DTSTART;TZID=America/New_York:20280829T170000
DTEND;TZID=America/New_York:20280829T190000
DTSTAMP:20260423T211930
CREATED:20231215T170932Z
LAST-MODIFIED:20231215T174710Z
UID:10000819-1851181200-1851188400@vfwpost985.com
SUMMARY:Tuesday Cheeseburger Special
DESCRIPTION:Looking for the perfect way to jazz up your Tuesday evenings? Look no further than our mouthwatering Cheeseburger Special at VFW Post 985! Sink your teeth into our juicy cheeseburgers served with a medley of fresh toppings and accompanied by your choice of crispy or curly fries (small upcharge).
URL:https://vfwpost985.com/event/tuesday-cheeseburger-special-5/2028-08-29/
LOCATION:Goshen VFW Post 985\, 1201 W. Pike Street\, Goshen\, IN\, 46526\, United States
CATEGORIES:Regular
ATTACH;FMTTYPE=image/jpeg:https://vfwpost985.com/wp-content/uploads/2020/11/burger-1140824_1920.jpg
END:VEVENT
BEGIN:VEVENT
DTSTART;TZID=America/New_York:20280905T170000
DTEND;TZID=America/New_York:20280905T190000
DTSTAMP:20260423T211930
CREATED:20231215T170932Z
LAST-MODIFIED:20231215T174710Z
UID:10000820-1851786000-1851793200@vfwpost985.com
SUMMARY:Tuesday Cheeseburger Special
DESCRIPTION:Looking for the perfect way to jazz up your Tuesday evenings? Look no further than our mouthwatering Cheeseburger Special at VFW Post 985! Sink your teeth into our juicy cheeseburgers served with a medley of fresh toppings and accompanied by your choice of crispy or curly fries (small upcharge).
URL:https://vfwpost985.com/event/tuesday-cheeseburger-special-5/2028-09-05/
LOCATION:Goshen VFW Post 985\, 1201 W. Pike Street\, Goshen\, IN\, 46526\, United States
CATEGORIES:Regular
ATTACH;FMTTYPE=image/jpeg:https://vfwpost985.com/wp-content/uploads/2020/11/burger-1140824_1920.jpg
END:VEVENT
BEGIN:VEVENT
DTSTART;TZID=America/New_York:20280912T170000
DTEND;TZID=America/New_York:20280912T190000
DTSTAMP:20260423T211930
CREATED:20231215T170932Z
LAST-MODIFIED:20231215T174710Z
UID:10000821-1852390800-1852398000@vfwpost985.com
SUMMARY:Tuesday Cheeseburger Special
DESCRIPTION:Looking for the perfect way to jazz up your Tuesday evenings? Look no further than our mouthwatering Cheeseburger Special at VFW Post 985! Sink your teeth into our juicy cheeseburgers served with a medley of fresh toppings and accompanied by your choice of crispy or curly fries (small upcharge).
URL:https://vfwpost985.com/event/tuesday-cheeseburger-special-5/2028-09-12/
LOCATION:Goshen VFW Post 985\, 1201 W. Pike Street\, Goshen\, IN\, 46526\, United States
CATEGORIES:Regular
ATTACH;FMTTYPE=image/jpeg:https://vfwpost985.com/wp-content/uploads/2020/11/burger-1140824_1920.jpg
END:VEVENT
BEGIN:VEVENT
DTSTART;TZID=America/New_York:20280919T170000
DTEND;TZID=America/New_York:20280919T190000
DTSTAMP:20260423T211930
CREATED:20231215T170932Z
LAST-MODIFIED:20231215T174710Z
UID:10000822-1852995600-1853002800@vfwpost985.com
SUMMARY:Tuesday Cheeseburger Special
DESCRIPTION:Looking for the perfect way to jazz up your Tuesday evenings? Look no further than our mouthwatering Cheeseburger Special at VFW Post 985! Sink your teeth into our juicy cheeseburgers served with a medley of fresh toppings and accompanied by your choice of crispy or curly fries (small upcharge).
URL:https://vfwpost985.com/event/tuesday-cheeseburger-special-5/2028-09-19/
LOCATION:Goshen VFW Post 985\, 1201 W. Pike Street\, Goshen\, IN\, 46526\, United States
CATEGORIES:Regular
ATTACH;FMTTYPE=image/jpeg:https://vfwpost985.com/wp-content/uploads/2020/11/burger-1140824_1920.jpg
END:VEVENT
END:VCALENDAR