BEGIN:VCALENDAR
VERSION:2.0
PRODID:-//VFW Post 985 - ECPv6.15.17.1//NONSGML v1.0//EN
CALSCALE:GREGORIAN
METHOD:PUBLISH
X-ORIGINAL-URL:https://vfwpost985.com
X-WR-CALDESC:Events for VFW Post 985
REFRESH-INTERVAL;VALUE=DURATION:PT1H
X-Robots-Tag:noindex
X-PUBLISHED-TTL:PT1H
BEGIN:VTIMEZONE
TZID:America/New_York
BEGIN:DAYLIGHT
TZOFFSETFROM:-0500
TZOFFSETTO:-0400
TZNAME:EDT
DTSTART:20250309T070000
END:DAYLIGHT
BEGIN:STANDARD
TZOFFSETFROM:-0400
TZOFFSETTO:-0500
TZNAME:EST
DTSTART:20251102T060000
END:STANDARD
BEGIN:DAYLIGHT
TZOFFSETFROM:-0500
TZOFFSETTO:-0400
TZNAME:EDT
DTSTART:20260308T070000
END:DAYLIGHT
BEGIN:STANDARD
TZOFFSETFROM:-0400
TZOFFSETTO:-0500
TZNAME:EST
DTSTART:20261101T060000
END:STANDARD
BEGIN:DAYLIGHT
TZOFFSETFROM:-0500
TZOFFSETTO:-0400
TZNAME:EDT
DTSTART:20270314T070000
END:DAYLIGHT
BEGIN:STANDARD
TZOFFSETFROM:-0400
TZOFFSETTO:-0500
TZNAME:EST
DTSTART:20271107T060000
END:STANDARD
BEGIN:DAYLIGHT
TZOFFSETFROM:-0500
TZOFFSETTO:-0400
TZNAME:EDT
DTSTART:20280312T070000
END:DAYLIGHT
BEGIN:STANDARD
TZOFFSETFROM:-0400
TZOFFSETTO:-0500
TZNAME:EST
DTSTART:20281105T060000
END:STANDARD
END:VTIMEZONE
BEGIN:VEVENT
DTSTART;TZID=America/New_York:20261012T170000
DTEND;TZID=America/New_York:20261012T190000
DTSTAMP:20260423T141908
CREATED:20231215T165922Z
LAST-MODIFIED:20231215T174855Z
UID:10000980-1791824400-1791831600@vfwpost985.com
SUMMARY:Chicken Wings Night!
DESCRIPTION:Join us every Monday for a finger-licking good time at VFW Post 985’s Wing Night! Indulge in various succulent wings prepared just the way you like them! Our talented cooks have perfected the art of creating the most mouthwatering wings that will leave you craving more.
URL:https://vfwpost985.com/event/chicken-wings-night-4/2026-10-12/
LOCATION:Goshen VFW Post 985\, 1201 W. Pike Street\, Goshen\, IN\, 46526\, United States
CATEGORIES:Regular
ATTACH;FMTTYPE=image/jpeg:https://vfwpost985.com/wp-content/uploads/2023/11/ChickenWingBasket-scaled.jpeg
END:VEVENT
BEGIN:VEVENT
DTSTART;TZID=America/New_York:20261013T170000
DTEND;TZID=America/New_York:20261013T190000
DTSTAMP:20260423T141908
CREATED:20231215T170932Z
LAST-MODIFIED:20231215T174710Z
UID:10000721-1791910800-1791918000@vfwpost985.com
SUMMARY:Tuesday Cheeseburger Special
DESCRIPTION:Looking for the perfect way to jazz up your Tuesday evenings? Look no further than our mouthwatering Cheeseburger Special at VFW Post 985! Sink your teeth into our juicy cheeseburgers served with a medley of fresh toppings and accompanied by your choice of crispy or curly fries (small upcharge).
URL:https://vfwpost985.com/event/tuesday-cheeseburger-special-5/2026-10-13/
LOCATION:Goshen VFW Post 985\, 1201 W. Pike Street\, Goshen\, IN\, 46526\, United States
CATEGORIES:Regular
ATTACH;FMTTYPE=image/jpeg:https://vfwpost985.com/wp-content/uploads/2020/11/burger-1140824_1920.jpg
END:VEVENT
BEGIN:VEVENT
DTSTART;TZID=America/New_York:20261019T170000
DTEND;TZID=America/New_York:20261019T190000
DTSTAMP:20260423T141908
CREATED:20231215T165922Z
LAST-MODIFIED:20231215T174855Z
UID:10000981-1792429200-1792436400@vfwpost985.com
SUMMARY:Chicken Wings Night!
DESCRIPTION:Join us every Monday for a finger-licking good time at VFW Post 985’s Wing Night! Indulge in various succulent wings prepared just the way you like them! Our talented cooks have perfected the art of creating the most mouthwatering wings that will leave you craving more.
URL:https://vfwpost985.com/event/chicken-wings-night-4/2026-10-19/
LOCATION:Goshen VFW Post 985\, 1201 W. Pike Street\, Goshen\, IN\, 46526\, United States
CATEGORIES:Regular
ATTACH;FMTTYPE=image/jpeg:https://vfwpost985.com/wp-content/uploads/2023/11/ChickenWingBasket-scaled.jpeg
END:VEVENT
BEGIN:VEVENT
DTSTART;TZID=America/New_York:20261020T170000
DTEND;TZID=America/New_York:20261020T190000
DTSTAMP:20260423T141908
CREATED:20231215T170932Z
LAST-MODIFIED:20231215T174710Z
UID:10000722-1792515600-1792522800@vfwpost985.com
SUMMARY:Tuesday Cheeseburger Special
DESCRIPTION:Looking for the perfect way to jazz up your Tuesday evenings? Look no further than our mouthwatering Cheeseburger Special at VFW Post 985! Sink your teeth into our juicy cheeseburgers served with a medley of fresh toppings and accompanied by your choice of crispy or curly fries (small upcharge).
URL:https://vfwpost985.com/event/tuesday-cheeseburger-special-5/2026-10-20/
LOCATION:Goshen VFW Post 985\, 1201 W. Pike Street\, Goshen\, IN\, 46526\, United States
CATEGORIES:Regular
ATTACH;FMTTYPE=image/jpeg:https://vfwpost985.com/wp-content/uploads/2020/11/burger-1140824_1920.jpg
END:VEVENT
BEGIN:VEVENT
DTSTART;TZID=America/New_York:20261026T170000
DTEND;TZID=America/New_York:20261026T190000
DTSTAMP:20260423T141908
CREATED:20231215T165922Z
LAST-MODIFIED:20231215T174855Z
UID:10000982-1793034000-1793041200@vfwpost985.com
SUMMARY:Chicken Wings Night!
DESCRIPTION:Join us every Monday for a finger-licking good time at VFW Post 985’s Wing Night! Indulge in various succulent wings prepared just the way you like them! Our talented cooks have perfected the art of creating the most mouthwatering wings that will leave you craving more.
URL:https://vfwpost985.com/event/chicken-wings-night-4/2026-10-26/
LOCATION:Goshen VFW Post 985\, 1201 W. Pike Street\, Goshen\, IN\, 46526\, United States
CATEGORIES:Regular
ATTACH;FMTTYPE=image/jpeg:https://vfwpost985.com/wp-content/uploads/2023/11/ChickenWingBasket-scaled.jpeg
END:VEVENT
BEGIN:VEVENT
DTSTART;TZID=America/New_York:20261027T170000
DTEND;TZID=America/New_York:20261027T190000
DTSTAMP:20260423T141908
CREATED:20231215T170932Z
LAST-MODIFIED:20231215T174710Z
UID:10000723-1793120400-1793127600@vfwpost985.com
SUMMARY:Tuesday Cheeseburger Special
DESCRIPTION:Looking for the perfect way to jazz up your Tuesday evenings? Look no further than our mouthwatering Cheeseburger Special at VFW Post 985! Sink your teeth into our juicy cheeseburgers served with a medley of fresh toppings and accompanied by your choice of crispy or curly fries (small upcharge).
URL:https://vfwpost985.com/event/tuesday-cheeseburger-special-5/2026-10-27/
LOCATION:Goshen VFW Post 985\, 1201 W. Pike Street\, Goshen\, IN\, 46526\, United States
CATEGORIES:Regular
ATTACH;FMTTYPE=image/jpeg:https://vfwpost985.com/wp-content/uploads/2020/11/burger-1140824_1920.jpg
END:VEVENT
BEGIN:VEVENT
DTSTART;TZID=America/New_York:20261102T170000
DTEND;TZID=America/New_York:20261102T190000
DTSTAMP:20260423T141908
CREATED:20231215T165922Z
LAST-MODIFIED:20231215T174855Z
UID:10000983-1793638800-1793646000@vfwpost985.com
SUMMARY:Chicken Wings Night!
DESCRIPTION:Join us every Monday for a finger-licking good time at VFW Post 985’s Wing Night! Indulge in various succulent wings prepared just the way you like them! Our talented cooks have perfected the art of creating the most mouthwatering wings that will leave you craving more.
URL:https://vfwpost985.com/event/chicken-wings-night-4/2026-11-02/
LOCATION:Goshen VFW Post 985\, 1201 W. Pike Street\, Goshen\, IN\, 46526\, United States
CATEGORIES:Regular
ATTACH;FMTTYPE=image/jpeg:https://vfwpost985.com/wp-content/uploads/2023/11/ChickenWingBasket-scaled.jpeg
END:VEVENT
BEGIN:VEVENT
DTSTART;TZID=America/New_York:20261103T170000
DTEND;TZID=America/New_York:20261103T190000
DTSTAMP:20260423T141908
CREATED:20231215T170932Z
LAST-MODIFIED:20231215T174710Z
UID:10000724-1793725200-1793732400@vfwpost985.com
SUMMARY:Tuesday Cheeseburger Special
DESCRIPTION:Looking for the perfect way to jazz up your Tuesday evenings? Look no further than our mouthwatering Cheeseburger Special at VFW Post 985! Sink your teeth into our juicy cheeseburgers served with a medley of fresh toppings and accompanied by your choice of crispy or curly fries (small upcharge).
URL:https://vfwpost985.com/event/tuesday-cheeseburger-special-5/2026-11-03/
LOCATION:Goshen VFW Post 985\, 1201 W. Pike Street\, Goshen\, IN\, 46526\, United States
CATEGORIES:Regular
ATTACH;FMTTYPE=image/jpeg:https://vfwpost985.com/wp-content/uploads/2020/11/burger-1140824_1920.jpg
END:VEVENT
BEGIN:VEVENT
DTSTART;TZID=America/New_York:20261109T170000
DTEND;TZID=America/New_York:20261109T190000
DTSTAMP:20260423T141908
CREATED:20231215T165922Z
LAST-MODIFIED:20231215T174855Z
UID:10000984-1794243600-1794250800@vfwpost985.com
SUMMARY:Chicken Wings Night!
DESCRIPTION:Join us every Monday for a finger-licking good time at VFW Post 985’s Wing Night! Indulge in various succulent wings prepared just the way you like them! Our talented cooks have perfected the art of creating the most mouthwatering wings that will leave you craving more.
URL:https://vfwpost985.com/event/chicken-wings-night-4/2026-11-09/
LOCATION:Goshen VFW Post 985\, 1201 W. Pike Street\, Goshen\, IN\, 46526\, United States
CATEGORIES:Regular
ATTACH;FMTTYPE=image/jpeg:https://vfwpost985.com/wp-content/uploads/2023/11/ChickenWingBasket-scaled.jpeg
END:VEVENT
BEGIN:VEVENT
DTSTART;TZID=America/New_York:20261110T170000
DTEND;TZID=America/New_York:20261110T190000
DTSTAMP:20260423T141908
CREATED:20231215T170932Z
LAST-MODIFIED:20231215T174710Z
UID:10000725-1794330000-1794337200@vfwpost985.com
SUMMARY:Tuesday Cheeseburger Special
DESCRIPTION:Looking for the perfect way to jazz up your Tuesday evenings? Look no further than our mouthwatering Cheeseburger Special at VFW Post 985! Sink your teeth into our juicy cheeseburgers served with a medley of fresh toppings and accompanied by your choice of crispy or curly fries (small upcharge).
URL:https://vfwpost985.com/event/tuesday-cheeseburger-special-5/2026-11-10/
LOCATION:Goshen VFW Post 985\, 1201 W. Pike Street\, Goshen\, IN\, 46526\, United States
CATEGORIES:Regular
ATTACH;FMTTYPE=image/jpeg:https://vfwpost985.com/wp-content/uploads/2020/11/burger-1140824_1920.jpg
END:VEVENT
BEGIN:VEVENT
DTSTART;TZID=America/New_York:20261116T170000
DTEND;TZID=America/New_York:20261116T190000
DTSTAMP:20260423T141908
CREATED:20231215T165922Z
LAST-MODIFIED:20231215T174855Z
UID:10000985-1794848400-1794855600@vfwpost985.com
SUMMARY:Chicken Wings Night!
DESCRIPTION:Join us every Monday for a finger-licking good time at VFW Post 985’s Wing Night! Indulge in various succulent wings prepared just the way you like them! Our talented cooks have perfected the art of creating the most mouthwatering wings that will leave you craving more.
URL:https://vfwpost985.com/event/chicken-wings-night-4/2026-11-16/
LOCATION:Goshen VFW Post 985\, 1201 W. Pike Street\, Goshen\, IN\, 46526\, United States
CATEGORIES:Regular
ATTACH;FMTTYPE=image/jpeg:https://vfwpost985.com/wp-content/uploads/2023/11/ChickenWingBasket-scaled.jpeg
END:VEVENT
BEGIN:VEVENT
DTSTART;TZID=America/New_York:20261117T170000
DTEND;TZID=America/New_York:20261117T190000
DTSTAMP:20260423T141908
CREATED:20231215T170932Z
LAST-MODIFIED:20231215T174710Z
UID:10000726-1794934800-1794942000@vfwpost985.com
SUMMARY:Tuesday Cheeseburger Special
DESCRIPTION:Looking for the perfect way to jazz up your Tuesday evenings? Look no further than our mouthwatering Cheeseburger Special at VFW Post 985! Sink your teeth into our juicy cheeseburgers served with a medley of fresh toppings and accompanied by your choice of crispy or curly fries (small upcharge).
URL:https://vfwpost985.com/event/tuesday-cheeseburger-special-5/2026-11-17/
LOCATION:Goshen VFW Post 985\, 1201 W. Pike Street\, Goshen\, IN\, 46526\, United States
CATEGORIES:Regular
ATTACH;FMTTYPE=image/jpeg:https://vfwpost985.com/wp-content/uploads/2020/11/burger-1140824_1920.jpg
END:VEVENT
BEGIN:VEVENT
DTSTART;TZID=America/New_York:20261123T170000
DTEND;TZID=America/New_York:20261123T190000
DTSTAMP:20260423T141908
CREATED:20231215T165922Z
LAST-MODIFIED:20231215T174855Z
UID:10000986-1795453200-1795460400@vfwpost985.com
SUMMARY:Chicken Wings Night!
DESCRIPTION:Join us every Monday for a finger-licking good time at VFW Post 985’s Wing Night! Indulge in various succulent wings prepared just the way you like them! Our talented cooks have perfected the art of creating the most mouthwatering wings that will leave you craving more.
URL:https://vfwpost985.com/event/chicken-wings-night-4/2026-11-23/
LOCATION:Goshen VFW Post 985\, 1201 W. Pike Street\, Goshen\, IN\, 46526\, United States
CATEGORIES:Regular
ATTACH;FMTTYPE=image/jpeg:https://vfwpost985.com/wp-content/uploads/2023/11/ChickenWingBasket-scaled.jpeg
END:VEVENT
BEGIN:VEVENT
DTSTART;TZID=America/New_York:20261124T170000
DTEND;TZID=America/New_York:20261124T190000
DTSTAMP:20260423T141908
CREATED:20231215T170932Z
LAST-MODIFIED:20231215T174710Z
UID:10000727-1795539600-1795546800@vfwpost985.com
SUMMARY:Tuesday Cheeseburger Special
DESCRIPTION:Looking for the perfect way to jazz up your Tuesday evenings? Look no further than our mouthwatering Cheeseburger Special at VFW Post 985! Sink your teeth into our juicy cheeseburgers served with a medley of fresh toppings and accompanied by your choice of crispy or curly fries (small upcharge).
URL:https://vfwpost985.com/event/tuesday-cheeseburger-special-5/2026-11-24/
LOCATION:Goshen VFW Post 985\, 1201 W. Pike Street\, Goshen\, IN\, 46526\, United States
CATEGORIES:Regular
ATTACH;FMTTYPE=image/jpeg:https://vfwpost985.com/wp-content/uploads/2020/11/burger-1140824_1920.jpg
END:VEVENT
BEGIN:VEVENT
DTSTART;TZID=America/New_York:20261130T170000
DTEND;TZID=America/New_York:20261130T190000
DTSTAMP:20260423T141908
CREATED:20231215T165922Z
LAST-MODIFIED:20231215T174855Z
UID:10000987-1796058000-1796065200@vfwpost985.com
SUMMARY:Chicken Wings Night!
DESCRIPTION:Join us every Monday for a finger-licking good time at VFW Post 985’s Wing Night! Indulge in various succulent wings prepared just the way you like them! Our talented cooks have perfected the art of creating the most mouthwatering wings that will leave you craving more.
URL:https://vfwpost985.com/event/chicken-wings-night-4/2026-11-30/
LOCATION:Goshen VFW Post 985\, 1201 W. Pike Street\, Goshen\, IN\, 46526\, United States
CATEGORIES:Regular
ATTACH;FMTTYPE=image/jpeg:https://vfwpost985.com/wp-content/uploads/2023/11/ChickenWingBasket-scaled.jpeg
END:VEVENT
BEGIN:VEVENT
DTSTART;TZID=America/New_York:20261201T170000
DTEND;TZID=America/New_York:20261201T190000
DTSTAMP:20260423T141908
CREATED:20231215T170932Z
LAST-MODIFIED:20231215T174710Z
UID:10000728-1796144400-1796151600@vfwpost985.com
SUMMARY:Tuesday Cheeseburger Special
DESCRIPTION:Looking for the perfect way to jazz up your Tuesday evenings? Look no further than our mouthwatering Cheeseburger Special at VFW Post 985! Sink your teeth into our juicy cheeseburgers served with a medley of fresh toppings and accompanied by your choice of crispy or curly fries (small upcharge).
URL:https://vfwpost985.com/event/tuesday-cheeseburger-special-5/2026-12-01/
LOCATION:Goshen VFW Post 985\, 1201 W. Pike Street\, Goshen\, IN\, 46526\, United States
CATEGORIES:Regular
ATTACH;FMTTYPE=image/jpeg:https://vfwpost985.com/wp-content/uploads/2020/11/burger-1140824_1920.jpg
END:VEVENT
BEGIN:VEVENT
DTSTART;TZID=America/New_York:20261207T170000
DTEND;TZID=America/New_York:20261207T190000
DTSTAMP:20260423T141908
CREATED:20231215T165922Z
LAST-MODIFIED:20231215T174855Z
UID:10000988-1796662800-1796670000@vfwpost985.com
SUMMARY:Chicken Wings Night!
DESCRIPTION:Join us every Monday for a finger-licking good time at VFW Post 985’s Wing Night! Indulge in various succulent wings prepared just the way you like them! Our talented cooks have perfected the art of creating the most mouthwatering wings that will leave you craving more.
URL:https://vfwpost985.com/event/chicken-wings-night-4/2026-12-07/
LOCATION:Goshen VFW Post 985\, 1201 W. Pike Street\, Goshen\, IN\, 46526\, United States
CATEGORIES:Regular
ATTACH;FMTTYPE=image/jpeg:https://vfwpost985.com/wp-content/uploads/2023/11/ChickenWingBasket-scaled.jpeg
END:VEVENT
BEGIN:VEVENT
DTSTART;TZID=America/New_York:20261208T170000
DTEND;TZID=America/New_York:20261208T190000
DTSTAMP:20260423T141908
CREATED:20231215T170932Z
LAST-MODIFIED:20231215T174710Z
UID:10000729-1796749200-1796756400@vfwpost985.com
SUMMARY:Tuesday Cheeseburger Special
DESCRIPTION:Looking for the perfect way to jazz up your Tuesday evenings? Look no further than our mouthwatering Cheeseburger Special at VFW Post 985! Sink your teeth into our juicy cheeseburgers served with a medley of fresh toppings and accompanied by your choice of crispy or curly fries (small upcharge).
URL:https://vfwpost985.com/event/tuesday-cheeseburger-special-5/2026-12-08/
LOCATION:Goshen VFW Post 985\, 1201 W. Pike Street\, Goshen\, IN\, 46526\, United States
CATEGORIES:Regular
ATTACH;FMTTYPE=image/jpeg:https://vfwpost985.com/wp-content/uploads/2020/11/burger-1140824_1920.jpg
END:VEVENT
BEGIN:VEVENT
DTSTART;TZID=America/New_York:20261214T170000
DTEND;TZID=America/New_York:20261214T190000
DTSTAMP:20260423T141908
CREATED:20231215T165922Z
LAST-MODIFIED:20231215T174855Z
UID:10000989-1797267600-1797274800@vfwpost985.com
SUMMARY:Chicken Wings Night!
DESCRIPTION:Join us every Monday for a finger-licking good time at VFW Post 985’s Wing Night! Indulge in various succulent wings prepared just the way you like them! Our talented cooks have perfected the art of creating the most mouthwatering wings that will leave you craving more.
URL:https://vfwpost985.com/event/chicken-wings-night-4/2026-12-14/
LOCATION:Goshen VFW Post 985\, 1201 W. Pike Street\, Goshen\, IN\, 46526\, United States
CATEGORIES:Regular
ATTACH;FMTTYPE=image/jpeg:https://vfwpost985.com/wp-content/uploads/2023/11/ChickenWingBasket-scaled.jpeg
END:VEVENT
BEGIN:VEVENT
DTSTART;TZID=America/New_York:20261215T170000
DTEND;TZID=America/New_York:20261215T190000
DTSTAMP:20260423T141908
CREATED:20231215T170932Z
LAST-MODIFIED:20231215T174710Z
UID:10000730-1797354000-1797361200@vfwpost985.com
SUMMARY:Tuesday Cheeseburger Special
DESCRIPTION:Looking for the perfect way to jazz up your Tuesday evenings? Look no further than our mouthwatering Cheeseburger Special at VFW Post 985! Sink your teeth into our juicy cheeseburgers served with a medley of fresh toppings and accompanied by your choice of crispy or curly fries (small upcharge).
URL:https://vfwpost985.com/event/tuesday-cheeseburger-special-5/2026-12-15/
LOCATION:Goshen VFW Post 985\, 1201 W. Pike Street\, Goshen\, IN\, 46526\, United States
CATEGORIES:Regular
ATTACH;FMTTYPE=image/jpeg:https://vfwpost985.com/wp-content/uploads/2020/11/burger-1140824_1920.jpg
END:VEVENT
BEGIN:VEVENT
DTSTART;TZID=America/New_York:20261221T170000
DTEND;TZID=America/New_York:20261221T190000
DTSTAMP:20260423T141908
CREATED:20231215T165922Z
LAST-MODIFIED:20231215T174855Z
UID:10000990-1797872400-1797879600@vfwpost985.com
SUMMARY:Chicken Wings Night!
DESCRIPTION:Join us every Monday for a finger-licking good time at VFW Post 985’s Wing Night! Indulge in various succulent wings prepared just the way you like them! Our talented cooks have perfected the art of creating the most mouthwatering wings that will leave you craving more.
URL:https://vfwpost985.com/event/chicken-wings-night-4/2026-12-21/
LOCATION:Goshen VFW Post 985\, 1201 W. Pike Street\, Goshen\, IN\, 46526\, United States
CATEGORIES:Regular
ATTACH;FMTTYPE=image/jpeg:https://vfwpost985.com/wp-content/uploads/2023/11/ChickenWingBasket-scaled.jpeg
END:VEVENT
BEGIN:VEVENT
DTSTART;TZID=America/New_York:20261222T170000
DTEND;TZID=America/New_York:20261222T190000
DTSTAMP:20260423T141908
CREATED:20231215T170932Z
LAST-MODIFIED:20231215T174710Z
UID:10000731-1797958800-1797966000@vfwpost985.com
SUMMARY:Tuesday Cheeseburger Special
DESCRIPTION:Looking for the perfect way to jazz up your Tuesday evenings? Look no further than our mouthwatering Cheeseburger Special at VFW Post 985! Sink your teeth into our juicy cheeseburgers served with a medley of fresh toppings and accompanied by your choice of crispy or curly fries (small upcharge).
URL:https://vfwpost985.com/event/tuesday-cheeseburger-special-5/2026-12-22/
LOCATION:Goshen VFW Post 985\, 1201 W. Pike Street\, Goshen\, IN\, 46526\, United States
CATEGORIES:Regular
ATTACH;FMTTYPE=image/jpeg:https://vfwpost985.com/wp-content/uploads/2020/11/burger-1140824_1920.jpg
END:VEVENT
BEGIN:VEVENT
DTSTART;TZID=America/New_York:20261228T170000
DTEND;TZID=America/New_York:20261228T190000
DTSTAMP:20260423T141908
CREATED:20231215T165922Z
LAST-MODIFIED:20231215T174855Z
UID:10000991-1798477200-1798484400@vfwpost985.com
SUMMARY:Chicken Wings Night!
DESCRIPTION:Join us every Monday for a finger-licking good time at VFW Post 985’s Wing Night! Indulge in various succulent wings prepared just the way you like them! Our talented cooks have perfected the art of creating the most mouthwatering wings that will leave you craving more.
URL:https://vfwpost985.com/event/chicken-wings-night-4/2026-12-28/
LOCATION:Goshen VFW Post 985\, 1201 W. Pike Street\, Goshen\, IN\, 46526\, United States
CATEGORIES:Regular
ATTACH;FMTTYPE=image/jpeg:https://vfwpost985.com/wp-content/uploads/2023/11/ChickenWingBasket-scaled.jpeg
END:VEVENT
BEGIN:VEVENT
DTSTART;TZID=America/New_York:20261229T170000
DTEND;TZID=America/New_York:20261229T190000
DTSTAMP:20260423T141908
CREATED:20231215T170932Z
LAST-MODIFIED:20231215T174710Z
UID:10000732-1798563600-1798570800@vfwpost985.com
SUMMARY:Tuesday Cheeseburger Special
DESCRIPTION:Looking for the perfect way to jazz up your Tuesday evenings? Look no further than our mouthwatering Cheeseburger Special at VFW Post 985! Sink your teeth into our juicy cheeseburgers served with a medley of fresh toppings and accompanied by your choice of crispy or curly fries (small upcharge).
URL:https://vfwpost985.com/event/tuesday-cheeseburger-special-5/2026-12-29/
LOCATION:Goshen VFW Post 985\, 1201 W. Pike Street\, Goshen\, IN\, 46526\, United States
CATEGORIES:Regular
ATTACH;FMTTYPE=image/jpeg:https://vfwpost985.com/wp-content/uploads/2020/11/burger-1140824_1920.jpg
END:VEVENT
BEGIN:VEVENT
DTSTART;TZID=America/New_York:20270104T170000
DTEND;TZID=America/New_York:20270104T190000
DTSTAMP:20260423T141908
CREATED:20231215T165922Z
LAST-MODIFIED:20231215T174855Z
UID:10000992-1799082000-1799089200@vfwpost985.com
SUMMARY:Chicken Wings Night!
DESCRIPTION:Join us every Monday for a finger-licking good time at VFW Post 985’s Wing Night! Indulge in various succulent wings prepared just the way you like them! Our talented cooks have perfected the art of creating the most mouthwatering wings that will leave you craving more.
URL:https://vfwpost985.com/event/chicken-wings-night-4/2027-01-04/
LOCATION:Goshen VFW Post 985\, 1201 W. Pike Street\, Goshen\, IN\, 46526\, United States
CATEGORIES:Regular
ATTACH;FMTTYPE=image/jpeg:https://vfwpost985.com/wp-content/uploads/2023/11/ChickenWingBasket-scaled.jpeg
END:VEVENT
BEGIN:VEVENT
DTSTART;TZID=America/New_York:20270105T170000
DTEND;TZID=America/New_York:20270105T190000
DTSTAMP:20260423T141908
CREATED:20231215T170932Z
LAST-MODIFIED:20231215T174710Z
UID:10000733-1799168400-1799175600@vfwpost985.com
SUMMARY:Tuesday Cheeseburger Special
DESCRIPTION:Looking for the perfect way to jazz up your Tuesday evenings? Look no further than our mouthwatering Cheeseburger Special at VFW Post 985! Sink your teeth into our juicy cheeseburgers served with a medley of fresh toppings and accompanied by your choice of crispy or curly fries (small upcharge).
URL:https://vfwpost985.com/event/tuesday-cheeseburger-special-5/2027-01-05/
LOCATION:Goshen VFW Post 985\, 1201 W. Pike Street\, Goshen\, IN\, 46526\, United States
CATEGORIES:Regular
ATTACH;FMTTYPE=image/jpeg:https://vfwpost985.com/wp-content/uploads/2020/11/burger-1140824_1920.jpg
END:VEVENT
BEGIN:VEVENT
DTSTART;TZID=America/New_York:20270111T170000
DTEND;TZID=America/New_York:20270111T190000
DTSTAMP:20260423T141908
CREATED:20231215T165922Z
LAST-MODIFIED:20231215T174855Z
UID:10000993-1799686800-1799694000@vfwpost985.com
SUMMARY:Chicken Wings Night!
DESCRIPTION:Join us every Monday for a finger-licking good time at VFW Post 985’s Wing Night! Indulge in various succulent wings prepared just the way you like them! Our talented cooks have perfected the art of creating the most mouthwatering wings that will leave you craving more.
URL:https://vfwpost985.com/event/chicken-wings-night-4/2027-01-11/
LOCATION:Goshen VFW Post 985\, 1201 W. Pike Street\, Goshen\, IN\, 46526\, United States
CATEGORIES:Regular
ATTACH;FMTTYPE=image/jpeg:https://vfwpost985.com/wp-content/uploads/2023/11/ChickenWingBasket-scaled.jpeg
END:VEVENT
BEGIN:VEVENT
DTSTART;TZID=America/New_York:20270112T170000
DTEND;TZID=America/New_York:20270112T190000
DTSTAMP:20260423T141908
CREATED:20231215T170932Z
LAST-MODIFIED:20231215T174710Z
UID:10000734-1799773200-1799780400@vfwpost985.com
SUMMARY:Tuesday Cheeseburger Special
DESCRIPTION:Looking for the perfect way to jazz up your Tuesday evenings? Look no further than our mouthwatering Cheeseburger Special at VFW Post 985! Sink your teeth into our juicy cheeseburgers served with a medley of fresh toppings and accompanied by your choice of crispy or curly fries (small upcharge).
URL:https://vfwpost985.com/event/tuesday-cheeseburger-special-5/2027-01-12/
LOCATION:Goshen VFW Post 985\, 1201 W. Pike Street\, Goshen\, IN\, 46526\, United States
CATEGORIES:Regular
ATTACH;FMTTYPE=image/jpeg:https://vfwpost985.com/wp-content/uploads/2020/11/burger-1140824_1920.jpg
END:VEVENT
BEGIN:VEVENT
DTSTART;TZID=America/New_York:20270118T170000
DTEND;TZID=America/New_York:20270118T190000
DTSTAMP:20260423T141908
CREATED:20231215T165922Z
LAST-MODIFIED:20231215T174855Z
UID:10000994-1800291600-1800298800@vfwpost985.com
SUMMARY:Chicken Wings Night!
DESCRIPTION:Join us every Monday for a finger-licking good time at VFW Post 985’s Wing Night! Indulge in various succulent wings prepared just the way you like them! Our talented cooks have perfected the art of creating the most mouthwatering wings that will leave you craving more.
URL:https://vfwpost985.com/event/chicken-wings-night-4/2027-01-18/
LOCATION:Goshen VFW Post 985\, 1201 W. Pike Street\, Goshen\, IN\, 46526\, United States
CATEGORIES:Regular
ATTACH;FMTTYPE=image/jpeg:https://vfwpost985.com/wp-content/uploads/2023/11/ChickenWingBasket-scaled.jpeg
END:VEVENT
BEGIN:VEVENT
DTSTART;TZID=America/New_York:20270119T170000
DTEND;TZID=America/New_York:20270119T190000
DTSTAMP:20260423T141908
CREATED:20231215T170932Z
LAST-MODIFIED:20231215T174710Z
UID:10000735-1800378000-1800385200@vfwpost985.com
SUMMARY:Tuesday Cheeseburger Special
DESCRIPTION:Looking for the perfect way to jazz up your Tuesday evenings? Look no further than our mouthwatering Cheeseburger Special at VFW Post 985! Sink your teeth into our juicy cheeseburgers served with a medley of fresh toppings and accompanied by your choice of crispy or curly fries (small upcharge).
URL:https://vfwpost985.com/event/tuesday-cheeseburger-special-5/2027-01-19/
LOCATION:Goshen VFW Post 985\, 1201 W. Pike Street\, Goshen\, IN\, 46526\, United States
CATEGORIES:Regular
ATTACH;FMTTYPE=image/jpeg:https://vfwpost985.com/wp-content/uploads/2020/11/burger-1140824_1920.jpg
END:VEVENT
END:VCALENDAR